BEGIN:VCALENDAR
VERSION:2.0
PRODID:-//円山夜想 | スケジュール情報 - ECPv6.15.10//NONSGML v1.0//EN
CALSCALE:GREGORIAN
METHOD:PUBLISH
X-ORIGINAL-URL:http://marunoku.com/schedule
X-WR-CALDESC:円山夜想 | スケジュール情報 のイベント
REFRESH-INTERVAL;VALUE=DURATION:PT1H
X-Robots-Tag:noindex
X-PUBLISHED-TTL:PT1H
BEGIN:VTIMEZONE
TZID:Asia/Tokyo
BEGIN:STANDARD
TZOFFSETFROM:+0900
TZOFFSETTO:+0900
TZNAME:JST
DTSTART:20220101T000000
END:STANDARD
END:VTIMEZONE
BEGIN:VEVENT
DTSTART;VALUE=DATE:20240102
DTEND;VALUE=DATE:20240103
DTSTAMP:20260424T153452
CREATED:20230914T115454Z
LAST-MODIFIED:20230914T115454Z
UID:8975-1704153600-1704239999@marunoku.com
SUMMARY:休み
DESCRIPTION:
URL:http://marunoku.com/schedule/event/20240102/
END:VEVENT
BEGIN:VEVENT
DTSTART;VALUE=DATE:20240101
DTEND;VALUE=DATE:20240102
DTSTAMP:20260424T153452
CREATED:20230914T115427Z
LAST-MODIFIED:20230914T115427Z
UID:8973-1704067200-1704153599@marunoku.com
SUMMARY:休み
DESCRIPTION:
URL:http://marunoku.com/schedule/event/20240101/
END:VEVENT
BEGIN:VEVENT
DTSTART;VALUE=DATE:20231231
DTEND;VALUE=DATE:20240101
DTSTAMP:20260424T153452
CREATED:20230914T114434Z
LAST-MODIFIED:20230914T114434Z
UID:8957-1703980800-1704067199@marunoku.com
SUMMARY:休み
DESCRIPTION:
URL:http://marunoku.com/schedule/event/20231231/
END:VEVENT
BEGIN:VEVENT
DTSTART;VALUE=DATE:20231230
DTEND;VALUE=DATE:20231231
DTSTAMP:20260424T153452
CREATED:20230914T114403Z
LAST-MODIFIED:20230914T114403Z
UID:8955-1703894400-1703980799@marunoku.com
SUMMARY:休み
DESCRIPTION:
URL:http://marunoku.com/schedule/event/20231230/
END:VEVENT
BEGIN:VEVENT
DTSTART;VALUE=DATE:20231228
DTEND;VALUE=DATE:20231229
DTSTAMP:20260424T153452
CREATED:20231108T073807Z
LAST-MODIFIED:20231205T200911Z
UID:9047-1703721600-1703807999@marunoku.com
SUMMARY:「2023年もお疲れ様でした」忘年会スペシャル♪  クラとアコ、Notes of North、黒猫クレズメル
DESCRIPTION:「2023年もお疲れ様でした」忘年会スペシャル♪ \n19:30 open / 20:00 start\n2500円（ワンドリンク付き） \n20:00～　クラとアコ\nClarinet 池尻健／Accordion 山口沙苗 \n20:40〜　Notes of North\nFiddle 三好淑／Bodhran 下野賢臣 \n21:20～　黒猫クレズメル\nTrumpet 中島翔／Saxophone 迫慎也\nClarinet 池尻健／Guitar 青山大\nTuba KAWAI James／Drums 下野賢臣\nAccordion 山口沙苗
URL:http://marunoku.com/schedule/event/20231228/
END:VEVENT
BEGIN:VEVENT
DTSTART;VALUE=DATE:20231227
DTEND;VALUE=DATE:20231228
DTSTAMP:20260424T153452
CREATED:20231101T130546Z
LAST-MODIFIED:20231117T091314Z
UID:9041-1703635200-1703721599@marunoku.com
SUMMARY:『吉澤吉澤presents -ありがとう2023-』
DESCRIPTION:『吉澤吉澤presents -ありがとう2023-』 \n19:30 open / 20:00 start\n3000円（＋ドリンク代500円） \n出演：\nVo.浅井未歩\nVo.高井麻奈由\nVo.EN\nSax.住吉貴行\nPf.吉澤早紀\nBa.木村ケイコ\nDr.吉澤ゆうたろう
URL:http://marunoku.com/schedule/event/20231227/
END:VEVENT
BEGIN:VEVENT
DTSTART;VALUE=DATE:20231225
DTEND;VALUE=DATE:20231226
DTSTAMP:20260424T153452
CREATED:20231004T075600Z
LAST-MODIFIED:20231225T082230Z
UID:9000-1703462400-1703548799@marunoku.com
SUMMARY:古内東子 TOKO FURUUCHI  X'mas Special -Talk\, Live and meet ! -
DESCRIPTION:TOKO FURUUCHI  X’mas Special -Talk\, Live and meet ! – \n18:30 open / 19:00 start\n全席自由 6000円（＋ドリンク代500円）\n※未就学児童入場不可 \n出演：\n古内東子(Vo\,Pf) \n［チケット］\n▼一般発売\n2023年11月12日(日) 午前10:00〜\n・イープラス：\nhttps://eplus.jp/tokofuruuchi-hk/ \n［お問い合せ］\nWESS\nMail：info@wess.co.jp
URL:http://marunoku.com/schedule/event/20231225/
END:VEVENT
BEGIN:VEVENT
DTSTART;VALUE=DATE:20231224
DTEND;VALUE=DATE:20231225
DTSTAMP:20260424T153452
CREATED:20230615T093407Z
LAST-MODIFIED:20230615T093407Z
UID:8693-1703376000-1703462399@marunoku.com
SUMMARY:貸切
DESCRIPTION:
URL:http://marunoku.com/schedule/event/20231224/
END:VEVENT
BEGIN:VEVENT
DTSTART;VALUE=DATE:20231223
DTEND;VALUE=DATE:20231224
DTSTAMP:20260424T153452
CREATED:20230615T093332Z
LAST-MODIFIED:20231110T122751Z
UID:8691-1703289600-1703375999@marunoku.com
SUMMARY:メロウデュ　クリスマスライブ
DESCRIPTION:メロウデュ　クリスマスライブ \n出演：メロウデュ（Bass：よっちゃん） \n18:00 open / 18:30 start\n前売：4000円 / 当日：4500円（＋ドリンク代500円） \n予約フォーム：https://ws.formzu.net/dist/S53120610/\n問い合わせ：melowdeux_live@hotmail.com（メロウデュ事務局）\n011-623-0666（円山夜想）
URL:http://marunoku.com/schedule/event/20231223/
END:VEVENT
BEGIN:VEVENT
DTSTART;VALUE=DATE:20231222
DTEND;VALUE=DATE:20231223
DTSTAMP:20260424T153452
CREATED:20231002T082317Z
LAST-MODIFIED:20231205T201615Z
UID:8993-1703203200-1703289599@marunoku.com
SUMMARY:佐山ゆりかライブ  Merry Christmas
DESCRIPTION:佐山ゆりかライブ  Merry Christmas \n18:30 open / 19:00 start\n4000円（ワンドリンク付き） \n出演：\n佐山ゆりか(vo)\n鷹橋伸司(gt)\n平岡健一(key)\n土田祐生(per)
URL:http://marunoku.com/schedule/event/20231222/
END:VEVENT
BEGIN:VEVENT
DTSTART;VALUE=DATE:20231220
DTEND;VALUE=DATE:20231221
DTSTAMP:20260424T153452
CREATED:20231217T111754Z
LAST-MODIFIED:20231217T111754Z
UID:9187-1703030400-1703116799@marunoku.com
SUMMARY:休み
DESCRIPTION:
URL:http://marunoku.com/schedule/event/20231220/
END:VEVENT
BEGIN:VEVENT
DTSTART;VALUE=DATE:20231219
DTEND;VALUE=DATE:20231220
DTSTAMP:20260424T153452
CREATED:20230914T114318Z
LAST-MODIFIED:20231205T200206Z
UID:8953-1702944000-1703030399@marunoku.com
SUMMARY:きむらえみ企画 『秘密の招待状 vol.3 ~ Merry Christmas ~ 』
DESCRIPTION:きむらえみ企画\n『秘密の招待状 vol.3 ~ Merry Christmas ~ 』 \n18:30 open / 19:00 start\n3000円(1Drink + おつまみ付き) \n出演：bloom、澪華、KENMON 、きむらえみ
URL:http://marunoku.com/schedule/event/20231219/
END:VEVENT
BEGIN:VEVENT
DTSTART;VALUE=DATE:20231217
DTEND;VALUE=DATE:20231218
DTSTAMP:20260424T153452
CREATED:20230615T093247Z
LAST-MODIFIED:20231205T043925Z
UID:8689-1702771200-1702857599@marunoku.com
SUMMARY:TACO live at 円山夜想　〜年忘れだよ！全員集合！〜
DESCRIPTION:TACO live at 円山夜想　〜年忘れだよ！全員集合！〜 \n19:00 open / 19:30 start\n2000円（＋ドリンク代500円）
URL:http://marunoku.com/schedule/event/20231217/
END:VEVENT
BEGIN:VEVENT
DTSTART;VALUE=DATE:20231216
DTEND;VALUE=DATE:20231217
DTSTAMP:20260424T153452
CREATED:20230418T094259Z
LAST-MODIFIED:20231101T123501Z
UID:8512-1702684800-1702771199@marunoku.com
SUMMARY:MAKI/SHOJI＋Shoko  ゲスト：浜崎なおこ
DESCRIPTION:17:30 open / 18:00 start\n3000円（＋ドリンク代500円） \n出演：\nMAKI/SHOJI＋Shoko   \nゲスト：浜崎なおこ\n広本葉子（pf）、YAN-G（B）
URL:http://marunoku.com/schedule/event/20231216/
END:VEVENT
BEGIN:VEVENT
DTSTART;VALUE=DATE:20231215
DTEND;VALUE=DATE:20231216
DTSTAMP:20260424T153452
CREATED:20230914T114234Z
LAST-MODIFIED:20231110T122001Z
UID:8951-1702598400-1702684799@marunoku.com
SUMMARY:ティファ  CHRISTMAS LIVE
DESCRIPTION:ティファ Christmas Live \n19:00 open / 19:30 start\n3000円（ワンドリンク付き） \n出演：\nティファ（vo.）\n金野俊秀（B.）\n古館賢治（Gt.）\n出田寿一（Per.）
URL:http://marunoku.com/schedule/event/20231215/
END:VEVENT
BEGIN:VEVENT
DTSTART;VALUE=DATE:20231213
DTEND;VALUE=DATE:20231214
DTSTAMP:20260424T153452
CREATED:20230914T114156Z
LAST-MODIFIED:20231110T121020Z
UID:8949-1702425600-1702511999@marunoku.com
SUMMARY:Samba Do Norte　LIVE & RODA  special guest 幸枝
DESCRIPTION:19:00 open / 19:30 start\n2000円（＋ドリンク代500円） \nSamba Do Norte\n若本香織 gt\,vo\n内田弘明 cavaco\,vo\n高松陽平 perc\,vo\n三間大輔 perc\,vo \nspecial guest 幸枝 fl\,オカリナ
URL:http://marunoku.com/schedule/event/20231213/
END:VEVENT
BEGIN:VEVENT
DTSTART;VALUE=DATE:20231212
DTEND;VALUE=DATE:20231213
DTSTAMP:20260424T153452
CREATED:20230914T114118Z
LAST-MODIFIED:20231205T195820Z
UID:8947-1702339200-1702425599@marunoku.com
SUMMARY:NAOMI Sings Christmas Live
DESCRIPTION:NAOMI Sings\nChristmas Live \n昼の部 14:00 open / 14:30 start\n夜の部 18:30 open / 19:00 start \n各3500円（当日4000円）\n＋ドリンク代500円 \n出演：\nNAOMI(vocal)\n平岡健一(Piano & Synth)\n土田祐生(Percussion) \n問合せ・チケットお申込：090-8086-9440\nホームページ：https://www.naomi-sings.com/
URL:http://marunoku.com/schedule/event/20231212/
END:VEVENT
BEGIN:VEVENT
DTSTART;VALUE=DATE:20231210
DTEND;VALUE=DATE:20231211
DTSTAMP:20260424T153452
CREATED:20230615T093155Z
LAST-MODIFIED:20231205T195025Z
UID:8687-1702166400-1702252799@marunoku.com
SUMMARY:500Lゴヒャクエル vol.41
DESCRIPTION:500Lゴヒャクエル vol.41 \n18:00 open / 18:30 start\n入場無料！ \n出演：\nいしだこーすけ\n市沢光英\n辻正仁
URL:http://marunoku.com/schedule/event/20231210/
END:VEVENT
BEGIN:VEVENT
DTSTART;VALUE=DATE:20231209
DTEND;VALUE=DATE:20231210
DTSTAMP:20260424T153452
CREATED:20230104T092234Z
LAST-MODIFIED:20231202T033525Z
UID:8231-1702080000-1702166399@marunoku.com
SUMMARY:SOLD OUT !! 五十嵐浩晃LIVE NEXT
DESCRIPTION:SOLD OUT !!\n本ライブは満席となりました。\n引き続きキャンセル待ちの受付をいたします。 \n  \n \n五十嵐浩晃LIVE NEXT \n16:30 open / 17:00 start\n4500円（＋ドリンク代500円） \n円山夜想　E-mail: info@marunoku.com\n件名「12/9五十嵐浩晃ライブ」\n内容「①名前②人数③携帯番号」②③は参加者全員を登録 \nまたは当店予約フォームより\nhttps://marunoku.com/schedule/contact/ \nサポートメンバー：\n西岡俊明（ギター）\n安西　亨（ピアノ）\n木村圭子（ベース）\n蛇池雅人（サックス）
URL:http://marunoku.com/schedule/event/20231209/
END:VEVENT
BEGIN:VEVENT
DTSTART;VALUE=DATE:20231208
DTEND;VALUE=DATE:20231209
DTSTAMP:20260424T153452
CREATED:20230104T092430Z
LAST-MODIFIED:20231205T194608Z
UID:8235-1701993600-1702079999@marunoku.com
SUMMARY:〜クラとアコ企画〜 山口沙苗 生誕40周年 記念式典
DESCRIPTION:〜クラとアコ企画〜\n山口沙苗 生誕40周年 記念式典 \n19:00 open / 19:30 start\n2500円（ワンドリンク付き） \n＜クラとアコ＞\nClarinet 池尻健\nAccordion 山口沙苗 \n＜サポート＞\nSaxophone 迫慎也\nTrumpet 中島翔
URL:http://marunoku.com/schedule/event/20231208/
END:VEVENT
BEGIN:VEVENT
DTSTART;VALUE=DATE:20231206
DTEND;VALUE=DATE:20231207
DTSTAMP:20260424T153452
CREATED:20231002T082205Z
LAST-MODIFIED:20231110T120040Z
UID:8991-1701820800-1701907199@marunoku.com
SUMMARY:Ayako Trio　 Ayako | 古舘賢治 | 金野俊秀
DESCRIPTION:19:00 open / 19:30 start\n2000円（＋ドリンク代500円） \n出演：\nAyako（vo）\n古舘賢治（gt.vo）\n金野俊秀（wb）
URL:http://marunoku.com/schedule/event/20231206/
END:VEVENT
BEGIN:VEVENT
DTSTART;VALUE=DATE:20231203
DTEND;VALUE=DATE:20231204
DTSTAMP:20260424T153452
CREATED:20230914T114027Z
LAST-MODIFIED:20231110T115614Z
UID:8945-1701561600-1701647999@marunoku.com
SUMMARY:しかけ　音のおもちゃ箱ライブ
DESCRIPTION:16:00 open / 16:30 start\n2500円（＋ドリンク代500円） \n出演：\nしかけ（sax:迫慎也 / key:林佳一郎）
URL:http://marunoku.com/schedule/event/20231203/
END:VEVENT
BEGIN:VEVENT
DTSTART;VALUE=DATE:20231202
DTEND;VALUE=DATE:20231203
DTSTAMP:20260424T153452
CREATED:20230914T113949Z
LAST-MODIFIED:20231110T115417Z
UID:8943-1701475200-1701561599@marunoku.com
SUMMARY:種市直樹　2023 Last LIVE【Beast of Music】
DESCRIPTION:2023 Last LIVE【Beast of Music】 \n18:30 open / 19:00 start\n3000円（＋ドリンク代500円） \n出演：種市直樹（Vo&AGuitar）\n　　　西岡俊明（AGuitar）\n　　　工藤テケ（Bass）\n　　　杉田知子（Violin）\n　　　土田祐生（Percussion）
URL:http://marunoku.com/schedule/event/20231202/
END:VEVENT
BEGIN:VEVENT
DTSTART;VALUE=DATE:20231201
DTEND;VALUE=DATE:20231202
DTSTAMP:20260424T153452
CREATED:20230914T113912Z
LAST-MODIFIED:20231027T095421Z
UID:8941-1701388800-1701475199@marunoku.com
SUMMARY:龍之介ライブ in 札幌 「HAPPY DECEMBER BLUES 2023」
DESCRIPTION:龍之介ライブ in 札幌 「HAPPY DECEMBER BLUES 2023」 \n18:30 open ／ 19:30 start\n前売3500円／当日4000円(＋ドリンク代500円) \n■ご予約はこちらのメールアドレスにて承ります。\n⇒unbalance@ryu-web.jp (龍之介事務所アンバランス)\n※日付・枚数・予約名を必ず記載してください。\n※ご予約が完了しましたら、完了メールを返信いたします。
URL:http://marunoku.com/schedule/event/20231201/
END:VEVENT
BEGIN:VEVENT
DTSTART;VALUE=DATE:20231128
DTEND;VALUE=DATE:20231129
DTSTAMP:20260424T153452
CREATED:20231004T080059Z
LAST-MODIFIED:20231004T080059Z
UID:9010-1701129600-1701215999@marunoku.com
SUMMARY:休み
DESCRIPTION:
URL:http://marunoku.com/schedule/event/20231128/
END:VEVENT
BEGIN:VEVENT
DTSTART;VALUE=DATE:20231127
DTEND;VALUE=DATE:20231128
DTSTAMP:20260424T153452
CREATED:20231002T082052Z
LAST-MODIFIED:20231002T082052Z
UID:8989-1701043200-1701129599@marunoku.com
SUMMARY:貸切
DESCRIPTION:
URL:http://marunoku.com/schedule/event/20231127/
END:VEVENT
BEGIN:VEVENT
DTSTART;VALUE=DATE:20231126
DTEND;VALUE=DATE:20231127
DTSTAMP:20260424T153452
CREATED:20230914T113811Z
LAST-MODIFIED:20231110T115038Z
UID:8939-1700956800-1701043199@marunoku.com
SUMMARY:しかけ　音のおもちゃ箱ライブ
DESCRIPTION:16:00 open / 16:30 start\n2500円（＋ドリンク代500円） \n出演：\nしかけ（sax:迫慎也 / key:林佳一郎） \nゲスト：\n佐々木遥（vo）\n荒井しほこ（vo） \nサポート：\nNori（gt）
URL:http://marunoku.com/schedule/event/20231126/
END:VEVENT
BEGIN:VEVENT
DTSTART;VALUE=DATE:20231125
DTEND;VALUE=DATE:20231126
DTSTAMP:20260424T153452
CREATED:20230104T092322Z
LAST-MODIFIED:20231004T111149Z
UID:8233-1700870400-1700956799@marunoku.com
SUMMARY:『paseo sonoro』Tomomi、久保田れな、小西麻里菜、海老沢茜、SENA
DESCRIPTION:『paseo sonoro』\n16:00 open / 16:30 start\n3000円（＋ドリンク代500円）\n出演：Tomomi、久保田れな、小西麻里菜、海老沢茜、SENA
URL:http://marunoku.com/schedule/event/20231125/
END:VEVENT
BEGIN:VEVENT
DTSTART;VALUE=DATE:20231124
DTEND;VALUE=DATE:20231125
DTSTAMP:20260424T153452
CREATED:20230910T075836Z
LAST-MODIFIED:20230910T075942Z
UID:8889-1700784000-1700870399@marunoku.com
SUMMARY:『うたのありか2023〜中川敬ニューアルバム発売記念ツアー＜札幌2days篇＞〜第2夜』
DESCRIPTION:『うたのありか2023〜中川敬ニューアルバム発売記念ツアー＜札幌2days篇＞〜第2夜』 \n \n出演：中川敬×リクオ \n開場18:30　開演19:00 \n予約：4500円　/ 当日：5000円(＋ドリンク代500円)\n※キッズチケット 予約：2000円 / 当日：2500円 (＋ドリンク代500円)\n※中学生以下は入場無料。（保護者同伴にてご入場ください）\n※キッズチケットは高校生の方が対象となります。\n（学生証をご持参ください。ご入場順につきましては、一般チケットの整理番号をお持ちの方の後になります。一般チケットをお持ちの方と同伴の場合はご一緒にご入場できます。）\n※付き添いが必要な障がい者の方に限り、介護の方1名は入場無料とさせていただきます。（障がい者手帳を必ずご持参下さい。）
URL:http://marunoku.com/schedule/event/20231124/
END:VEVENT
BEGIN:VEVENT
DTSTART;VALUE=DATE:20231123
DTEND;VALUE=DATE:20231124
DTSTAMP:20260424T153452
CREATED:20230910T075754Z
LAST-MODIFIED:20230910T080003Z
UID:8886-1700697600-1700783999@marunoku.com
SUMMARY:『うたのありか2023〜中川敬ニューアルバム発売記念ツアー＜札幌2days篇＞〜第1夜』
DESCRIPTION:『うたのありか2023〜中川敬ニューアルバム発売記念ツアー＜札幌2days篇＞〜第1夜』 \n \n出演：中川敬×リクオ \n開場18:30　開演19:00 \n予約：4500円　/ 当日：5000円(＋ドリンク代500円)\n※キッズチケット 予約：2000円 / 当日：2500円  (＋ドリンク代500円)\n※中学生以下は入場無料。（保護者同伴にてご入場ください）\n※キッズチケットは高校生の方が対象となります。\n（学生証をご持参ください。ご入場順につきましては、一般チケットの整理番号をお持ちの方の後になります。一般チケットをお持ちの方と同伴の場合はご一緒にご入場できます。）\n※付き添いが必要な障がい者の方に限り、介護の方1名は入場無料とさせていただきます。（障がい者手帳を必ずご持参下さい。）
URL:http://marunoku.com/schedule/event/20231123/
END:VEVENT
END:VCALENDAR