BEGIN:VCALENDAR
VERSION:2.0
PRODID:-//円山夜想 | スケジュール情報 - ECPv6.15.10//NONSGML v1.0//EN
CALSCALE:GREGORIAN
METHOD:PUBLISH
X-WR-CALNAME:円山夜想 | スケジュール情報
X-ORIGINAL-URL:http://marunoku.com/schedule
X-WR-CALDESC:円山夜想 | スケジュール情報 のイベント
REFRESH-INTERVAL;VALUE=DURATION:PT1H
X-Robots-Tag:noindex
X-PUBLISHED-TTL:PT1H
BEGIN:VTIMEZONE
TZID:Asia/Tokyo
BEGIN:STANDARD
TZOFFSETFROM:+0900
TZOFFSETTO:+0900
TZNAME:JST
DTSTART:20230101T000000
END:STANDARD
END:VTIMEZONE
BEGIN:VEVENT
DTSTART;VALUE=DATE:20240512
DTEND;VALUE=DATE:20240513
DTSTAMP:20260424T091809
CREATED:20240311T112345Z
LAST-MODIFIED:20240416T030226Z
UID:9309-1715472000-1715558399@marunoku.com
SUMMARY:小澤ちひろ New Album 先行視聴会!プレミアムトーク&ライブ
DESCRIPTION:小澤ちひろ New Album 先行視聴会!プレミアムトーク&ライブ \nOPEN 17:00 / START 17:30\n前売り予約料金 5000円(＋ドリンク代500円)\n当日料金 5500円(＋ドリンク代500円)\n※限定40席（定員になり次第受付終了といたします） \n※ なまら FAN クラブ会員の方は 1000円割引で 4000円で入場可能です。\n(当日受付にてデジタル会員証をご提示ください。)\n※New Album プレミアムオーダーの方は 1000円割引で 4000円で入場可能です。\n(当日受付にて購入時のお名前を確認させていただきます。)\n※18歳以下の方は 1000円割引で 4000円で入場可能です。(身分証明書をお持ちください。)\n※未就学児入場無料。 \nチケット予約フォーム→\nhttps://marunoku.com/schedule/contact/ \nお問い合わせ\n◎MORROW :011-532-8044 tonecatz@yahoo.co.jp
URL:http://marunoku.com/schedule/event/20240512/
END:VEVENT
BEGIN:VEVENT
DTSTART;VALUE=DATE:20240511
DTEND;VALUE=DATE:20240512
DTSTAMP:20260424T091809
CREATED:20240314T110615Z
LAST-MODIFIED:20240502T030944Z
UID:9358-1715385600-1715471999@marunoku.com
SUMMARY:昼）黒田晃年　SOLO LIVE 2024 GOT TO GO
DESCRIPTION:AKITOSHI KURODA\nSOLO LIVE 2024\nGOT TO GO \n出演\n黒田晃年（guitar vocal）\n吳服隆一（key）\n伊藤修平（cello） \nOPEN 13:00 / START13:30\n料金（全席自由 整理番号順入場）\n前売4500円（DRINK別）\n学割2000円（学生証提示）\n※4月12日18時から一般予約スタート
URL:http://marunoku.com/schedule/event/20240511/
END:VEVENT
BEGIN:VEVENT
DTSTART;VALUE=DATE:20240511
DTEND;VALUE=DATE:20240512
DTSTAMP:20260424T091809
CREATED:20231205T203837Z
LAST-MODIFIED:20240314T110918Z
UID:9139-1715385600-1715471999@marunoku.com
SUMMARY:夜）Summy’s Just 60th Live
DESCRIPTION:Summy’s Just 60th Live \n18:30 open / 19:00 start\n2500円（＋ドリンク代500円） \n出演：Summy\nGuest:種市直樹
URL:http://marunoku.com/schedule/event/20240511_2/
END:VEVENT
BEGIN:VEVENT
DTSTART;VALUE=DATE:20240506
DTEND;VALUE=DATE:20240507
DTSTAMP:20260424T091809
CREATED:20240311T111222Z
LAST-MODIFIED:20240311T111222Z
UID:9302-1714953600-1715039999@marunoku.com
SUMMARY:ライブ
DESCRIPTION:
URL:http://marunoku.com/schedule/event/20240506/
END:VEVENT
BEGIN:VEVENT
DTSTART;VALUE=DATE:20240505
DTEND;VALUE=DATE:20240506
DTSTAMP:20260424T091809
CREATED:20240311T111143Z
LAST-MODIFIED:20240418T072920Z
UID:9300-1714867200-1714953599@marunoku.com
SUMMARY:平素満開　Thank you sun scene / よしことかつひこ / 観月. / 辻正仁
DESCRIPTION:平素満開\nOPEN  13:00　START  14:00\n料金:2500円（1ドリンク付）　※別途お食事も可能です\n出演：Thank you sun scene / よしことかつひこ / 観月. / 辻正仁
URL:http://marunoku.com/schedule/event/20240505/
END:VEVENT
BEGIN:VEVENT
DTSTART;VALUE=DATE:20240504
DTEND;VALUE=DATE:20240505
DTSTAMP:20260424T091809
CREATED:20240213T111901Z
LAST-MODIFIED:20240225T072505Z
UID:9251-1714780800-1714867199@marunoku.com
SUMMARY:ウルフルケイスケ MAGICAL CHAIN ひとり SPECIAL at 札幌
DESCRIPTION:​MAGICAL CHAIN ひとり SPECIAL at 札幌\nウルフルケイスケ \nOPEN 18:00 / START 18:30\nチケット料金：予約:4000円 / 当日:4500円\n高校生以下予約・当日:2000円(税込・ともにドリンク代500円)\n＊整理番号順のご入場です。
URL:http://marunoku.com/schedule/event/20240504/
END:VEVENT
BEGIN:VEVENT
DTSTART;VALUE=DATE:20240429
DTEND;VALUE=DATE:20240430
DTSTAMP:20260424T091809
CREATED:20240213T111755Z
LAST-MODIFIED:20240311T111034Z
UID:9249-1714348800-1714435199@marunoku.com
SUMMARY:クラとアコのオープンマイク vol.9
DESCRIPTION:クラとアコのオープンマイク vol.9 \n16:00 open / 16:30 start \n出演者：1500円（ワンドリンク付き）\n 観覧者：1000円（ワンドリンク付き）
URL:http://marunoku.com/schedule/event/20240429/
END:VEVENT
BEGIN:VEVENT
DTSTART;VALUE=DATE:20240428
DTEND;VALUE=DATE:20240429
DTSTAMP:20260424T091809
CREATED:20231205T203531Z
LAST-MODIFIED:20240311T105442Z
UID:9133-1714262400-1714348799@marunoku.com
SUMMARY:蝦名 摩守俊 SOLO LIVE A night to reminisce about anthology. ”WHITE” AND OTHER + 1
DESCRIPTION:蝦名 摩守俊 SOLO LIVE\nA night to reminisce about anthology.\n”WHITE” AND OTHER + 1 \n18:30 open / 19:00 start\n3500円(＋ドリンク代500円) \n出演：\n蝦名摩守俊(vocal\,guitar\,piano)
URL:http://marunoku.com/schedule/event/20240428/
END:VEVENT
BEGIN:VEVENT
DTSTART;VALUE=DATE:20240427
DTEND;VALUE=DATE:20240428
DTSTAMP:20260424T091809
CREATED:20240213T111636Z
LAST-MODIFIED:20240418T072628Z
UID:9245-1714176000-1714262399@marunoku.com
SUMMARY:きむらえみ企画 『秘密の招待状 vol.4』
DESCRIPTION:きむらえみ企画\n『秘密の招待状 vol.4』 \n18:30 open / 19:00 start\n3000円(1Drink + おつまみ付き) \n出演：岡崎公勢、curry、きむらえみ
URL:http://marunoku.com/schedule/event/20240427/
END:VEVENT
BEGIN:VEVENT
DTSTART;VALUE=DATE:20240421
DTEND;VALUE=DATE:20240422
DTSTAMP:20260424T091809
CREATED:20240213T111720Z
LAST-MODIFIED:20240311T104600Z
UID:9247-1713657600-1713743999@marunoku.com
SUMMARY:ハシケンLIVE『ひとつの森』 〈一人で二人会〉in 札幌
DESCRIPTION:ハシケンLIVE『ひとつの森』\n〈一人で二人会〉in 札幌 \nハシケンの今までのうた、新しいうた、\nそして語りの世界をお楽しみください。 \n出演:ハシケン（Vo.G.三線.語り) \n開場18:30 開演19:00\n前売予約3500円　当日4000円\n（共に要1ドリンク別オーダー）
URL:http://marunoku.com/schedule/event/20240421/
END:VEVENT
BEGIN:VEVENT
DTSTART;VALUE=DATE:20240420
DTEND;VALUE=DATE:20240421
DTSTAMP:20260424T091809
CREATED:20231205T203441Z
LAST-MODIFIED:20240311T104302Z
UID:9131-1713571200-1713657599@marunoku.com
SUMMARY:昼）ねいろ1st ワンマンtour「 uchu-ryokou 」
DESCRIPTION:ねいろ1st ワンマンtour「 uchu-ryokou 」 \nopen 12:30 / start 13:00\nチケット　前売り￥4500 / 当日￥5000（＋各ドリンク別 ） \n予約受付：メール予約にて2024年2月21日（水）20:00受付開始 \nメール予約方法＜札幌公演＞ \nお席は自由席です。\nご入場は整理番号順でのご入場になりますので、ご了承とご協力の程よろしくお願い致します。 \n定員に達し次第予約受付終了とさせていただきますので、お早めにご予約ください。よろしくお願いいたします。 \n→ご予約方法のご案内 \n件名を「ねいろ○○予約」としていただき、（○○にはご希望の公演地をご記入ください） \n1お名前 \n2ご希望枚数 \n3お電話番号 \nをご明記の上、neironote@gmail.com宛までメールをお送り下さい。 \n三日以内に返信メールをお送りさせていただきますので、そちらを以てご予約の完了となります。 \nneironote@gmail.comからのメールが受信出来ますよう設定のご確認をお願い致します。 \n例：仙台公演を２枚予約する場合 \n件名「ねいろ仙台予約」 \n1 仙台花子 \n2 2枚 \n3 ×××-××××-××××
URL:http://marunoku.com/schedule/event/20240420/
END:VEVENT
BEGIN:VEVENT
DTSTART;VALUE=DATE:20240414
DTEND;VALUE=DATE:20240415
DTSTAMP:20260424T091809
CREATED:20231205T203400Z
LAST-MODIFIED:20240311T105128Z
UID:9129-1713052800-1713139199@marunoku.com
SUMMARY:昼）貸切
DESCRIPTION:
URL:http://marunoku.com/schedule/event/20240414/
END:VEVENT
BEGIN:VEVENT
DTSTART;VALUE=DATE:20240413
DTEND;VALUE=DATE:20240414
DTSTAMP:20260424T091809
CREATED:20240213T111549Z
LAST-MODIFIED:20240412T094648Z
UID:9243-1712966400-1713052799@marunoku.com
SUMMARY:第3回 キタパゴ@円山夜想
DESCRIPTION:第3回 キタパゴ@円山夜想 \n18:00 start\n1500円（ワンドリンク付き）
URL:http://marunoku.com/schedule/event/202450413/
END:VEVENT
BEGIN:VEVENT
DTSTART;VALUE=DATE:20240407
DTEND;VALUE=DATE:20240408
DTSTAMP:20260424T091809
CREATED:20231205T203322Z
LAST-MODIFIED:20240311T110704Z
UID:9127-1712448000-1712534399@marunoku.com
SUMMARY:矢野まき × KAB. ツーマンライブ
DESCRIPTION:矢野まき × KAB. ツーマンライブ \n◆出演：矢野まき / KAB.\n◆日時：2024年4月7日　OPEN 17:30 / START 18:00\n◆会場：円山夜想（札幌市中央区南1条西24丁目1-10 ザ・ヴィンテージ24ビルB1）\n◆チケット：前売　￥4\,500(税込)　当日　￥5\,000(税込)[1D別途]　\n　　　　　　全席自由/整理番号付 \nお問合せ　音楽処　TEL:011-221-0106 \nチケットは音楽処にてお取扱中です。 \n※ご来店が難しい方はメールにてご一報ください。\n折り返しご返信いたします。 \nメール：info@ondoko.jp
URL:http://marunoku.com/schedule/event/20240407/
END:VEVENT
BEGIN:VEVENT
DTSTART;VALUE=DATE:20240406
DTEND;VALUE=DATE:20240407
DTSTAMP:20260424T091809
CREATED:20231205T203623Z
LAST-MODIFIED:20240311T105024Z
UID:9135-1712361600-1712447999@marunoku.com
SUMMARY:メロウデュ Spring LIVE
DESCRIPTION:メロウデュ Spring LIVE \n18:00 open / 18:30 start\n予約：4000円 / 当日：4500円（＋ドリンク代500円） \n出演：メロウデュ、よっちゃん(Bass) \n予約フォーム：https://ws.formzu.net/dist/S278548383/\n問い合わせ：melowdeux_live@hotmail.com（メロウデュ事務局）011-623-0666（円山夜想）
URL:http://marunoku.com/schedule/event/20240406/
END:VEVENT
BEGIN:VEVENT
DTSTART;VALUE=DATE:20240331
DTEND;VALUE=DATE:20240401
DTSTAMP:20260424T091809
CREATED:20231205T203213Z
LAST-MODIFIED:20240331T012712Z
UID:9125-1711843200-1711929599@marunoku.com
SUMMARY:しかけ　音のおもちゃ箱ライブ
DESCRIPTION:しかけ 音のおもちゃ箱ライブ \n17:00 open / 17:30 start\n2500円（＋ドリンク代500円） \n出演：\nしかけ（sax:迫慎也 / key:林佳一郎）
URL:http://marunoku.com/schedule/event/20240331/
END:VEVENT
BEGIN:VEVENT
DTSTART;VALUE=DATE:20240330
DTEND;VALUE=DATE:20240331
DTSTAMP:20260424T091809
CREATED:20240229T050906Z
LAST-MODIFIED:20240229T050906Z
UID:9267-1711756800-1711843199@marunoku.com
SUMMARY:昼）真昼のなまらおっかない
DESCRIPTION:匠平×ファイヤーヨーコ×蜂鳥あみ太とショルヘーノ \n11:30 open / 12:00 start\n3500円（＋ドリンク代500円）
URL:http://marunoku.com/schedule/event/20240330_1/
END:VEVENT
BEGIN:VEVENT
DTSTART;VALUE=DATE:20240330
DTEND;VALUE=DATE:20240331
DTSTAMP:20260424T091809
CREATED:20231205T203141Z
LAST-MODIFIED:20240229T050932Z
UID:9123-1711756800-1711843199@marunoku.com
SUMMARY:夜）サンタラTOUR2024「日々の音楽」
DESCRIPTION:サンタラTOUR2024「日々の音楽」 \n \n18:00 OPEN / 18:30 START\n予約4000円 / 当日4500円（共にドリンク別）
URL:http://marunoku.com/schedule/event/20240330/
END:VEVENT
BEGIN:VEVENT
DTSTART;VALUE=DATE:20240324
DTEND;VALUE=DATE:20240325
DTSTAMP:20260424T091809
CREATED:20231205T203019Z
LAST-MODIFIED:20240322T132543Z
UID:9121-1711238400-1711324799@marunoku.com
SUMMARY:笑顔と呑んべとコミュ障と。〜リベンジ〜
DESCRIPTION:笑顔と呑んべとコミュ障と。〜リベンジ〜 \n18:00 open / 18:30 start\n2000円 (+ドリンク代500円) \n出演：\n徳田雅紀\n黒田雄亮\n真夜中のサーカス
URL:http://marunoku.com/schedule/event/20240324/
END:VEVENT
BEGIN:VEVENT
DTSTART;VALUE=DATE:20240323
DTEND;VALUE=DATE:20240324
DTSTAMP:20260424T091809
CREATED:20231205T202917Z
LAST-MODIFIED:20240306T113550Z
UID:9119-1711152000-1711238399@marunoku.com
SUMMARY:TACO LIVE @ 円山夜想
DESCRIPTION:TACO Live at 円山夜想 \n \n19:00 open / 19:30 start\n2000円（＋ドリンク代500円） \n出演：\nTACO \nサポート：\n神田直樹
URL:http://marunoku.com/schedule/event/20240323/
END:VEVENT
BEGIN:VEVENT
DTSTART;VALUE=DATE:20240317
DTEND;VALUE=DATE:20240318
DTSTAMP:20260424T091809
CREATED:20240213T111427Z
LAST-MODIFIED:20240317T083209Z
UID:9241-1710633600-1710719999@marunoku.com
SUMMARY:ジョアン・リラ Takako　ライブ&ワークショップ
DESCRIPTION:ジョアン・リラ Takako　ライブ&ワークショップ \n18:00 open / 18:30 start\n3500円 \n出演：ジョアン・リラ Takako
URL:http://marunoku.com/schedule/event/20240317/
END:VEVENT
BEGIN:VEVENT
DTSTART;VALUE=DATE:20240316
DTEND;VALUE=DATE:20240317
DTSTAMP:20260424T091809
CREATED:20231205T202818Z
LAST-MODIFIED:20240229T044011Z
UID:9117-1710547200-1710633599@marunoku.com
SUMMARY:Sweet Brownie17周年ライブ SBGS～Sweet Brownieデジタル化します～
DESCRIPTION:Sweet Brownie17周年ライブ\nSBGS～Sweet Brownieデジタル化します～ \nOPEN 18:30 /　START 19:00\n3000円（1ドリンク付）
URL:http://marunoku.com/schedule/event/20240316/
END:VEVENT
BEGIN:VEVENT
DTSTART;VALUE=DATE:20240310
DTEND;VALUE=DATE:20240311
DTSTAMP:20260424T091809
CREATED:20240213T111341Z
LAST-MODIFIED:20240213T111341Z
UID:9239-1710028800-1710115199@marunoku.com
SUMMARY:ライブ
DESCRIPTION:
URL:http://marunoku.com/schedule/event/20240310/
END:VEVENT
BEGIN:VEVENT
DTSTART;VALUE=DATE:20240309
DTEND;VALUE=DATE:20240310
DTSTAMP:20260424T091809
CREATED:20231205T202722Z
LAST-MODIFIED:20231205T202722Z
UID:9115-1709942400-1710028799@marunoku.com
SUMMARY:ライブ
DESCRIPTION:
URL:http://marunoku.com/schedule/event/20240309/
END:VEVENT
BEGIN:VEVENT
DTSTART;VALUE=DATE:20240302
DTEND;VALUE=DATE:20240303
DTSTAMP:20260424T091809
CREATED:20231002T082618Z
LAST-MODIFIED:20231119T083137Z
UID:8997-1709337600-1709423999@marunoku.com
SUMMARY:SOLD OUT!! 『TWO IS HERE!』SCOOBIE TWO（コヤマシュウ・マツキタイジロウ）
DESCRIPTION:本ライブは完売となりました！\n沢山のご予約をいただきまして、ありがとうございました。 \n \n『TWO IS HERE!』\nSCOOBIE TWO（コヤマシュウ・マツキタイジロウ） \n18:00 open / 18:30 start\n予約：4000円 / 当日：4500円（＋ドリンク代500円） \n11/8（水）お昼12時より\n円山夜想（ノクターン）予約受付フォームより受付開始\n↓\nhttps://marunoku.com/schedule/contact/\n☆フライングの方の受付はできません。\n☆受付のご返信に1\,2日時間を要する場合がございます。ご了承くださいませ。\n☆整理番号(予約先着)順の入場になります。
URL:http://marunoku.com/schedule/event/20240302/
END:VEVENT
BEGIN:VEVENT
DTSTART;VALUE=DATE:20240225
DTEND;VALUE=DATE:20240226
DTSTAMP:20260424T091809
CREATED:20231205T202555Z
LAST-MODIFIED:20240223T065821Z
UID:9113-1708819200-1708905599@marunoku.com
SUMMARY:しかけ 音のおもちゃ箱ライブ
DESCRIPTION:しかけ 音のおもちゃ箱ライブ \n17:00 open / 17:30 start\n2500円（＋ドリンク代500円） \n出演：\nしかけ（sax:迫慎也 / key:林佳一郎）
URL:http://marunoku.com/schedule/event/20240225/
END:VEVENT
BEGIN:VEVENT
DTSTART;VALUE=DATE:20240224
DTEND;VALUE=DATE:20240225
DTSTAMP:20260424T091809
CREATED:20231205T202521Z
LAST-MODIFIED:20240213T111214Z
UID:9111-1708732800-1708819199@marunoku.com
SUMMARY:メロウデュ×谷藤勝彦　名曲の旅
DESCRIPTION:メロウデュ×谷藤勝彦　名曲の旅 \n18:00 open / 18:30 start（終演20時過ぎ予定）\n前売：4000円 / 当日：4500円（＋ドリンク代500円）\n予約フォーム：https://ws.formzu.net/dist/S254674335/ \n出演：メロウデュ、よっちゃん（Bass）、谷藤勝彦 \n問い合わせ：melowdeux_live@hotmail.com（メロウデュ事務局）011-623-0666（円山夜想）
URL:http://marunoku.com/schedule/event/20240224/
END:VEVENT
BEGIN:VEVENT
DTSTART;VALUE=DATE:20240223
DTEND;VALUE=DATE:20240224
DTSTAMP:20260424T091809
CREATED:20230914T114856Z
LAST-MODIFIED:20240213T110628Z
UID:8965-1708646400-1708732799@marunoku.com
SUMMARY:『まりも音楽会“たけしくんのむぎわらぼうし”音楽と朗読の夕べ〜札幌編〜』
DESCRIPTION:『まりも音楽会“たけしくんのむぎわらぼうし”音楽と朗読の夕べ〜札幌編〜』\n16:30 open / 17:00 start\n3500円（1ドリンク付） \n出演：イクモマリ（朗読とうた）・齊藤桃子（ピアノとうた）\nゲスト：町田誠也（劇団words of hearts）\n予約：marimoinfo9@gmail.com
URL:http://marunoku.com/schedule/event/20240223/
END:VEVENT
BEGIN:VEVENT
DTSTART;VALUE=DATE:20240218
DTEND;VALUE=DATE:20240219
DTSTAMP:20260424T091809
CREATED:20231205T202419Z
LAST-MODIFIED:20240213T110031Z
UID:9109-1708214400-1708300799@marunoku.com
SUMMARY:蝦名 摩守俊 SOLO LIVE  A night to reminisce about anthology. ”KALMA” AND OTHER + 1
DESCRIPTION:蝦名 摩守俊 SOLO LIVE\nA night to reminisce about anthology.\n”KALMA” AND OTHER + 1 \n18:30 open / 19:00 start\n3500円(＋ドリンク代500円) \n出演：\n蝦名摩守俊(vocal\,guitar\,piano)
URL:http://marunoku.com/schedule/event/20240218/
END:VEVENT
BEGIN:VEVENT
DTSTART;VALUE=DATE:20240217
DTEND;VALUE=DATE:20240218
DTSTAMP:20260424T091809
CREATED:20231205T202331Z
LAST-MODIFIED:20240127T112938Z
UID:9107-1708128000-1708214399@marunoku.com
SUMMARY:Sold out !「おかもとえみとナガイケジョーRETURNS in 札幌」
DESCRIPTION:Sold out !\n本ライブは定員になりましたので完売いたしました。\nたくさんのご予約ありがとうございました♪ \n「おかもとえみとナガイケジョーRETURNS in 札幌」 \n17:30 OPEN / 18:00 START\n予約：4000円(＋ドリンク代500円)\n予約→円山夜想予約フォーマットにて12/15(金)21時〜受付開始 \n[出演] おかもとえみ / ナガイケジョー
URL:http://marunoku.com/schedule/event/20240217/
END:VEVENT
END:VCALENDAR