BEGIN:VCALENDAR
VERSION:2.0
PRODID:-//円山夜想 | スケジュール情報 - ECPv6.15.10//NONSGML v1.0//EN
CALSCALE:GREGORIAN
METHOD:PUBLISH
X-ORIGINAL-URL:http://marunoku.com/schedule
X-WR-CALDESC:円山夜想 | スケジュール情報 のイベント
REFRESH-INTERVAL;VALUE=DURATION:PT1H
X-Robots-Tag:noindex
X-PUBLISHED-TTL:PT1H
BEGIN:VTIMEZONE
TZID:Asia/Tokyo
BEGIN:STANDARD
TZOFFSETFROM:+0900
TZOFFSETTO:+0900
TZNAME:JST
DTSTART:20210101T000000
END:STANDARD
END:VTIMEZONE
BEGIN:VEVENT
DTSTART;VALUE=DATE:20221004
DTEND;VALUE=DATE:20221005
DTSTAMP:20260426T125550
CREATED:20220912T092323Z
LAST-MODIFIED:20220924T082422Z
UID:7900-1664841600-1664927999@marunoku.com
SUMMARY:詩野 | クラとアコ
DESCRIPTION:19:00open/19:30start\n2000円（＋ドリンク代500円） \n出演：詩野、クラとアコ
URL:http://marunoku.com/schedule/event/20221004/
END:VEVENT
BEGIN:VEVENT
DTSTART;VALUE=DATE:20221003
DTEND;VALUE=DATE:20221004
DTSTAMP:20260426T125550
CREATED:20220725T093553Z
LAST-MODIFIED:20221017T055712Z
UID:7722-1664755200-1664841599@marunoku.com
SUMMARY:Hide-c. Voice Make Up Lab. Vol4
DESCRIPTION:『Hide-c. Voice Make Up Lab. Vol4』 \n19:30〜20:00無料配信\n20:15〜21:30有料配信\n配信観覧：2.000円 \n※本ライブは札幌市文化芸術活動再開支援事業を活用した行事です。 \n出演：Hide-c.
URL:http://marunoku.com/schedule/event/20221003/
END:VEVENT
BEGIN:VEVENT
DTSTART;VALUE=DATE:20221002
DTEND;VALUE=DATE:20221003
DTSTAMP:20260426T125550
CREATED:20220924T081819Z
LAST-MODIFIED:20220924T081819Z
UID:7950-1664668800-1664755199@marunoku.com
SUMMARY:休み
DESCRIPTION:
URL:http://marunoku.com/schedule/event/20221002/
END:VEVENT
BEGIN:VEVENT
DTSTART;VALUE=DATE:20220927
DTEND;VALUE=DATE:20220928
DTSTAMP:20260426T125550
CREATED:20220912T092231Z
LAST-MODIFIED:20220912T092231Z
UID:7898-1664236800-1664323199@marunoku.com
SUMMARY:休み
DESCRIPTION:
URL:http://marunoku.com/schedule/event/20220927/
END:VEVENT
BEGIN:VEVENT
DTSTART;VALUE=DATE:20220926
DTEND;VALUE=DATE:20220927
DTSTAMP:20260426T125550
CREATED:20220903T085830Z
LAST-MODIFIED:20220928T075352Z
UID:7879-1664150400-1664236799@marunoku.com
SUMMARY:C-Lab Presents 『珍味！タコの音漬け』振替公演
DESCRIPTION:C-Lab Presents\n『珍味！タコの音漬け』　振替公演 \nBEATLESナンバーを独自のコーラスワークで\nカバーするTACOの単独企画！\nアナログレコード文化を聞き、語る\nマニアックな音楽談義の夜！ \n19:00 open / 19:30 Start\n2000円（ワンドリンク付き）\n出演：TACO \n※本ライブは札幌市文化芸術活動再開支援事業を活用した行事です。\n（ソフトドリンク・酒類のみのご提供/フードの販売はございません） \n____________________________________ \n〜ご来店いただくお客様へ〜\n以下の当店の対策とご協力をご確認くださいますようお願いいたします。 \n●当店の感染予防対策 \n・各ライブ・イベントごとアルコール除菌をいたしております。\n（ドアノブ、テーブル、電気スイッチ、トイレ蛇口等、不特定多数の方が触れる部分）\n・通常の換気は行なっておりますが、ライブ開始前、演者入れ替え時、終了後に\n入口の扉を開け、店内の空気の入れ替えを行なっております。\n・ドリンク提供のグラスは全て使い捨てのプラコップにて対応。\n・座席の間隔は人と人とが触れ合わない程度の間隔を確保し、できるだけ対面での着席はご遠慮いただきます。\n・現金での取り扱いをできるだけ減らすため、キャッシュレス決済（Pay Pay）がご利用可能です。\n・ドリンクチケットは全て使い捨てにし、二次接触の予防をいたします。\n・使用機材のマイク、鍵盤などは消毒（アルコール除菌）を行います。\n・スタッフの健康管理、手指のアルコール消毒、マスク着用を義務付けております。\nその他、気が付いたことを行なってまいります。 \n●主催様、演者様、お客様共通項目\n・ご来場時にはマスク等の着用、咳エチケットのご協力をお願いいたします。\n・当日体調のすぐれない方、発熱の恐れのある方、37.5度以上の発熱がある方はご来場をお控えくださいませ。\n・入口、会場内、楽屋に消毒用のアルコール、ウエットティッシュを設置していますのでご利用ください。\n・うがい用の紙コップを用意しています、ご希望の方はお申し付けくださいませ。\n・「北海道コロナ通知システム」の店舗登録をしています、ご入場の際にご利用ください。\n・会場内でご気分が悪くなりましたら、お気軽にスタッフまでお声がけください。 \n※上記対策は新型コロナウイルス感染拡大予防ガイドライン（政府発表）等を参考にしております。 \nライブ・イベントを楽しく開催できるよう、上記対策のご協力をお願いいたします。\n少しでも皆様の不安が少なくなるようスタッフ一同努めてまいりますので、\nご協力の程、どうぞよろしくお願いいたします。 \n6/20：追記：\n政府公表のガイドラインでは、依然室内でのマスク着用を呼びかけておりますが、\nライブ中に店内の室温上昇等による体調の不良が出る場合がございます。\nその際はどうぞご遠慮なくマスクを外してくださいませ。\nご気分が悪くなる前に、ご自身でご対応をお願いいたします。\nまた周りのお客様もご配慮をいただき、皆んなで楽しく安全に\nご参加くださいますようお願いいたします。
URL:http://marunoku.com/schedule/event/20220926/
END:VEVENT
BEGIN:VEVENT
DTSTART;VALUE=DATE:20220925
DTEND;VALUE=DATE:20220926
DTSTAMP:20260426T125550
CREATED:20220616T085103Z
LAST-MODIFIED:20220804T092803Z
UID:7596-1664064000-1664150399@marunoku.com
SUMMARY:東日本大震災チャリティライブ 500L（ゴヒャクエル）vol.36
DESCRIPTION:東日本大震災チャリティライブ\n500L（ゴヒャクエル）vol.36 \n17:30 open / 18:00 start\n入場無料！（振る舞い酒あり） \n出演：\n辻正仁\nasahi\n黒田雄亮\n前説 kenzzzi \n \n____________________________________ \n〜ご来店いただくお客様へ〜\n以下の当店の対策とご協力をご確認くださいますようお願いいたします。 \n●当店の感染予防対策 \n・各ライブ・イベントごとアルコール除菌をいたしております。\n（ドアノブ、テーブル、電気スイッチ、トイレ蛇口等、不特定多数の方が触れる部分）\n・通常の換気は行なっておりますが、ライブ開始前、演者入れ替え時、終了後に\n入口の扉を開け、店内の空気の入れ替えを行なっております。\n・ドリンク提供のグラスは全て使い捨てのプラコップにて対応。\n・座席は適度な間隔を確保し、できるだけ対面での着席はご遠慮いただきます。\n・現金での取り扱いをできるだけ減らすため、キャッシュレス決済（Pay Pay）がご利用可能です。\n・ドリンクチケットは全て使い捨てにし、二次接触の予防をいたします。\n・使用機材のマイク、鍵盤などは消毒（アルコール除菌）を行います。\n・スタッフの健康管理、手指のアルコール消毒、マスク着用を義務付けております。\nその他、気が付いたことを行なってまいります。 \n●主催様、演者様、お客様共通項目\n・ご来場時にはマスク等の着用、咳エチケットのご協力をお願いいたします。\n・当日体調のすぐれない方、発熱の恐れのある方、37.5度以上の発熱がある方はご来場をお控えくださいませ。\n・入口、男女トイレ、楽屋に消毒用のウエットティッシュを設置していますのでご利用ください。\n・うがい用の紙コップを用意しています、ご希望の方はお申し付けくださいませ。\n・「北海道コロナ通知システム」の店舗登録をしています、ご入場の際にご利用ください。\n・会場内でご気分が悪くなりましたら、お気軽にスタッフまでお声がけください。 \nライブ・イベントを楽しく開催できるよう、上記対策のご協力をお願いいたします。\n少しでも皆様の不安が少なくなるようスタッフ一同努めてまいりますので、\nご協力の程、どうぞよろしくお願いいたします。
URL:http://marunoku.com/schedule/event/20220925/
END:VEVENT
BEGIN:VEVENT
DTSTART;VALUE=DATE:20220923
DTEND;VALUE=DATE:20220924
DTSTAMP:20260426T125550
CREATED:20220725T093414Z
LAST-MODIFIED:20220804T092503Z
UID:7718-1663891200-1663977599@marunoku.com
SUMMARY:DJ ラウンジ in 札幌
DESCRIPTION:DJ ラウンジ in 札幌 \n16:30 open / 17:00 start\n3000円（＋ドリンク代500円） \n主演：DJ mr.Cappuccino \nご予約は下記のメールアドレスまでお願いいたします。\n件名：「DJ札幌」係\ngroovecoucil@gmail.com \n  \n____________________________________ \n〜ご来店いただくお客様へ〜\n以下の当店の対策とご協力をご確認くださいますようお願いいたします。 \n●当店の感染予防対策 \n・各ライブ・イベントごとアルコール除菌をいたしております。\n（ドアノブ、テーブル、電気スイッチ、トイレ蛇口等、不特定多数の方が触れる部分）\n・通常の換気は行なっておりますが、ライブ開始前、演者入れ替え時、終了後に\n入口の扉を開け、店内の空気の入れ替えを行なっております。\n・ドリンク提供のグラスは全て使い捨てのプラコップにて対応。\n・座席の間隔は人と人とが触れ合わない程度の間隔を確保し、できるだけ対面での着席はご遠慮いただきます。\n・現金での取り扱いをできるだけ減らすため、キャッシュレス決済（Pay Pay）がご利用可能です。\n・ドリンクチケットは全て使い捨てにし、二次接触の予防をいたします。\n・使用機材のマイク、鍵盤などは消毒（アルコール除菌）を行います。\n・スタッフの健康管理、手指のアルコール消毒、マスク着用を義務付けております。\nその他、気が付いたことを行なってまいります。 \n●主催様、演者様、お客様共通項目\n・ご来場時にはマスク等の着用、咳エチケットのご協力をお願いいたします。\n・当日体調のすぐれない方、発熱の恐れのある方、37.5度以上の発熱がある方はご来場をお控えくださいませ。\n・入口、会場内、楽屋に消毒用のアルコール、ウエットティッシュを設置していますのでご利用ください。\n・うがい用の紙コップを用意しています、ご希望の方はお申し付けくださいませ。\n・「北海道コロナ通知システム」の店舗登録をしています、ご入場の際にご利用ください。\n・会場内でご気分が悪くなりましたら、お気軽にスタッフまでお声がけください。 \n※上記対策は新型コロナウイルス感染拡大予防ガイドライン（政府発表）等を参考にしております。 \nライブ・イベントを楽しく開催できるよう、上記対策のご協力をお願いいたします。\n少しでも皆様の不安が少なくなるようスタッフ一同努めてまいりますので、\nご協力の程、どうぞよろしくお願いいたします。 \n6/20：追記：\n政府公表のガイドラインでは、依然室内でのマスク着用を呼びかけておりますが、\nライブ中に店内の室温上昇等による体調の不良が出る場合がございます。\nその際はどうぞご遠慮なくマスクを外してくださいませ。\nご気分が悪くなる前に、ご自身でご対応をお願いいたします。\nまた周りのお客様もご配慮をいただき、皆んなで楽しく安全に\nご参加くださいますようお願いいたします。
URL:http://marunoku.com/schedule/event/20220923/
END:VEVENT
BEGIN:VEVENT
DTSTART;VALUE=DATE:20220921
DTEND;VALUE=DATE:20220922
DTSTAMP:20260426T125550
CREATED:20220616T085215Z
LAST-MODIFIED:20220928T075251Z
UID:7600-1663718400-1663804799@marunoku.com
SUMMARY:コゴト　サンコイチツアー　　小玉哲也 | 古舞梅乃 | いしだこーすけ | コシミキヤ
DESCRIPTION:コゴト　サンコイチツアー \n19:00 open / 19:30 start\n3000円（＋ドリンク代500円）\n予約URL：\nhttps://docs.google.com/forms/d/e/1FAIpQLSfdg_93oZ4IkFPBFaA8woximVT4oncLRWvze6-aNSfZ2J-ZCQ/viewform \n※本ライブは札幌市文化芸術活動再開支援事業を活用した行事です。\n（ソフトドリンク・酒類のみのご提供/フードの販売はございません） \n出演：\n小玉哲也\n古舞梅乃\nいしだこーすけ\nコシミキヤ \n \n  \n____________________________________ \n〜ご来店いただくお客様へ〜\n以下の当店の対策とご協力をご確認くださいますようお願いいたします。 \n●当店の感染予防対策 \n・各ライブ・イベントごとアルコール除菌をいたしております。\n（ドアノブ、テーブル、電気スイッチ、トイレ蛇口等、不特定多数の方が触れる部分）\n・通常の換気は行なっておりますが、ライブ開始前、演者入れ替え時、終了後に\n入口の扉を開け、店内の空気の入れ替えを行なっております。\n・ドリンク提供のグラスは全て使い捨てのプラコップにて対応。\n・座席の間隔は人と人とが触れ合わない程度の間隔を確保し、できるだけ対面での着席はご遠慮いただきます。\n・現金での取り扱いをできるだけ減らすため、キャッシュレス決済（Pay Pay）がご利用可能です。\n・ドリンクチケットは全て使い捨てにし、二次接触の予防をいたします。\n・使用機材のマイク、鍵盤などは消毒（アルコール除菌）を行います。\n・スタッフの健康管理、手指のアルコール消毒、マスク着用を義務付けております。\nその他、気が付いたことを行なってまいります。 \n●主催様、演者様、お客様共通項目\n・ご来場時にはマスク等の着用、咳エチケットのご協力をお願いいたします。\n・当日体調のすぐれない方、発熱の恐れのある方、37.5度以上の発熱がある方はご来場をお控えくださいませ。\n・入口、会場内、楽屋に消毒用のアルコール、ウエットティッシュを設置していますのでご利用ください。\n・うがい用の紙コップを用意しています、ご希望の方はお申し付けくださいませ。\n・「北海道コロナ通知システム」の店舗登録をしています、ご入場の際にご利用ください。\n・会場内でご気分が悪くなりましたら、お気軽にスタッフまでお声がけください。 \n※上記対策は新型コロナウイルス感染拡大予防ガイドライン（政府発表）等を参考にしております。 \nライブ・イベントを楽しく開催できるよう、上記対策のご協力をお願いいたします。\n少しでも皆様の不安が少なくなるようスタッフ一同努めてまいりますので、\nご協力の程、どうぞよろしくお願いいたします。 \n6/20：追記：\n政府公表のガイドラインでは、依然室内でのマスク着用を呼びかけておりますが、\nライブ中に店内の室温上昇等による体調の不良が出る場合がございます。\nその際はどうぞご遠慮なくマスクを外してくださいませ。\nご気分が悪くなる前に、ご自身でご対応をお願いいたします。\nまた周りのお客様もご配慮をいただき、皆んなで楽しく安全に\nご参加くださいますようお願いいたします。
URL:http://marunoku.com/schedule/event/20220921/
END:VEVENT
BEGIN:VEVENT
DTSTART;VALUE=DATE:20220920
DTEND;VALUE=DATE:20220921
DTSTAMP:20260426T125550
CREATED:20220725T091741Z
LAST-MODIFIED:20220903T085730Z
UID:7713-1663632000-1663718399@marunoku.com
SUMMARY:円山不純倶楽部 　 kurosawadaisuke | しばたやん子 | 松本耕平 | おちよ。
DESCRIPTION:円山不純倶楽部 \n19:00 open / 19:30 start\n2000円（＋ドリンク代500円） \n出演：\nkurosawadaisuke\nしばたやん子\n松本耕平\nおちよ。\nDJエロ店長
URL:http://marunoku.com/schedule/event/20220920/
END:VEVENT
BEGIN:VEVENT
DTSTART;VALUE=DATE:20220919
DTEND;VALUE=DATE:20220920
DTSTAMP:20260426T125550
CREATED:20220725T091144Z
LAST-MODIFIED:20220918T054815Z
UID:7711-1663545600-1663631999@marunoku.com
SUMMARY:貸切
DESCRIPTION:
URL:http://marunoku.com/schedule/event/20220919/
END:VEVENT
BEGIN:VEVENT
DTSTART;VALUE=DATE:20220918
DTEND;VALUE=DATE:20220919
DTSTAMP:20260426T125550
CREATED:20220725T091110Z
LAST-MODIFIED:20220930T083843Z
UID:7709-1663459200-1663545599@marunoku.com
SUMMARY:しかけ 音のおもちゃ箱ライブ & 配信
DESCRIPTION:しかけ 音のおもちゃ箱ライブ & 配信 \n出演：\n迫慎也（sax）\n林佳一郎（piano） \n18:30 open / 19:00 start\n2500円（＋ドリンク代500円） \n※本ライブは札幌市文化芸術活動再開支援事業を活用した行事です。\n（ソフトドリンク・酒類のみのご提供/フードの販売はございません）\n__________________________________ \n配信チケット：2000円\nhttps://www.tiget.net/events/204311 \n配信チケットの登録・購入については下記URLよりご確認ください\nhttps://tiget.net/how_to_use \n・TIGET LIVE（ライブ配信）を視聴できるチケットです。\n・チケット購入したご本人のTIGETアカウントのみでご視聴いただけます。\n・第三者にURLを共有されてもご本人以外はご視聴いただけません。\n・本配信は有料配信となっており、一切の権利は主催者が有します。動画サイトなどへの無断転載・共有を行った場合、法的責任に問われる場合がございます。\n・ライブ配信の途中から視聴した場合はその時点からの配信となります。ライブ配信中は巻き戻しての再生はできません。\n・本ライブは「アーカイブ配信のみのご購入ができません」ので、当日ご覧いただけないお客様も予めご購入ください。 \n____________________________________ \n〜ご来店いただくお客様へ〜\n以下の当店の対策とご協力をご確認くださいますようお願いいたします。 \n●当店の感染予防対策 \n・各ライブ・イベントごとアルコール除菌をいたしております。\n（ドアノブ、テーブル、電気スイッチ、トイレ蛇口等、不特定多数の方が触れる部分）\n・通常の換気は行なっておりますが、ライブ開始前、演者入れ替え時、終了後に\n入口の扉を開け、店内の空気の入れ替えを行なっております。\n・ドリンク提供のグラスは全て使い捨てのプラコップにて対応。\n・座席の間隔は人と人とが触れ合わない程度の間隔を確保し、できるだけ対面での着席はご遠慮いただきます。\n・現金での取り扱いをできるだけ減らすため、キャッシュレス決済（Pay Pay）がご利用可能です。\n・ドリンクチケットは全て使い捨てにし、二次接触の予防をいたします。\n・使用機材のマイク、鍵盤などは消毒（アルコール除菌）を行います。\n・スタッフの健康管理、手指のアルコール消毒、マスク着用を義務付けております。\nその他、気が付いたことを行なってまいります。 \n●主催様、演者様、お客様共通項目\n・ご来場時にはマスク等の着用、咳エチケットのご協力をお願いいたします。\n・当日体調のすぐれない方、発熱の恐れのある方、37.5度以上の発熱がある方はご来場をお控えくださいませ。\n・入口、会場内、楽屋に消毒用のアルコール、ウエットティッシュを設置していますのでご利用ください。\n・うがい用の紙コップを用意しています、ご希望の方はお申し付けくださいませ。\n・「北海道コロナ通知システム」の店舗登録をしています、ご入場の際にご利用ください。\n・会場内でご気分が悪くなりましたら、お気軽にスタッフまでお声がけください。 \n※上記対策は新型コロナウイルス感染拡大予防ガイドライン（政府発表）等を参考にしております。 \nライブ・イベントを楽しく開催できるよう、上記対策のご協力をお願いいたします。\n少しでも皆様の不安が少なくなるようスタッフ一同努めてまいりますので、\nご協力の程、どうぞよろしくお願いいたします。 \n6/20：追記：\n政府公表のガイドラインでは、依然室内でのマスク着用を呼びかけておりますが、\nライブ中に店内の室温上昇等による体調の不良が出る場合がございます。\nその際はどうぞご遠慮なくマスクを外してくださいませ。\nご気分が悪くなる前に、ご自身でご対応をお願いいたします。\nまた周りのお客様もご配慮をいただき、皆んなで楽しく安全に\nご参加くださいますようお願いいたします。
URL:http://marunoku.com/schedule/event/20220918/
END:VEVENT
BEGIN:VEVENT
DTSTART;VALUE=DATE:20220917
DTEND;VALUE=DATE:20220918
DTSTAMP:20260426T125550
CREATED:20220616T085141Z
LAST-MODIFIED:20220703T080403Z
UID:7598-1663372800-1663459199@marunoku.com
SUMMARY:SOLD OUT !!  SATORISM TV トーク＆ライブ in 札幌
DESCRIPTION:SOLD OUT !!\n本ライブは満席となりました。\nたくさんのご予約をいただきまして、誠にありがとうございます。 \nSATORISM TV トーク＆ライブ in 札幌 \n18:00 open / 18:30 start\n予約：3000円（＋ドリンク代500円） \n出演：浅村正樹（SATORISM TV）\n予約：https://marunoku.com/schedule/contact/\n※定員は先着30名（定員になり次第受付終了） \nTシャツ販売について\nサトリズムTシャツを購入希望者は備考欄にサイズと数量をご記入くださいませ。 \nサイズ：S.M.L.XL\n各4000円\n※イベント時に販売いたします。
URL:http://marunoku.com/schedule/event/20220917/
END:VEVENT
BEGIN:VEVENT
DTSTART;VALUE=DATE:20220916
DTEND;VALUE=DATE:20220917
DTSTAMP:20260426T125550
CREATED:20220527T085047Z
LAST-MODIFIED:20220805T083841Z
UID:7541-1663286400-1663372799@marunoku.com
SUMMARY:「下弦の月LIVE」 五十嵐あい | 高島諭 | 工藤恵理 | 籠嶋学 | 藤河ちあき
DESCRIPTION:「下弦の月LIVE」 \n \n19:00 open / 19:30 start\n2500円（＋ドリンク代500円） \n出演：\n五十嵐あい vocal\n高島諭 piano\n工藤恵理 clarinet\n籠嶋学 guiter\n藤河ちあき guest vocal
URL:http://marunoku.com/schedule/event/20220916/
END:VEVENT
BEGIN:VEVENT
DTSTART;VALUE=DATE:20220913
DTEND;VALUE=DATE:20220914
DTSTAMP:20260426T125550
CREATED:20220912T092152Z
LAST-MODIFIED:20220912T092152Z
UID:7896-1663027200-1663113599@marunoku.com
SUMMARY:休み
DESCRIPTION:
URL:http://marunoku.com/schedule/event/20220913/
END:VEVENT
BEGIN:VEVENT
DTSTART;VALUE=DATE:20220912
DTEND;VALUE=DATE:20220913
DTSTAMP:20260426T125550
CREATED:20220527T085011Z
LAST-MODIFIED:20220912T074641Z
UID:7539-1662940800-1663027199@marunoku.com
SUMMARY:C-Lab Presents 『Hide-c.〜月夜の逢瀬〜１夜限りのラボスタ復活祭』
DESCRIPTION:C-Lab Presents 『Hide-c.〜月夜の逢瀬〜１夜限りのラボスタ復活祭』 \n19:30 open / 20:00 start\n2000円（＋ドリンク代500円） \n出演：Hide-c.、川原悟、西村海羽、AYAMi、D.J.タケトシ、Miyuu \n配信ライブの購入URL\nhttps://www.tiget.net/events/199750
URL:http://marunoku.com/schedule/event/20220912/
END:VEVENT
BEGIN:VEVENT
DTSTART;VALUE=DATE:20220911
DTEND;VALUE=DATE:20220912
DTSTAMP:20260426T125550
CREATED:20220616T084947Z
LAST-MODIFIED:20220912T053827Z
UID:7594-1662854400-1662940799@marunoku.com
SUMMARY:神園さやか the First Live Tour 　「あらためまして!～5大ドームあるとこツアー+ in 札幌～」 神園さやか | 辻正仁 | 観月
DESCRIPTION:神園さやか the First Live Tour\n「あらためまして!～5大ドームあるとこツアー+ in 札幌～」 \n18:30 open / 19:00 start\n2500円（＋ドリンク代500円） \n※本ライブは札幌市文化芸術活動再開支援事業を活用した行事です。\n（ソフトドリンク・酒類のみのご提供/フードの販売はございません） \n出演：\n神園さやか\n辻正仁\n観月 \n \n____________________________________ \n〜ご来店いただくお客様へ〜\n以下の当店の対策とご協力をご確認くださいますようお願いいたします。 \n●当店の感染予防対策 \n・各ライブ・イベントごとアルコール除菌をいたしております。\n（ドアノブ、テーブル、電気スイッチ、トイレ蛇口等、不特定多数の方が触れる部分）\n・通常の換気は行なっておりますが、ライブ開始前、演者入れ替え時、終了後に\n入口の扉を開け、店内の空気の入れ替えを行なっております。\n・ドリンク提供のグラスは全て使い捨てのプラコップにて対応。\n・座席の間隔は人と人とが触れ合わない程度の間隔を確保し、できるだけ対面での着席はご遠慮いただきます。\n・現金での取り扱いをできるだけ減らすため、キャッシュレス決済（Pay Pay）がご利用可能です。\n・ドリンクチケットは全て使い捨てにし、二次接触の予防をいたします。\n・使用機材のマイク、鍵盤などは消毒（アルコール除菌）を行います。\n・スタッフの健康管理、手指のアルコール消毒、マスク着用を義務付けております。\nその他、気が付いたことを行なってまいります。 \n●主催様、演者様、お客様共通項目\n・ご来場時にはマスク等の着用、咳エチケットのご協力をお願いいたします。\n・当日体調のすぐれない方、発熱の恐れのある方、37.5度以上の発熱がある方はご来場をお控えくださいませ。\n・入口、会場内、楽屋に消毒用のアルコール、ウエットティッシュを設置していますのでご利用ください。\n・うがい用の紙コップを用意しています、ご希望の方はお申し付けくださいませ。\n・「北海道コロナ通知システム」の店舗登録をしています、ご入場の際にご利用ください。\n・会場内でご気分が悪くなりましたら、お気軽にスタッフまでお声がけください。 \n※上記対策は新型コロナウイルス感染拡大予防ガイドライン（政府発表）等を参考にしております。 \nライブ・イベントを楽しく開催できるよう、上記対策のご協力をお願いいたします。\n少しでも皆様の不安が少なくなるようスタッフ一同努めてまいりますので、\nご協力の程、どうぞよろしくお願いいたします。 \n6/20：追記：\n政府公表のガイドラインでは、依然室内でのマスク着用を呼びかけておりますが、\nライブ中に店内の室温上昇等による体調の不良が出る場合がございます。\nその際はどうぞご遠慮なくマスクを外してくださいませ。\nご気分が悪くなる前に、ご自身でご対応をお願いいたします。\nまた周りのお客様もご配慮をいただき、皆んなで楽しく安全に\nご参加くださいますようお願いいたします。
URL:http://marunoku.com/schedule/event/20220911/
END:VEVENT
BEGIN:VEVENT
DTSTART;VALUE=DATE:20220910
DTEND;VALUE=DATE:20220911
DTSTAMP:20260426T125550
CREATED:20220424T054035Z
LAST-MODIFIED:20221220T092806Z
UID:7414-1662768000-1662854399@marunoku.com
SUMMARY:SOLD OUT !!　北海道歌旅座ザ・コンサート「円山昼会」
DESCRIPTION:本ライブは完売となりました。\nたくさんのご予約をいただきまして、誠にありがとうございます。 \n北海道歌旅座ザ・コンサート「円山昼会」 \n13:30 open / 14:00 start\n2000円\n（ソフトドリンク・酒類のみのご提供/フードの販売はございません） \n \n____________________________________ \n〜ご来店いただくお客様へ〜\n以下の当店の対策とご協力をご確認くださいますようお願いいたします。 \n●当店の感染予防対策 \n・各ライブ・イベントごとアルコール除菌をいたしております。\n（ドアノブ、テーブル、電気スイッチ、トイレ蛇口等、不特定多数の方が触れる部分）\n・通常の換気は行なっておりますが、ライブ開始前、演者入れ替え時、終了後に\n入口の扉を開け、店内の空気の入れ替えを行なっております。\n・ドリンク提供のグラスは全て使い捨てのプラコップにて対応。\n・座席の間隔は人と人とが触れ合わない程度の間隔を確保し、できるだけ対面での着席はご遠慮いただきます。\n・現金での取り扱いをできるだけ減らすため、キャッシュレス決済（Pay Pay）がご利用可能です。\n・ドリンクチケットは全て使い捨てにし、二次接触の予防をいたします。\n・使用機材のマイク、鍵盤などは消毒（アルコール除菌）を行います。\n・スタッフの健康管理、手指のアルコール消毒、マスク着用を義務付けております。\nその他、気が付いたことを行なってまいります。 \n●主催様、演者様、お客様共通項目\n・ご来場時にはマスク等の着用、咳エチケットのご協力をお願いいたします。\n・当日体調のすぐれない方、発熱の恐れのある方、37.5度以上の発熱がある方はご来場をお控えくださいませ。\n・入口、会場内、楽屋に消毒用のアルコール、ウエットティッシュを設置していますのでご利用ください。\n・うがい用の紙コップを用意しています、ご希望の方はお申し付けくださいませ。\n・「北海道コロナ通知システム」の店舗登録をしています、ご入場の際にご利用ください。\n・会場内でご気分が悪くなりましたら、お気軽にスタッフまでお声がけください。 \n※上記対策は新型コロナウイルス感染拡大予防ガイドライン（政府発表）等を参考にしております。 \nライブ・イベントを楽しく開催できるよう、上記対策のご協力をお願いいたします。\n少しでも皆様の不安が少なくなるようスタッフ一同努めてまいりますので、\nご協力の程、どうぞよろしくお願いいたします。 \n6/20：追記：\n政府公表のガイドラインでは、依然室内でのマスク着用を呼びかけておりますが、\nライブ中に店内の室温上昇等による体調の不良が出る場合がございます。\nその際はどうぞご遠慮なくマスクを外してくださいませ。\nご気分が悪くなる前に、ご自身でご対応をお願いいたします。\nまた周りのお客様もご配慮をいただき、皆んなで楽しく安全に\nご参加くださいますようお願いいたします。
URL:http://marunoku.com/schedule/event/20220910/
END:VEVENT
BEGIN:VEVENT
DTSTART;VALUE=DATE:20220909
DTEND;VALUE=DATE:20220910
DTSTAMP:20260426T125550
CREATED:20220424T054003Z
LAST-MODIFIED:20220424T054003Z
UID:7412-1662681600-1662767999@marunoku.com
SUMMARY:ライブ
DESCRIPTION:
URL:http://marunoku.com/schedule/event/20220909/
END:VEVENT
BEGIN:VEVENT
DTSTART;VALUE=DATE:20220907
DTEND;VALUE=DATE:20220908
DTSTAMP:20260426T125550
CREATED:20220424T053928Z
LAST-MODIFIED:20220912T053552Z
UID:7410-1662508800-1662595199@marunoku.com
SUMMARY:Hometown Live Tour 2022    DUO川成 [ 川内啓史＆友成好宏 ]
DESCRIPTION:Hometown Live Tour 2022\nDUO川成 [ 川内啓史＆友成好宏 ] \n19:30 open / 20:00 start\n4000円（＋ドリンク代500円）\n※本ライブは札幌市文化芸術活動再開支援事業を活用した行事です。\n（ソフトドリンク・酒類のみのご提供/フードの販売はございません） \n \n____________________________________ \n〜ご来店いただくお客様へ〜\n以下の当店の対策とご協力をご確認くださいますようお願いいたします。 \n●当店の感染予防対策 \n・各ライブ・イベントごとアルコール除菌をいたしております。\n（ドアノブ、テーブル、電気スイッチ、トイレ蛇口等、不特定多数の方が触れる部分）\n・通常の換気は行なっておりますが、ライブ開始前、演者入れ替え時、終了後に\n入口の扉を開け、店内の空気の入れ替えを行なっております。\n・ドリンク提供のグラスは全て使い捨てのプラコップにて対応。\n・座席の間隔は人と人とが触れ合わない程度の間隔を確保し、できるだけ対面での着席はご遠慮いただきます。\n・現金での取り扱いをできるだけ減らすため、キャッシュレス決済（Pay Pay）がご利用可能です。\n・ドリンクチケットは全て使い捨てにし、二次接触の予防をいたします。\n・使用機材のマイク、鍵盤などは消毒（アルコール除菌）を行います。\n・スタッフの健康管理、手指のアルコール消毒、マスク着用を義務付けております。\nその他、気が付いたことを行なってまいります。 \n●主催様、演者様、お客様共通項目\n・ご来場時にはマスク等の着用、咳エチケットのご協力をお願いいたします。\n・当日体調のすぐれない方、発熱の恐れのある方、37.5度以上の発熱がある方はご来場をお控えくださいませ。\n・入口、会場内、楽屋に消毒用のアルコール、ウエットティッシュを設置していますのでご利用ください。\n・うがい用の紙コップを用意しています、ご希望の方はお申し付けくださいませ。\n・「北海道コロナ通知システム」の店舗登録をしています、ご入場の際にご利用ください。\n・会場内でご気分が悪くなりましたら、お気軽にスタッフまでお声がけください。 \n※上記対策は新型コロナウイルス感染拡大予防ガイドライン（政府発表）等を参考にしております。 \nライブ・イベントを楽しく開催できるよう、上記対策のご協力をお願いいたします。\n少しでも皆様の不安が少なくなるようスタッフ一同努めてまいりますので、\nご協力の程、どうぞよろしくお願いいたします。 \n6/20：追記：\n政府公表のガイドラインでは、依然室内でのマスク着用を呼びかけておりますが、\nライブ中に店内の室温上昇等による体調の不良が出る場合がございます。\nその際はどうぞご遠慮なくマスクを外してくださいませ。\nご気分が悪くなる前に、ご自身でご対応をお願いいたします。\nまた周りのお客様もご配慮をいただき、皆んなで楽しく安全に\nご参加くださいますようお願いいたします。
URL:http://marunoku.com/schedule/event/20220907/
END:VEVENT
BEGIN:VEVENT
DTSTART;VALUE=DATE:20220905
DTEND;VALUE=DATE:20220906
DTSTAMP:20260426T125550
CREATED:20220725T091021Z
LAST-MODIFIED:20220903T090727Z
UID:7707-1662336000-1662422399@marunoku.com
SUMMARY:C-Lab Presents 『Hide-c. Voice Make Up Lab. Vol3』
DESCRIPTION:ボーカリストであり、ボイストレーナーでもある\nHide-c.のソロ企画\nコンサートとボイスメイキングを同時に楽しめる\nエンタメ企画 \n配信：2.000円\n出演：Hide-c. \n購入URL\nhttps://www.tiget.net/events/199745
URL:http://marunoku.com/schedule/event/20220905/
END:VEVENT
BEGIN:VEVENT
DTSTART;VALUE=DATE:20220903
DTEND;VALUE=DATE:20220904
DTSTAMP:20260426T125550
CREATED:20220302T082249Z
LAST-MODIFIED:20220616T084754Z
UID:7259-1662163200-1662249599@marunoku.com
SUMMARY:“Funny Party 〜 my funny hitchhiker・アコースティック・ワンマン〜 ”
DESCRIPTION:“Funny Party 〜 my funny hitchhiker・アコースティック・ワンマン〜 ” \n18:30 open / 19:00 start\n予約：3500円 / 当日：4000円（＋ドリンク代500円） \n出演：\nmy funny hitchhiker\n[メンバー：近藤智洋 (ex.PEALOUT)、恩賀周平(electro 53)、宮下裕報(セツナブルースター)]
URL:http://marunoku.com/schedule/event/20220903/
END:VEVENT
BEGIN:VEVENT
DTSTART;VALUE=DATE:20220902
DTEND;VALUE=DATE:20220903
DTSTAMP:20260426T125550
CREATED:20220424T053224Z
LAST-MODIFIED:20220804T091423Z
UID:7392-1662076800-1662163199@marunoku.com
SUMMARY:IYP presents  ”tapestry” 中野ミホ | SAKURAKO | Mona Watanabe feat. Nassau
DESCRIPTION:IYP presents ”tapestry” \n18:00 open / 18:30 open\n3500円（当日4000円）＋ドリンク代500円\n予約・問合せ： inyourpocket1006@gmail.com\n及び各出演者HP/SNS等 \n出演：\n中野ミホ\nSAKURAKO（Pnky Donna）\nMona Watanabe feat. Nassau \n \n____________________________________ \n〜ご来店いただくお客様へ〜\n以下の当店の対策とご協力をご確認くださいますようお願いいたします。 \n●当店の感染予防対策 \n・各ライブ・イベントごとアルコール除菌をいたしております。\n（ドアノブ、テーブル、電気スイッチ、トイレ蛇口等、不特定多数の方が触れる部分）\n・通常の換気は行なっておりますが、ライブ開始前、演者入れ替え時、終了後に\n入口の扉を開け、店内の空気の入れ替えを行なっております。\n・ドリンク提供のグラスは全て使い捨てのプラコップにて対応。\n・座席の間隔は人と人とが触れ合わない程度の間隔を確保し、できるだけ対面での着席はご遠慮いただきます。\n・現金での取り扱いをできるだけ減らすため、キャッシュレス決済（Pay Pay）がご利用可能です。\n・ドリンクチケットは全て使い捨てにし、二次接触の予防をいたします。\n・使用機材のマイク、鍵盤などは消毒（アルコール除菌）を行います。\n・スタッフの健康管理、手指のアルコール消毒、マスク着用を義務付けております。\nその他、気が付いたことを行なってまいります。 \n●主催様、演者様、お客様共通項目\n・ご来場時にはマスク等の着用、咳エチケットのご協力をお願いいたします。\n・当日体調のすぐれない方、発熱の恐れのある方、37.5度以上の発熱がある方はご来場をお控えくださいませ。\n・入口、会場内、楽屋に消毒用のアルコール、ウエットティッシュを設置していますのでご利用ください。\n・うがい用の紙コップを用意しています、ご希望の方はお申し付けくださいませ。\n・「北海道コロナ通知システム」の店舗登録をしています、ご入場の際にご利用ください。\n・会場内でご気分が悪くなりましたら、お気軽にスタッフまでお声がけください。 \n※上記対策は新型コロナウイルス感染拡大予防ガイドライン（政府発表）等を参考にしております。 \nライブ・イベントを楽しく開催できるよう、上記対策のご協力をお願いいたします。\n少しでも皆様の不安が少なくなるようスタッフ一同努めてまいりますので、\nご協力の程、どうぞよろしくお願いいたします。 \n6/20：追記：\n政府公表のガイドラインでは、依然室内でのマスク着用を呼びかけておりますが、\nライブ中に店内の室温上昇等による体調の不良が出る場合がございます。\nその際はどうぞご遠慮なくマスクを外してくださいませ。\nご気分が悪くなる前に、ご自身でご対応をお願いいたします。\nまた周りのお客様もご配慮をいただき、皆んなで楽しく安全に\nご参加くださいますようお願いいたします。
URL:http://marunoku.com/schedule/event/20220902/
END:VEVENT
BEGIN:VEVENT
DTSTART;VALUE=DATE:20220901
DTEND;VALUE=DATE:20220902
DTSTAMP:20260426T125550
CREATED:20220513T091820Z
LAST-MODIFIED:20220901T074046Z
UID:7498-1661990400-1662076799@marunoku.com
SUMMARY:Heartful Music Live ! 幸枝 | 千葉智寿 | 小松崎健
DESCRIPTION:Heartful Music Live !\n音楽の神様に愛された3人、幸枝（フルート・オカリナ）、千葉智寿（ハーモニカ）、小松崎健（ハンマーダルシマー）が、円山夜想に集結。素敵な時間をご一緒しましょう！ \n18:00 open / 19:00 start\n3000円（ワンドリンク付）\n※本ライブは札幌市文化芸術活動再開支援事業を活用した行事です。\n（ソフトドリンク・酒類のみのご提供/フードの販売はございません） \n出演：\n幸枝（フルート・オカリナ）\n千葉智寿（ハーモニカ）\n小松崎健（ハンマーダルシマー） \n____________________________________ \n〜ご来店いただくお客様へ〜\n以下の当店の対策とご協力をご確認くださいますようお願いいたします。 \n●当店の感染予防対策 \n・各ライブ・イベントごとアルコール除菌をいたしております。\n（ドアノブ、テーブル、電気スイッチ、トイレ蛇口等、不特定多数の方が触れる部分）\n・通常の換気は行なっておりますが、ライブ開始前、演者入れ替え時、終了後に\n入口の扉を開け、店内の空気の入れ替えを行なっております。\n・ドリンク提供のグラスは全て使い捨てのプラコップにて対応。\n・座席の間隔は人と人とが触れ合わない程度の間隔を確保し、できるだけ対面での着席はご遠慮いただきます。\n・現金での取り扱いをできるだけ減らすため、キャッシュレス決済（Pay Pay）がご利用可能です。\n・ドリンクチケットは全て使い捨てにし、二次接触の予防をいたします。\n・使用機材のマイク、鍵盤などは消毒（アルコール除菌）を行います。\n・スタッフの健康管理、手指のアルコール消毒、マスク着用を義務付けております。\nその他、気が付いたことを行なってまいります。 \n●主催様、演者様、お客様共通項目\n・ご来場時にはマスク等の着用、咳エチケットのご協力をお願いいたします。\n・当日体調のすぐれない方、発熱の恐れのある方、37.5度以上の発熱がある方はご来場をお控えくださいませ。\n・入口、会場内、楽屋に消毒用のアルコール、ウエットティッシュを設置していますのでご利用ください。\n・うがい用の紙コップを用意しています、ご希望の方はお申し付けくださいませ。\n・「北海道コロナ通知システム」の店舗登録をしています、ご入場の際にご利用ください。\n・会場内でご気分が悪くなりましたら、お気軽にスタッフまでお声がけください。 \n※上記対策は新型コロナウイルス感染拡大予防ガイドライン（政府発表）等を参考にしております。 \nライブ・イベントを楽しく開催できるよう、上記対策のご協力をお願いいたします。\n少しでも皆様の不安が少なくなるようスタッフ一同努めてまいりますので、\nご協力の程、どうぞよろしくお願いいたします。 \n6/20：追記：\n政府公表のガイドラインでは、依然室内でのマスク着用を呼びかけておりますが、\nライブ中に店内の室温上昇等による体調の不良が出る場合がございます。\nその際はどうぞご遠慮なくマスクを外してくださいませ。\nご気分が悪くなる前に、ご自身でご対応をお願いいたします。\nまた周りのお客様もご配慮をいただき、皆んなで楽しく安全に\nご参加くださいますようお願いいたします。
URL:http://marunoku.com/schedule/event/20220901/
END:VEVENT
BEGIN:VEVENT
DTSTART;VALUE=DATE:20220829
DTEND;VALUE=DATE:20220830
DTSTAMP:20260426T125550
CREATED:20220829T070809Z
LAST-MODIFIED:20220829T070809Z
UID:7840-1661731200-1661817599@marunoku.com
SUMMARY:休み
DESCRIPTION:
URL:http://marunoku.com/schedule/event/20220829/
END:VEVENT
BEGIN:VEVENT
DTSTART;VALUE=DATE:20220828
DTEND;VALUE=DATE:20220829
DTSTAMP:20260426T125550
CREATED:20220513T091734Z
LAST-MODIFIED:20220829T070832Z
UID:7495-1661644800-1661731199@marunoku.com
SUMMARY:休み
DESCRIPTION:
URL:http://marunoku.com/schedule/event/20220828/
END:VEVENT
BEGIN:VEVENT
DTSTART;VALUE=DATE:20220827
DTEND;VALUE=DATE:20220828
DTSTAMP:20260426T125550
CREATED:20220424T053746Z
LAST-MODIFIED:20220816T075539Z
UID:7408-1661558400-1661644799@marunoku.com
SUMMARY:C-Lab Presents 『Ring単独公演～真夏のRing Ring Ring!!〜』
DESCRIPTION:C-Lab Presents\n『Ring単独公演～真夏のRing Ring Ring!!〜』 \nC-Labプロデュースで昨年デビューした\n『全力系放課後ミュージカル女子ユニット』\nRing初の単独公演 \n15:00 Open 15:30 Starrt\n料金：1.000円（ドリンク代別）　\n出演：Ring With Hide-c.
URL:http://marunoku.com/schedule/event/20220827/
END:VEVENT
BEGIN:VEVENT
DTSTART;VALUE=DATE:20220826
DTEND;VALUE=DATE:20220827
DTSTAMP:20260426T125550
CREATED:20220118T093445Z
LAST-MODIFIED:20220802T080448Z
UID:7148-1661472000-1661558399@marunoku.com
SUMMARY:cross noise  「ピアソラへのオマージュ」
DESCRIPTION:cross noise\nピアソラへのオマージュ \n18:30 open / 19:00 start\n1500円（＋ドリンク代500円） \n\nCross Noise\n2008年結成\n北海道内のライヴハウス、イベント等で演奏活動中。\nジャズ、アストル･ピアソラの楽曲を中心に演奏、\n童謡やコミカルな演奏もこなす、普通では聴かせない\n奇想天外なアコースティックユニット。\nオフィシャルサイト：http://www.crossnoiselive.com \n____________________________________ \n〜ご来店いただくお客様へ〜\n以下の当店の対策とご協力をご確認くださいますようお願いいたします。 \n●当店の感染予防対策 \n・各ライブ・イベントごとアルコール除菌をいたしております。\n（ドアノブ、テーブル、電気スイッチ、トイレ蛇口等、不特定多数の方が触れる部分）\n・通常の換気は行なっておりますが、ライブ開始前、演者入れ替え時、終了後に\n入口の扉を開け、店内の空気の入れ替えを行なっております。\n・ドリンク提供のグラスは全て使い捨てのプラコップにて対応。\n・座席は1～2mの間隔を確保し、できるだけ対面での着席はご遠慮いただきます。\n・現金での取り扱いをできるだけ減らすため、キャッシュレス決済（Pay Pay）がご利用可能です。\n・ドリンクチケットは全て使い捨てにし、二次接触の予防をいたします。\n・使用機材のマイク、鍵盤などは消毒（アルコール除菌）を行います。\n・スタッフの健康管理、手指のアルコール消毒、マスク着用を義務付けております。\nその他、気が付いたことを行なってまいります。 \n●主催様、演者様、お客様共通項目\n・ご来場時にはマスク等の着用、咳エチケットのご協力をお願いいたします。\n・当日体調のすぐれない方、発熱の恐れのある方、37.5度以上の発熱がある方はご来場をお控えくださいませ。\n（夏季冬季の気温影響、運動後の体温上昇による検温ずれの可能性がありますので入場時の検温は行なっておりません）\n・入口、男女トイレ、楽屋に消毒用のウエットティッシュを設置していますのでご利用ください。\n・うがい用の紙コップを用意しています、ご希望の方はお申し付けくださいませ。\n・「北海道コロナ通知システム」の店舗登録をしています、ご入場の際にご利用ください。\n・会場内でご気分が悪くなりましたら、お気軽にスタッフまでお声がけください。 \nライブ・イベントを楽しく開催できるよう、上記対策のご協力をお願いいたします。\n少しでも皆様の不安が少なくなるようスタッフ一同努めてまいりますので、\nご協力の程、どうぞよろしくお願いいたします。 \n6/20：追記：\n政府公表のガイドラインでは、依然室内でのマスク着用を呼びかけておりますが、\nライブ中に店内の室温上昇等による体調の不良が出る場合がございます。\nその際はどうぞご遠慮なくマスクを外してくださいませ。\nご気分が悪くなる前に、ご自身でご対応をお願いいたします。\nまた周りのお客様もご配慮をいただき、皆んなで楽しく安全に\nご参加くださいますようお願いいたします。
URL:http://marunoku.com/schedule/event/20220826/
END:VEVENT
BEGIN:VEVENT
DTSTART;VALUE=DATE:20220825
DTEND;VALUE=DATE:20220826
DTSTAMP:20260426T125550
CREATED:20220302T081950Z
LAST-MODIFIED:20220824T083032Z
UID:7257-1661385600-1661471999@marunoku.com
SUMMARY:〜俺達マブダチロックンロール〜　森弘文と清水康弘 / myBAND | 瀬戸口恵 | 山口こうじ |  kurosawadaisuke
DESCRIPTION:〜俺達マブダチロックンロール〜 \n19:00 open / 19:30 start\n2500円（+ドリンク代500円） \n出演:\n森弘文と清水康弘/myBAND、瀬戸口恵、山口こうじ、kurosawadaisuke\n※K-ingは諸事情により今回は不参加となりました。 \n  \n____________________________________ \n〜ご来店いただくお客様へ〜\n以下の当店の対策とご協力をご確認くださいますようお願いいたします。 \n●当店の感染予防対策 \n・各ライブ・イベントごとアルコール除菌をいたしております。\n（ドアノブ、テーブル、電気スイッチ、トイレ蛇口等、不特定多数の方が触れる部分）\n・通常の換気は行なっておりますが、ライブ開始前、演者入れ替え時、終了後に\n入口の扉を開け、店内の空気の入れ替えを行なっております。\n・ドリンク提供のグラスは全て使い捨てのプラコップにて対応。\n・座席の間隔は人と人とが触れ合わない程度の間隔を確保し、できるだけ対面での着席はご遠慮いただきます。\n・現金での取り扱いをできるだけ減らすため、キャッシュレス決済（Pay Pay）がご利用可能です。\n・ドリンクチケットは全て使い捨てにし、二次接触の予防をいたします。\n・使用機材のマイク、鍵盤などは消毒（アルコール除菌）を行います。\n・スタッフの健康管理、手指のアルコール消毒、マスク着用を義務付けております。\nその他、気が付いたことを行なってまいります。 \n●主催様、演者様、お客様共通項目\n・ご来場時にはマスク等の着用、咳エチケットのご協力をお願いいたします。\n・当日体調のすぐれない方、発熱の恐れのある方、37.5度以上の発熱がある方はご来場をお控えくださいませ。\n・入口、会場内、楽屋に消毒用のアルコール、ウエットティッシュを設置していますのでご利用ください。\n・うがい用の紙コップを用意しています、ご希望の方はお申し付けくださいませ。\n・「北海道コロナ通知システム」の店舗登録をしています、ご入場の際にご利用ください。\n・会場内でご気分が悪くなりましたら、お気軽にスタッフまでお声がけください。 \n※上記対策は新型コロナウイルス感染拡大予防ガイドライン（政府発表）等を参考にしております。 \nライブ・イベントを楽しく開催できるよう、上記対策のご協力をお願いいたします。\n少しでも皆様の不安が少なくなるようスタッフ一同努めてまいりますので、\nご協力の程、どうぞよろしくお願いいたします。 \n6/20：追記：\n政府公表のガイドラインでは、依然室内でのマスク着用を呼びかけておりますが、\nライブ中に店内の室温上昇等による体調の不良が出る場合がございます。\nその際はどうぞご遠慮なくマスクを外してくださいませ。\nご気分が悪くなる前に、ご自身でご対応をお願いいたします。\nまた周りのお客様もご配慮をいただき、皆んなで楽しく安全に\nご参加くださいますようお願いいたします。
URL:http://marunoku.com/schedule/event/20220825/
END:VEVENT
BEGIN:VEVENT
DTSTART;VALUE=DATE:20220823
DTEND;VALUE=DATE:20220824
DTSTAMP:20260426T125550
CREATED:20220725T085506Z
LAST-MODIFIED:20220912T053335Z
UID:7699-1661212800-1661299199@marunoku.com
SUMMARY:『Solid Statement Soul』~ acoustic night~
DESCRIPTION:『Solid Statement Soul』 \n18:30 open / 19:00 start\n前売：5500円（ドリンク代別）\n┗ teketにて\n07.29(金)pm20:00~発売開始\nhttps://teket.jp/3525/14277 \n※本ライブは札幌市文化芸術活動再開支援事業を活用した行事です。\n（ソフトドリンク・酒類のみのご提供/フードの販売はございません） \n出演：\nYUKI\nRENO\nKAZAMI \n★２：メール予約 / ¥5\,500- ★\nhttps://pro.form-mailer.jp/lp/6bed7048245939\n※前売りにて完売の場合は無効となります。予めご了承ください。\n※メール予約チケット引き換え情報は\nTwitter@Airs_Rock(https://twitter.com/Airs_Rock)にて\n公演当日にご案内しております。 \n★３：当日券 ¥6\,000- ★\n※前売りにて完売の場合は発券できません。予めご了承ください。 \n____________________________________ \n〜ご来店いただくお客様へ〜\n以下の当店の対策とご協力をご確認くださいますようお願いいたします。 \n●当店の感染予防対策 \n・各ライブ・イベントごとアルコール除菌をいたしております。\n（ドアノブ、テーブル、電気スイッチ、トイレ蛇口等、不特定多数の方が触れる部分）\n・通常の換気は行なっておりますが、ライブ開始前、演者入れ替え時、終了後に\n入口の扉を開け、店内の空気の入れ替えを行なっております。\n・ドリンク提供のグラスは全て使い捨てのプラコップにて対応。\n・座席の間隔は人と人とが触れ合わない程度の間隔を確保し、できるだけ対面での着席はご遠慮いただきます。\n・現金での取り扱いをできるだけ減らすため、キャッシュレス決済（Pay Pay）がご利用可能です。\n・ドリンクチケットは全て使い捨てにし、二次接触の予防をいたします。\n・使用機材のマイク、鍵盤などは消毒（アルコール除菌）を行います。\n・スタッフの健康管理、手指のアルコール消毒、マスク着用を義務付けております。\nその他、気が付いたことを行なってまいります。 \n●主催様、演者様、お客様共通項目\n・ご来場時にはマスク等の着用、咳エチケットのご協力をお願いいたします。\n・当日体調のすぐれない方、発熱の恐れのある方、37.5度以上の発熱がある方はご来場をお控えくださいませ。\n・入口、会場内、楽屋に消毒用のアルコール、ウエットティッシュを設置していますのでご利用ください。\n・うがい用の紙コップを用意しています、ご希望の方はお申し付けくださいませ。\n・「北海道コロナ通知システム」の店舗登録をしています、ご入場の際にご利用ください。\n・会場内でご気分が悪くなりましたら、お気軽にスタッフまでお声がけください。 \n※上記対策は新型コロナウイルス感染拡大予防ガイドライン（政府発表）等を参考にしております。 \nライブ・イベントを楽しく開催できるよう、上記対策のご協力をお願いいたします。\n少しでも皆様の不安が少なくなるようスタッフ一同努めてまいりますので、\nご協力の程、どうぞよろしくお願いいたします。 \n6/20：追記：\n政府公表のガイドラインでは、依然室内でのマスク着用を呼びかけておりますが、\nライブ中に店内の室温上昇等による体調の不良が出る場合がございます。\nその際はどうぞご遠慮なくマスクを外してくださいませ。\nご気分が悪くなる前に、ご自身でご対応をお願いいたします。\nまた周りのお客様もご配慮をいただき、皆んなで楽しく安全に\nご参加くださいますようお願いいたします。
URL:http://marunoku.com/schedule/event/20220823/
END:VEVENT
BEGIN:VEVENT
DTSTART;VALUE=DATE:20220822
DTEND;VALUE=DATE:20220823
DTSTAMP:20260426T125550
CREATED:20220804T085136Z
LAST-MODIFIED:20220804T085136Z
UID:7785-1661126400-1661212799@marunoku.com
SUMMARY:休み
DESCRIPTION:
URL:http://marunoku.com/schedule/event/20220822/
END:VEVENT
END:VCALENDAR