BEGIN:VCALENDAR
VERSION:2.0
PRODID:-//円山夜想 | スケジュール情報 - ECPv6.15.10//NONSGML v1.0//EN
CALSCALE:GREGORIAN
METHOD:PUBLISH
X-WR-CALNAME:円山夜想 | スケジュール情報
X-ORIGINAL-URL:http://marunoku.com/schedule
X-WR-CALDESC:円山夜想 | スケジュール情報 のイベント
REFRESH-INTERVAL;VALUE=DURATION:PT1H
X-Robots-Tag:noindex
X-PUBLISHED-TTL:PT1H
BEGIN:VTIMEZONE
TZID:Asia/Tokyo
BEGIN:STANDARD
TZOFFSETFROM:+0900
TZOFFSETTO:+0900
TZNAME:JST
DTSTART:20210101T000000
END:STANDARD
END:VTIMEZONE
BEGIN:VEVENT
DTSTART;VALUE=DATE:20221112
DTEND;VALUE=DATE:20221113
DTSTAMP:20260426T081428
CREATED:20220903T084721Z
LAST-MODIFIED:20220929T083750Z
UID:7856-1668211200-1668297599@marunoku.com
SUMMARY:種市直樹 LIVE
DESCRIPTION:種市直樹 LIVE \n18:30 open / 19:00 start\n3000円（ワンドリンク付き） \n出演：\n種市直樹（Vo&Guitar)\n西岡俊明（Guitar）\n安斉亨（Piano）
URL:http://marunoku.com/schedule/event/20221112/
END:VEVENT
BEGIN:VEVENT
DTSTART;VALUE=DATE:20221111
DTEND;VALUE=DATE:20221112
DTSTAMP:20260426T081428
CREATED:20220302T082454Z
LAST-MODIFIED:20220915T095437Z
UID:7263-1668124800-1668211199@marunoku.com
SUMMARY:円山純情倶楽部 2022、冬。　Beadroads | kurosawadaisuke | 辻正仁 | 夕歌（オープニングアクト）
DESCRIPTION:円山純情倶楽部 2022、冬。\nBeadroads レコ発ツアー2022″Mirai”at札幌 \n18:30 open / 19:00 start\n予約：2500円 / 当日：3000円（＋ドリンク代500円） \n出演：\nBeadroads\nkurosawadaisuke\n辻正仁\n夕歌（オープニングアクト）
URL:http://marunoku.com/schedule/event/20221111/
END:VEVENT
BEGIN:VEVENT
DTSTART;VALUE=DATE:20221110
DTEND;VALUE=DATE:20221111
DTSTAMP:20260426T081428
CREATED:20220912T092702Z
LAST-MODIFIED:20221021T092613Z
UID:7910-1668038400-1668124799@marunoku.com
SUMMARY:Ryu Matsuyama presents “to get there”
DESCRIPTION:Ryu Matsuyama presents “to get there” \n18:30 open / 19:00 start\n4000円（＋ドリンク代500円） \nチケット一般発売：9月19日\nURL：https://eplus.jp/togetthere1110/ \n出演：Ryu Matsuyama solo、優河
URL:http://marunoku.com/schedule/event/20221110/
END:VEVENT
BEGIN:VEVENT
DTSTART;VALUE=DATE:20221107
DTEND;VALUE=DATE:20221108
DTSTAMP:20260426T081428
CREATED:20221021T092854Z
LAST-MODIFIED:20221021T092854Z
UID:8043-1667779200-1667865599@marunoku.com
SUMMARY:休み
DESCRIPTION:
URL:http://marunoku.com/schedule/event/20221107/
END:VEVENT
BEGIN:VEVENT
DTSTART;VALUE=DATE:20221106
DTEND;VALUE=DATE:20221107
DTSTAMP:20260426T081428
CREATED:20220903T084646Z
LAST-MODIFIED:20221021T092345Z
UID:7854-1667692800-1667779199@marunoku.com
SUMMARY:“the MADRAS pre. have fun! - acoustic -
DESCRIPTION:“the MADRAS pre.\nhave fun! – acoustic – \n15:30 open / 16:00 start\n予約：2500円 / 当日：3000円（＋ドリンク代500円） \n出演：\nthe MADRAS – acoustic set –\nw/カメダタク(key:オワリカラ/YOMOYA)\nランチブレイク\nDots Dash Acoustic
URL:http://marunoku.com/schedule/event/20221106/
END:VEVENT
BEGIN:VEVENT
DTSTART;VALUE=DATE:20221105
DTEND;VALUE=DATE:20221106
DTSTAMP:20260426T081428
CREATED:20220424T054205Z
LAST-MODIFIED:20221021T091936Z
UID:7418-1667606400-1667692799@marunoku.com
SUMMARY:C-Lab 主催 『NORTH GROOVEリリース公演』
DESCRIPTION:C-Lab 主催\n『NORTH GROOVEリリース公演』 \nHiroya/Ren/Junの３人からなる\nR&Bボーカルユニット\nNorth Grooveの\nC-Labプロデュースによる\n１st Singleリリースコンサート \n19:00 open / 19:30 start\n2000円（ワンドリンク付き）　 \n出演：North Groove withHide-c.
URL:http://marunoku.com/schedule/event/20221105/
END:VEVENT
BEGIN:VEVENT
DTSTART;VALUE=DATE:20221103
DTEND;VALUE=DATE:20221104
DTSTAMP:20260426T081428
CREATED:20220903T084610Z
LAST-MODIFIED:20221021T091705Z
UID:7852-1667433600-1667519999@marunoku.com
SUMMARY:古澤剛2022年ツアー「MADE IN CLOSET」振替公演
DESCRIPTION:古澤剛2022年ツアー「MADE IN CLOSET」 振替公演 \n15:30 open / 16:00 start\n4000円（＋ドリンク代500円）\n＊振替公演にはお手持ちのチケットでご入場頂けます。 \nチケットの詳細に関しましては、オフィシャルサイトをご確認ください。\nhttp://www.furusawa-takeshi.com/
URL:http://marunoku.com/schedule/event/20221103/
END:VEVENT
BEGIN:VEVENT
DTSTART;VALUE=DATE:20221031
DTEND;VALUE=DATE:20221101
DTSTAMP:20260426T081428
CREATED:20220924T082129Z
LAST-MODIFIED:20220924T082129Z
UID:7956-1667174400-1667260799@marunoku.com
SUMMARY:休み
DESCRIPTION:
URL:http://marunoku.com/schedule/event/20221031/
END:VEVENT
BEGIN:VEVENT
DTSTART;VALUE=DATE:20221030
DTEND;VALUE=DATE:20221031
DTSTAMP:20260426T081428
CREATED:20220725T094214Z
LAST-MODIFIED:20221013T093453Z
UID:7738-1667088000-1667174399@marunoku.com
SUMMARY:季子×瀬田創太  " アイココツアーVol.1 in札幌 "
DESCRIPTION:季子×瀬田創太\n【アイココツアーVol.1 in札幌】 \n開場13:30 / 開演14:00\n¥4000＋1D \n予約：kicocik@gmail.com \n前売りチケット\nhttps://kicocik.buyshop.jp/items/67578658
URL:http://marunoku.com/schedule/event/20221030/
END:VEVENT
BEGIN:VEVENT
DTSTART;VALUE=DATE:20221029
DTEND;VALUE=DATE:20221030
DTSTAMP:20260426T081428
CREATED:20220725T094141Z
LAST-MODIFIED:20221101T092341Z
UID:7736-1667001600-1667087999@marunoku.com
SUMMARY:MASSAN×BASHIRY   『birth』 Release Live in Hokkaido\, Sapporo
DESCRIPTION:MASSAN×BASHIRY \n18:30 open / 19:00 start\n予約：3500円 / 当日：4000円（＋ドリンク代500円）\n※本ライブは札幌市文化芸術活動再開支援事業を活用した行事です。\n（ソフトドリンク・酒類のみのご提供/フードの販売はございません） \n出演：\nMASSAN×BASHIRY\nいしだこーすけ
URL:http://marunoku.com/schedule/event/20221029/
END:VEVENT
BEGIN:VEVENT
DTSTART;VALUE=DATE:20221028
DTEND;VALUE=DATE:20221029
DTSTAMP:20260426T081428
CREATED:20220816T081018Z
LAST-MODIFIED:20221101T092325Z
UID:7834-1666915200-1667001599@marunoku.com
SUMMARY:三日月の宴　辻正仁 | クラとアコ
DESCRIPTION:三日月の宴　 \n19:30 OPEN / 20:00 START\n予約：2000円（＋ドリンク代500円）\n※本ライブは札幌市文化芸術活動再開支援事業を活用した行事です。\n（ソフトドリンク・酒類のみのご提供/フードの販売はございません） \n出演：\n辻正仁\nクラとアコ
URL:http://marunoku.com/schedule/event/20221028/
END:VEVENT
BEGIN:VEVENT
DTSTART;VALUE=DATE:20221027
DTEND;VALUE=DATE:20221028
DTSTAMP:20260426T081428
CREATED:20220918T074438Z
LAST-MODIFIED:20221013T092344Z
UID:7945-1666828800-1666915199@marunoku.com
SUMMARY:呉ひとし | 吉村ビソー | 鈴木☆朗
DESCRIPTION:18:00 OPEN / 19:00 START\n予約：2500円（＋ドリンク代500円） \n出演：\n呉ひとし\n吉村ビソー\n鈴木☆朗
URL:http://marunoku.com/schedule/event/20221027/
END:VEVENT
BEGIN:VEVENT
DTSTART;VALUE=DATE:20221026
DTEND;VALUE=DATE:20221027
DTSTAMP:20260426T081428
CREATED:20220924T082045Z
LAST-MODIFIED:20220924T082045Z
UID:7954-1666742400-1666828799@marunoku.com
SUMMARY:休み
DESCRIPTION:
URL:http://marunoku.com/schedule/event/20221026/
END:VEVENT
BEGIN:VEVENT
DTSTART;VALUE=DATE:20221025
DTEND;VALUE=DATE:20221026
DTSTAMP:20260426T081428
CREATED:20220725T094107Z
LAST-MODIFIED:20221024T064808Z
UID:7734-1666656000-1666742399@marunoku.com
SUMMARY:SOLD OUT !!　田澤孝介弾き語りツアー   「Ballad Box Soloist 2022」DAY.2
DESCRIPTION:SOLD OUT !!\n本ライブのチケットは完売となりました。\n沢山のご購入をいただきまして誠にありがとうございます。 \n田澤孝介弾き語りツアー\n「Ballad Box Soloist 2022」DAY.2 \n18:30 open / 19:00 start\n前売5500円/当日6000円\n※税込・ドリンク代別途必要\n※全公演 椅子席(全席自由)\n※本ライブは札幌市文化芸術活動再開支援事業を活用した行事です。\n（ソフトドリンク・酒類のみのご提供/フードの販売はございません）
URL:http://marunoku.com/schedule/event/20221025/
END:VEVENT
BEGIN:VEVENT
DTSTART;VALUE=DATE:20221024
DTEND;VALUE=DATE:20221025
DTSTAMP:20260426T081428
CREATED:20220725T094030Z
LAST-MODIFIED:20221024T064628Z
UID:7732-1666569600-1666655999@marunoku.com
SUMMARY:SOLD OUT !!　田澤孝介弾き語りツアー   「Ballad Box Soloist 2022」DAY.1
DESCRIPTION:SOLD OUT !!\n本ライブのチケットは完売となりました。\n沢山のご購入をいただきまして誠にありがとうございます。 \n田澤孝介弾き語りツアー\n「Ballad Box Soloist 2022」DAY.1 \n18:30 open / 19:00 start\n前売5500円/当日6000円\n※税込・ドリンク代別途必要\n※全公演 椅子席(全席自由)\n※本ライブは札幌市文化芸術活動再開支援事業を活用した行事です。\n（ソフトドリンク・酒類のみのご提供/フードの販売はございません）
URL:http://marunoku.com/schedule/event/20221024/
END:VEVENT
BEGIN:VEVENT
DTSTART;VALUE=DATE:20221023
DTEND;VALUE=DATE:20221024
DTSTAMP:20260426T081428
CREATED:20220513T092015Z
LAST-MODIFIED:20220918T074351Z
UID:7504-1666483200-1666569599@marunoku.com
SUMMARY:小山卓治｜ワンマンライヴ 《NG!》to《夢の島〉DAY.2
DESCRIPTION:小山卓治｜ワンマンライヴ 《NG!》to《夢の島〉 \n　　開場 17:00　開演 17:30\n　　前売 ￥4000　当日 ¥4500（各1ドリンク別 / 自由席） \n　───────────────────────────── \n　　※入場時は、手指消毒のご協力をお願いします\n　　※飲食時以外のマスク着用をお願いします\n　　※1週間以内に発熱があったなど体調のすぐれない方は、ご来場をご遠慮ください\n　　※キャンセルの場合は、必ずご連絡をお願いします
URL:http://marunoku.com/schedule/event/20221023/
END:VEVENT
BEGIN:VEVENT
DTSTART;VALUE=DATE:20221022
DTEND;VALUE=DATE:20221023
DTSTAMP:20260426T081428
CREATED:20220513T091943Z
LAST-MODIFIED:20220918T074240Z
UID:7502-1666396800-1666483199@marunoku.com
SUMMARY:小山卓治｜ワンマンライヴ《成長》to《はるか》DAY.1
DESCRIPTION:小山卓治｜ワンマンライヴ《成長》to《はるか》 \n　　開場 18:30　開演 19:00\n　　前売 ￥4000　当日 ¥4500（各1ドリンク別 / 自由席） \n　───────────────────────────── \n　　※入場時は、手指消毒のご協力をお願いします\n　　※飲食時以外のマスク着用をお願いします\n　　※1週間以内に発熱があったなど体調のすぐれない方は、ご来場をご遠慮ください\n　　※キャンセルの場合は、必ずご連絡をお願いします
URL:http://marunoku.com/schedule/event/20221022/
END:VEVENT
BEGIN:VEVENT
DTSTART;VALUE=DATE:20221021
DTEND;VALUE=DATE:20221022
DTSTAMP:20260426T081428
CREATED:20220924T083843Z
LAST-MODIFIED:20221013T093002Z
UID:7969-1666310400-1666396799@marunoku.com
SUMMARY:しかけ 音のおもちゃ箱ライブ＆配信
DESCRIPTION:19:00 open / 19:30 start\n2500円（＋ドリンク代500円） \n__________________________________ \n配信チケット：2000円\nhttps://www.tiget.net/events/208638 \n配信チケットの登録・購入については下記URLよりご確認ください\nhttps://tiget.net/how_to_use \n・TIGET LIVE（ライブ配信）を視聴できるチケットです。\n・チケット購入したご本人のTIGETアカウントのみでご視聴いただけます。\n・第三者にURLを共有されてもご本人以外はご視聴いただけません。\n・本配信は有料配信となっており、一切の権利は主催者が有します。動画サイトなどへの無断転載・共有を行った場合、法的責任に問われる場合がございます。\n・ライブ配信の途中から視聴した場合はその時点からの配信となります。ライブ配信中は巻き戻しての再生はできません。\n・本ライブは「アーカイブ配信のみのご購入ができません」ので、当日ご覧いただけないお客様も予めご購入ください。 \n____________________________________ \n出演：\nしかけ\n佐々木遥
URL:http://marunoku.com/schedule/event/20221021/
END:VEVENT
BEGIN:VEVENT
DTSTART;VALUE=DATE:20221018
DTEND;VALUE=DATE:20221019
DTSTAMP:20260426T081428
CREATED:20220924T082011Z
LAST-MODIFIED:20220924T082011Z
UID:7952-1666051200-1666137599@marunoku.com
SUMMARY:休み
DESCRIPTION:
URL:http://marunoku.com/schedule/event/20221018/
END:VEVENT
BEGIN:VEVENT
DTSTART;VALUE=DATE:20221017
DTEND;VALUE=DATE:20221018
DTSTAMP:20260426T081428
CREATED:20220527T085145Z
LAST-MODIFIED:20221013T083924Z
UID:7543-1665964800-1666051199@marunoku.com
SUMMARY:C-Lab 主催 『Hide-c.〜月夜の逢瀬〜Open The Gate』
DESCRIPTION:C-Lab 主催 『Hide-c.〜月夜の逢瀬〜Open The Gate』 \n歌手であり、美容家でもある『三城響子』とのコラボ企画\n4年目となる今年は『One The Gate』をテーマに\n音楽を聴き、音楽を感じて美しくなる\nエネルギーたっぷりのコンサート \n19:30 open / 20:00 Start\n2500円（＋ドリンク代500円）\n　\n出演：\nHide-c.\n三城響子
URL:http://marunoku.com/schedule/event/20221017/
END:VEVENT
BEGIN:VEVENT
DTSTART;VALUE=DATE:20221016
DTEND;VALUE=DATE:20221017
DTSTAMP:20260426T081428
CREATED:20220725T093948Z
LAST-MODIFIED:20221013T083631Z
UID:7730-1665878400-1665964799@marunoku.com
SUMMARY:昭和歌謡おんがくかい vo.2
DESCRIPTION:昭和歌謡おんがくかい vo.2\n禁断の昭和歌謡企画ライブです?(笑)\n今回は会場を円山夜想に変えて開催します♪ \n13:00 open / 13:30 start\n予約：2800円 / 当日：3300円（＋ドリンク代500円） \n出演：\nいくもまり/ Siesha / ＠１６３　/ 北広アキ /\n小野貴博(g) / Ksuke Tanaka(pf) / 河鰭文成(per)
URL:http://marunoku.com/schedule/event/20221016/
END:VEVENT
BEGIN:VEVENT
DTSTART;VALUE=DATE:20221015
DTEND;VALUE=DATE:20221016
DTSTAMP:20260426T081428
CREATED:20220725T093916Z
LAST-MODIFIED:20220903T084007Z
UID:7728-1665792000-1665878399@marunoku.com
SUMMARY:Life is awesome  -poem of the north 7-
DESCRIPTION:Life is awesome -poem of the north 7- \n15:30 open / 16:00 start\n3000円（＋ドリンク代500円） \n出演：JUN、鈴木友里絵、久保田れな、すずきゆい、田中依吹、生田瑚桃 \n__________________________________ \n配信チケット：2500円\n近日公開 \n配信チケットの登録・購入については下記URLよりご確認ください\nhttps://tiget.net/how_to_use \n・TIGET LIVE（ライブ配信）を視聴できるチケットです。\n・チケット購入したご本人のTIGETアカウントのみでご視聴いただけます。\n・第三者にURLを共有されてもご本人以外はご視聴いただけません。\n・本配信は有料配信となっており、一切の権利は主催者が有します。動画サイトなどへの無断転載・共有を行った場合、法的責任に問われる場合がございます。\n・ライブ配信の途中から視聴した場合はその時点からの配信となります。ライブ配信中は巻き戻しての再生はできません。\n・放送後7月2日23:59までの間は「アーカイブ配信」を何度でもご覧いただけます。\n・本ライブは「アーカイブ配信のみのご購入ができません」ので、当日ご覧いただけないお客様も予めご購入ください。 \n____________________________________ \n〜ご来店いただくお客様へ〜\n以下の当店の対策とご協力をご確認くださいますようお願いいたします。 \n●当店の感染予防対策 \n・各ライブ・イベントごとアルコール除菌をいたしております。\n（ドアノブ、テーブル、電気スイッチ、トイレ蛇口等、不特定多数の方が触れる部分）\n・通常の換気は行なっておりますが、ライブ開始前、演者入れ替え時、終了後に\n入口の扉を開け、店内の空気の入れ替えを行なっております。\n・ドリンク提供のグラスは全て使い捨てのプラコップにて対応。\n・座席は1～2mの間隔を確保し、できるだけ対面での着席はご遠慮いただきます。\n・現金での取り扱いをできるだけ減らすため、キャッシュレス決済（Pay Pay）がご利用可能です。\n・ドリンクチケットは全て使い捨てにし、二次接触の予防をいたします。\n・使用機材のマイク、鍵盤などは消毒（アルコール除菌）を行います。\n・スタッフの健康管理、手指のアルコール消毒、マスク着用を義務付けております。\nその他、気が付いたことを行なってまいります。 \n●主催様、演者様、お客様共通項目\n・ご来場時にはマスク等の着用、咳エチケットのご協力をお願いいたします。\n・当日体調のすぐれない方、発熱の恐れのある方、37.5度以上の発熱がある方はご来場をお控えくださいませ。\n（夏季冬季の気温影響、運動後の体温上昇による検温ずれの可能性がありますので入場時の検温は行なっておりません）\n・入口、男女トイレ、楽屋に消毒用のウエットティッシュを設置していますのでご利用ください。\n・うがい用の紙コップを用意しています、ご希望の方はお申し付けくださいませ。\n・「北海道コロナ通知システム」の店舗登録をしています、ご入場の際にご利用ください。\n・会場内でご気分が悪くなりましたら、お気軽にスタッフまでお声がけください。 \nライブ・イベントを楽しく開催できるよう、上記対策のご協力をお願いいたします。\n少しでも皆様の不安が少なくなるようスタッフ一同努めてまいりますので、\nご協力の程、どうぞよろしくお願いいたします。
URL:http://marunoku.com/schedule/event/20221015/
END:VEVENT
BEGIN:VEVENT
DTSTART;VALUE=DATE:20221014
DTEND;VALUE=DATE:20221015
DTSTAMP:20260426T081428
CREATED:20220725T093841Z
LAST-MODIFIED:20220930T094049Z
UID:7726-1665705600-1665791999@marunoku.com
SUMMARY:Yoshino & Masae   NEW ALBUM RELEASE JAPAN TOUR 2022
DESCRIPTION:Yoshino & Masae\nNEW ALBUM RELEASE JAPAN TOUR 2022 \n19:00 OPEN / 19:30 START\n3000円（ワンドリンク付き）
URL:http://marunoku.com/schedule/event/20221014/
END:VEVENT
BEGIN:VEVENT
DTSTART;VALUE=DATE:20221013
DTEND;VALUE=DATE:20221014
DTSTAMP:20260426T081428
CREATED:20220912T092459Z
LAST-MODIFIED:20220915T100134Z
UID:7906-1665619200-1665705599@marunoku.com
SUMMARY:種市直樹 | 端山龍麿 　ジョイントライブ
DESCRIPTION:種市直樹 | 端山龍麿 　ジョイントライブ \n19:00 open / 19:30 start\n2500円（＋ドリンク代500円） \n出演：種市直樹 | 端山龍麿
URL:http://marunoku.com/schedule/event/20221013/
END:VEVENT
BEGIN:VEVENT
DTSTART;VALUE=DATE:20221012
DTEND;VALUE=DATE:20221013
DTSTAMP:20260426T081428
CREATED:20220912T092431Z
LAST-MODIFIED:20221017T060132Z
UID:7904-1665532800-1665619199@marunoku.com
SUMMARY:SOLD OUT !!  北海道歌旅座 『温故知新〜OLD & NEW』
DESCRIPTION:本ライブは完売となりました。\nたくさんのご予約をいただきまして、誠にありがとうございます。 \n北海道歌旅座\n『温故知新〜OLD & NEW』 \n開場13:30 / 開演14:00\n料金：2\,000円(税込)\n※本ライブは札幌市文化芸術活動再開支援事業を活用した行事です。\n（ソフトドリンク・酒類のみのご提供/フードの販売はございません）
URL:http://marunoku.com/schedule/event/20221012/
END:VEVENT
BEGIN:VEVENT
DTSTART;VALUE=DATE:20221011
DTEND;VALUE=DATE:20221012
DTSTAMP:20260426T081428
CREATED:20220912T092401Z
LAST-MODIFIED:20220912T092401Z
UID:7902-1665446400-1665532799@marunoku.com
SUMMARY:ライブ
DESCRIPTION:
URL:http://marunoku.com/schedule/event/20221011/
END:VEVENT
BEGIN:VEVENT
DTSTART;VALUE=DATE:20221010
DTEND;VALUE=DATE:20221011
DTSTAMP:20260426T081428
CREATED:20220424T054118Z
LAST-MODIFIED:20221017T060007Z
UID:7416-1665360000-1665446399@marunoku.com
SUMMARY:キワキワ！花電車シャンソンがゆく　蜂鳥あみ太＝４号 | ファイヤーヨーコ
DESCRIPTION:キワキワ！花電車シャンソンがゆく \n18:00 open / 19:00 start\n3500円（＋ドリンク代500円）\n※本ライブは札幌市文化芸術活動再開支援事業を活用した行事です。\n（ソフトドリンク・酒類のみのご提供/フードの販売はございません） \n出演：蜂鳥あみ太＝４号、田村賢太郎、ファイヤーヨーコ
URL:http://marunoku.com/schedule/event/20221010/
END:VEVENT
BEGIN:VEVENT
DTSTART;VALUE=DATE:20221009
DTEND;VALUE=DATE:20221010
DTSTAMP:20260426T081428
CREATED:20220302T082353Z
LAST-MODIFIED:20220918T072517Z
UID:7261-1665273600-1665359999@marunoku.com
SUMMARY:ハコフェス 2022 in sapporo
DESCRIPTION:ハコフェス 2022 in sapporo  \n18:00 open / 18:30 start\n予約：3000円 / 当日：3500円（＋ドリンク代500円） \n※入場順：予約の方の整列順\nご予約は：info@hakofes.com まで \n出演：カホン奏者\n村岡広司\nふーみん\nぶらいあん\n那有多\n藤田紗耶可\n髙盛陽子\nナカハマダイスケ\nチヒロ\nKAZU\nミキヒト\nかとうめい\nかんだま\nみこ \nカホンメーカー\n佐々木工房 \nゲストミュージシャン\n山口こうじ\n高井麻奈由\n住吉貴行 \nお問い合わせは以下のURLよりお願いいたします。\nhttps://hakofes.com/hakofes2022/sapporo/
URL:http://marunoku.com/schedule/event/20221009/
END:VEVENT
BEGIN:VEVENT
DTSTART;VALUE=DATE:20221008
DTEND;VALUE=DATE:20221009
DTSTAMP:20260426T081428
CREATED:20220725T093718Z
LAST-MODIFIED:20220924T082932Z
UID:7724-1665187200-1665273599@marunoku.com
SUMMARY:「クラとアコ」の”オープンマイクvol.3″
DESCRIPTION:「クラとアコ」の”オープンマイクvol.3″ \n16:00 open / 16:30 start\n1500円（出演者） / 500円（観覧者）＋ドリンク代500円 \n※ご予約は「クラとアコ」に直接お願いいたします。\nまたは「クラとアコ」のSNSへお問い合わせください。
URL:http://marunoku.com/schedule/event/20221008/
END:VEVENT
BEGIN:VEVENT
DTSTART;VALUE=DATE:20221007
DTEND;VALUE=DATE:20221008
DTSTAMP:20260426T081428
CREATED:20220513T091906Z
LAST-MODIFIED:20221017T055836Z
UID:7500-1665100800-1665187199@marunoku.com
SUMMARY:「パトラの部屋」ファーストアルバム発売記念ライブ
DESCRIPTION:「パトラの部屋」　ファーストアルバム発売記念ライブ \n18:00 open / 19:00 start\n3000円（ワンドリンク付き）\n※本ライブは札幌市文化芸術活動再開支援事業を活用した行事です。\n（ソフトドリンク・酒類のみのご提供/フードの販売はございません） \n出演：\nパトラ（シャンソンボーカル）\n幸枝（フルート・オカリナ）\n岡田ひろみ（ピアノ・ボーカル）\nお尚（テナーサックス）
URL:http://marunoku.com/schedule/event/20221007/
END:VEVENT
END:VCALENDAR