BEGIN:VCALENDAR
VERSION:2.0
PRODID:-//円山夜想 | スケジュール情報 - ECPv6.15.10//NONSGML v1.0//EN
CALSCALE:GREGORIAN
METHOD:PUBLISH
X-ORIGINAL-URL:http://marunoku.com/schedule
X-WR-CALDESC:円山夜想 | スケジュール情報 のイベント
REFRESH-INTERVAL;VALUE=DURATION:PT1H
X-Robots-Tag:noindex
X-PUBLISHED-TTL:PT1H
BEGIN:VTIMEZONE
TZID:Asia/Tokyo
BEGIN:STANDARD
TZOFFSETFROM:+0900
TZOFFSETTO:+0900
TZNAME:JST
DTSTART:20210101T000000
END:STANDARD
END:VTIMEZONE
BEGIN:VEVENT
DTSTART;VALUE=DATE:20221207
DTEND;VALUE=DATE:20221208
DTSTAMP:20260426T044951
CREATED:20221018T080822Z
LAST-MODIFIED:20221018T082425Z
UID:8027-1670371200-1670457599@marunoku.com
SUMMARY:あがた森魚50周年記念   「 わんだぁるびぃ2022～札幌円山夜想の巻 その2 」
DESCRIPTION:あがた森魚50周年記念\n「 わんだぁるびぃ2022～札幌円山夜想の巻 その2 」 \n19:00 open / 19:30 start\n予約：4000円 / 当日：4500円（＋ドリンク代500円） \n出演：あがた森魚\nGuest：BENBE \nチケット予約 / お問い合わせ\n円山夜想\nhttps://marunoku.com/schedule/contact/ \n※人数制限があるため、予約をキャンセルされる方は必ずご連絡いただけます様、ご協力お願い致します。 \nあがた森魚公式HP：www.agatamorio.com\nBENBE HP : https://www.benbe.info/
URL:http://marunoku.com/schedule/event/20221207/
END:VEVENT
BEGIN:VEVENT
DTSTART;VALUE=DATE:20221206
DTEND;VALUE=DATE:20221207
DTSTAMP:20260426T044951
CREATED:20221109T093804Z
LAST-MODIFIED:20221109T093804Z
UID:8068-1670284800-1670371199@marunoku.com
SUMMARY:休み
DESCRIPTION:
URL:http://marunoku.com/schedule/event/20221206/
END:VEVENT
BEGIN:VEVENT
DTSTART;VALUE=DATE:20221205
DTEND;VALUE=DATE:20221206
DTSTAMP:20260426T044951
CREATED:20221109T093129Z
LAST-MODIFIED:20221115T094011Z
UID:8066-1670198400-1670284799@marunoku.com
SUMMARY:清水宏の日本縦断ツアー スタンダップコメディがやってくる！〜札幌編〜
DESCRIPTION:清水宏の日本縦断ツアー\nスタンダップコメディがやってくる！〜札幌編〜 \n18:00 open / 19:30 start\n予約：2000円 / 当日：2500円（＋ドリンク代500円）
URL:http://marunoku.com/schedule/event/20221205/
END:VEVENT
BEGIN:VEVENT
DTSTART;VALUE=DATE:20221204
DTEND;VALUE=DATE:20221205
DTSTAMP:20260426T044951
CREATED:20220725T094558Z
LAST-MODIFIED:20221205T061716Z
UID:7744-1670112000-1670198399@marunoku.com
SUMMARY:『年忘れ 歌旅のど自慢全員集合』in 円山夜想
DESCRIPTION:『年忘れ 歌旅のど自慢全員集合』in 円山夜想 \n開場 13:30／開演14:00\n料金: 2000円 \n※本ライブは札幌市文化芸術活動再開支援事業を活用した行事です。\n（ソフトドリンク・酒類のみのご提供/フードの販売はございません） \n  \nご予約(メールのみ／抽選)\nhttps://message.blogcms.jp/livedoor/utatabiza/message\n＊全員に抽選結果をお知らせいたします。
URL:http://marunoku.com/schedule/event/20221204/
END:VEVENT
BEGIN:VEVENT
DTSTART;VALUE=DATE:20221203
DTEND;VALUE=DATE:20221204
DTSTAMP:20260426T044951
CREATED:20220725T094412Z
LAST-MODIFIED:20221115T095836Z
UID:7742-1670025600-1670111999@marunoku.com
SUMMARY:貸切
DESCRIPTION:
URL:http://marunoku.com/schedule/event/20221203/
END:VEVENT
BEGIN:VEVENT
DTSTART;VALUE=DATE:20221202
DTEND;VALUE=DATE:20221203
DTSTAMP:20260426T044951
CREATED:20220924T084439Z
LAST-MODIFIED:20221014T071609Z
UID:7975-1669939200-1670025599@marunoku.com
SUMMARY:山口こうじ レコ発ワンマンライブ 〜悲しきニュースの代わりに〜
DESCRIPTION:山口こうじ レコ発ワンマンライブ\n〜悲しきニュースの代わりに〜 \n19:00 open / 19:30 start\n3000円（ワンドリンク付）
URL:http://marunoku.com/schedule/event/20221202/
END:VEVENT
BEGIN:VEVENT
DTSTART;VALUE=DATE:20221129
DTEND;VALUE=DATE:20221130
DTSTAMP:20260426T044951
CREATED:20220924T084400Z
LAST-MODIFIED:20221013T091834Z
UID:7973-1669680000-1669766399@marunoku.com
SUMMARY:うたのじかん2022   アキオカマサコ | 泉亮
DESCRIPTION:うたのじかん2022 \n19:00 open / 19:30 start\n前売 3000円 / 当日3500円 (＋ドリンク代500円) \n出演\nアキオカマサコ(vo)\n泉亮(vo)\nsupport:福由樹子(pf)\nSEIYA(ba)
URL:http://marunoku.com/schedule/event/20221129/
END:VEVENT
BEGIN:VEVENT
DTSTART;VALUE=DATE:20221128
DTEND;VALUE=DATE:20221129
DTSTAMP:20260426T044951
CREATED:20221021T093652Z
LAST-MODIFIED:20221021T093652Z
UID:8054-1669593600-1669679999@marunoku.com
SUMMARY:休み
DESCRIPTION:
URL:http://marunoku.com/schedule/event/20221128/
END:VEVENT
BEGIN:VEVENT
DTSTART;VALUE=DATE:20221127
DTEND;VALUE=DATE:20221128
DTSTAMP:20260426T044951
CREATED:20220424T054400Z
LAST-MODIFIED:20221021T093551Z
UID:7422-1669507200-1669593599@marunoku.com
SUMMARY:C-Lab 主催 『AYAMi 2ndシングルリリース記念公演『あや音♪響けば福来たる！』
DESCRIPTION:C-Lab 主催\n『AYAMi 2ndシングルリリース記念公演『あや音♪響けば福来たる！』 \n2021年にC-Labよりデビューした\n『シンガーソングライター栄養士』AYAMi\n待望のセカンドシングル発売記念公演 \n19:00 open / 19:30 start\n2000円（＋ドリンク代500円） \n出演：AYAMi/Hide-c. with special band
URL:http://marunoku.com/schedule/event/20221127/
END:VEVENT
BEGIN:VEVENT
DTSTART;VALUE=DATE:20221126
DTEND;VALUE=DATE:20221127
DTSTAMP:20260426T044951
CREATED:20220424T054329Z
LAST-MODIFIED:20220903T084340Z
UID:7420-1669420800-1669507199@marunoku.com
SUMMARY:Bouquet des Tons -poem of the north 8-
DESCRIPTION:Bouquet des Tons -poem of the north 8- \n15:30 open / 16:00 start\n3000円（＋ドリンク代500円） \n出演：Tomomi、伊藤さくら、久保田れな、すずきゆい、鹿野レイ \n__________________________________ \n配信チケット：2500円\n近日公開 \n配信チケットの登録・購入については下記URLよりご確認ください\nhttps://tiget.net/how_to_use \n・TIGET LIVE（ライブ配信）を視聴できるチケットです。\n・チケット購入したご本人のTIGETアカウントのみでご視聴いただけます。\n・第三者にURLを共有されてもご本人以外はご視聴いただけません。\n・本配信は有料配信となっており、一切の権利は主催者が有します。動画サイトなどへの無断転載・共有を行った場合、法的責任に問われる場合がございます。\n・ライブ配信の途中から視聴した場合はその時点からの配信となります。ライブ配信中は巻き戻しての再生はできません。\n・放送後7月2日23:59までの間は「アーカイブ配信」を何度でもご覧いただけます。\n・本ライブは「アーカイブ配信のみのご購入ができません」ので、当日ご覧いただけないお客様も予めご購入ください。 \n____________________________________ \n〜ご来店いただくお客様へ〜\n以下の当店の対策とご協力をご確認くださいますようお願いいたします。 \n●当店の感染予防対策 \n・各ライブ・イベントごとアルコール除菌をいたしております。\n（ドアノブ、テーブル、電気スイッチ、トイレ蛇口等、不特定多数の方が触れる部分）\n・通常の換気は行なっておりますが、ライブ開始前、演者入れ替え時、終了後に\n入口の扉を開け、店内の空気の入れ替えを行なっております。\n・ドリンク提供のグラスは全て使い捨てのプラコップにて対応。\n・座席は1～2mの間隔を確保し、できるだけ対面での着席はご遠慮いただきます。\n・現金での取り扱いをできるだけ減らすため、キャッシュレス決済（Pay Pay）がご利用可能です。\n・ドリンクチケットは全て使い捨てにし、二次接触の予防をいたします。\n・使用機材のマイク、鍵盤などは消毒（アルコール除菌）を行います。\n・スタッフの健康管理、手指のアルコール消毒、マスク着用を義務付けております。\nその他、気が付いたことを行なってまいります。 \n●主催様、演者様、お客様共通項目\n・ご来場時にはマスク等の着用、咳エチケットのご協力をお願いいたします。\n・当日体調のすぐれない方、発熱の恐れのある方、37.5度以上の発熱がある方はご来場をお控えくださいませ。\n（夏季冬季の気温影響、運動後の体温上昇による検温ずれの可能性がありますので入場時の検温は行なっておりません）\n・入口、男女トイレ、楽屋に消毒用のウエットティッシュを設置していますのでご利用ください。\n・うがい用の紙コップを用意しています、ご希望の方はお申し付けくださいませ。\n・「北海道コロナ通知システム」の店舗登録をしています、ご入場の際にご利用ください。\n・会場内でご気分が悪くなりましたら、お気軽にスタッフまでお声がけください。 \nライブ・イベントを楽しく開催できるよう、上記対策のご協力をお願いいたします。\n少しでも皆様の不安が少なくなるようスタッフ一同努めてまいりますので、\nご協力の程、どうぞよろしくお願いいたします。
URL:http://marunoku.com/schedule/event/20221126/
END:VEVENT
BEGIN:VEVENT
DTSTART;VALUE=DATE:20221125
DTEND;VALUE=DATE:20221126
DTSTAMP:20260426T044951
CREATED:20220912T092855Z
LAST-MODIFIED:20220927T085630Z
UID:7916-1669334400-1669420799@marunoku.com
SUMMARY:リクオ＆ピアノ2022　
DESCRIPTION:〜 リクオ＆ピアノ　2022　〜 \n19:00 open / 19:30 start\n予約：4000円 / 当日：4500円(＋ドリンク代500円)\n※未就学児無料 \nご予約は当店予約フォームよりお願いいたします。\nhttps://marunoku.com/schedule/contact/ \nオープニングアクト：箕輪芳和
URL:http://marunoku.com/schedule/event/20221125/
END:VEVENT
BEGIN:VEVENT
DTSTART;VALUE=DATE:20221124
DTEND;VALUE=DATE:20221125
DTSTAMP:20260426T044951
CREATED:20221121T091932Z
LAST-MODIFIED:20221121T091932Z
UID:8113-1669248000-1669334399@marunoku.com
SUMMARY:休み
DESCRIPTION:
URL:http://marunoku.com/schedule/event/20221124/
END:VEVENT
BEGIN:VEVENT
DTSTART;VALUE=DATE:20221123
DTEND;VALUE=DATE:20221124
DTSTAMP:20260426T044951
CREATED:20220725T094325Z
LAST-MODIFIED:20220725T094325Z
UID:7740-1669161600-1669247999@marunoku.com
SUMMARY:貸切
DESCRIPTION:
URL:http://marunoku.com/schedule/event/20221123/
END:VEVENT
BEGIN:VEVENT
DTSTART;VALUE=DATE:20221121
DTEND;VALUE=DATE:20221122
DTSTAMP:20260426T044951
CREATED:20221021T093621Z
LAST-MODIFIED:20221021T093621Z
UID:8052-1668988800-1669075199@marunoku.com
SUMMARY:休み
DESCRIPTION:
URL:http://marunoku.com/schedule/event/20221121/
END:VEVENT
BEGIN:VEVENT
DTSTART;VALUE=DATE:20221120
DTEND;VALUE=DATE:20221121
DTSTAMP:20260426T044951
CREATED:20220513T092104Z
LAST-MODIFIED:20221116T142547Z
UID:7506-1668902400-1668988799@marunoku.com
SUMMARY:キキミミ10th Anniversary Tour 2022 「ありがとうをいわせて」
DESCRIPTION:キキミミ10th Anniversary Tour 2022\n「ありがとうをいわせて」 \n18:00 open / 18:30 start\n予約：3000円 / 当日：3500円（＋ドリンク代500円） \n出演：\nキキミミ\nWatada Besta SOCIAL Club\n田高健太郎\nNawate Harutaka(O.A)
URL:http://marunoku.com/schedule/event/20221120/
END:VEVENT
BEGIN:VEVENT
DTSTART;VALUE=DATE:20221119
DTEND;VALUE=DATE:20221120
DTSTAMP:20260426T044951
CREATED:20220903T084758Z
LAST-MODIFIED:20220924T090044Z
UID:7858-1668816000-1668902399@marunoku.com
SUMMARY:ヤマグチコウイチ あぜかみひろゆき ジョイントライブ
DESCRIPTION:ヤマグチコウイチ・あぜかみひろゆき\nジョイントライブ \n18:00 open / 18:30 start\n3000円（ワンドリンク付き）
URL:http://marunoku.com/schedule/event/20221119/
END:VEVENT
BEGIN:VEVENT
DTSTART;VALUE=DATE:20221117
DTEND;VALUE=DATE:20221118
DTSTAMP:20260426T044951
CREATED:20220912T092814Z
LAST-MODIFIED:20221114T095312Z
UID:7914-1668643200-1668729599@marunoku.com
SUMMARY:クラとアコとクラとカホン vol.2
DESCRIPTION:クラとアコとクラとカホン vol.2 \n半年ぶりにクラリネット：小川史明さん\nカホン：矢城睦さんをお迎えして\n懐かしいジャズやポップスを演奏します♫ \nまた、英語が堪能な小川さんにMCを同時通訳していただき、\n世界に向けて生配信いたします。\nどうぞ、お楽しみに〜♫ \n出演：\nクラとアコ\n池尻健（クラリネット）\n山口沙苗（アコーディオン） \nゲスト\n矢城睦（カホン）\n小川史明（クラリネット） \n19:00 open / 19:30 start\n2000円（ワンドリンク付き） \n__________________________________ \n配信チケット：1500円\nhttps://www.tiget.net/events/213227 \n配信チケットの登録・購入については下記URLよりご確認ください\nhttps://tiget.net/how_to_use \n・TIGET LIVE（ライブ配信）を視聴できるチケットです。\n・チケット購入したご本人のTIGETアカウントのみでご視聴いただけます。\n・第三者にURLを共有されてもご本人以外はご視聴いただけません。\n・本配信は有料配信となっており、一切の権利は主催者が有します。動画サイトなどへの無断転載・共有を行った場合、法的責任に問われる場合がございます。\n・ライブ配信の途中から視聴した場合はその時点からの配信となります。ライブ配信中は巻き戻しての再生はできません。\n・本ライブは「アーカイブ配信のみのご購入ができません」ので、当日ご覧いただけないお客様も予めご購入ください。 \n____________________________________
URL:http://marunoku.com/schedule/event/20221117/
END:VEVENT
BEGIN:VEVENT
DTSTART;VALUE=DATE:20221116
DTEND;VALUE=DATE:20221117
DTSTAMP:20260426T044951
CREATED:20220924T084319Z
LAST-MODIFIED:20221114T095348Z
UID:7971-1668556800-1668643199@marunoku.com
SUMMARY:しかけ 音のおもちゃ箱ライブ＆配信
DESCRIPTION:しかけ 音のおもちゃ箱ライブ＆配信 \n19:00 open / 19:30 start\n2500円（＋ドリンク代500円） \n__________________________________ \n配信チケット：2000円\nhttps://www.tiget.net/events/214712 \n配信チケットの登録・購入については下記URLよりご確認ください\nhttps://tiget.net/how_to_use \n・TIGET LIVE（ライブ配信）を視聴できるチケットです。\n・チケット購入したご本人のTIGETアカウントのみでご視聴いただけます。\n・第三者にURLを共有されてもご本人以外はご視聴いただけません。\n・本配信は有料配信となっており、一切の権利は主催者が有します。動画サイトなどへの無断転載・共有を行った場合、法的責任に問われる場合がございます。\n・ライブ配信の途中から視聴した場合はその時点からの配信となります。ライブ配信中は巻き戻しての再生はできません。\n・本ライブは「アーカイブ配信のみのご購入ができません」ので、当日ご覧いただけないお客様も予めご購入ください。 \n____________________________________ \n出演：しかけ\nゲスト：Nori（ギター）
URL:http://marunoku.com/schedule/event/20221116/
END:VEVENT
BEGIN:VEVENT
DTSTART;VALUE=DATE:20221114
DTEND;VALUE=DATE:20221115
DTSTAMP:20260426T044951
CREATED:20220527T085240Z
LAST-MODIFIED:20221110T053057Z
UID:7545-1668384000-1668470399@marunoku.com
SUMMARY:休み
DESCRIPTION:
URL:http://marunoku.com/schedule/event/20221114/
END:VEVENT
BEGIN:VEVENT
DTSTART;VALUE=DATE:20221113
DTEND;VALUE=DATE:20221114
DTSTAMP:20260426T044951
CREATED:20220912T092738Z
LAST-MODIFIED:20220912T092738Z
UID:7912-1668297600-1668383999@marunoku.com
SUMMARY:ライブ
DESCRIPTION:
URL:http://marunoku.com/schedule/event/20221113/
END:VEVENT
BEGIN:VEVENT
DTSTART;VALUE=DATE:20221112
DTEND;VALUE=DATE:20221113
DTSTAMP:20260426T044951
CREATED:20220903T084721Z
LAST-MODIFIED:20220929T083750Z
UID:7856-1668211200-1668297599@marunoku.com
SUMMARY:種市直樹 LIVE
DESCRIPTION:種市直樹 LIVE \n18:30 open / 19:00 start\n3000円（ワンドリンク付き） \n出演：\n種市直樹（Vo&Guitar)\n西岡俊明（Guitar）\n安斉亨（Piano）
URL:http://marunoku.com/schedule/event/20221112/
END:VEVENT
BEGIN:VEVENT
DTSTART;VALUE=DATE:20221111
DTEND;VALUE=DATE:20221112
DTSTAMP:20260426T044951
CREATED:20220302T082454Z
LAST-MODIFIED:20220915T095437Z
UID:7263-1668124800-1668211199@marunoku.com
SUMMARY:円山純情倶楽部 2022、冬。　Beadroads | kurosawadaisuke | 辻正仁 | 夕歌（オープニングアクト）
DESCRIPTION:円山純情倶楽部 2022、冬。\nBeadroads レコ発ツアー2022″Mirai”at札幌 \n18:30 open / 19:00 start\n予約：2500円 / 当日：3000円（＋ドリンク代500円） \n出演：\nBeadroads\nkurosawadaisuke\n辻正仁\n夕歌（オープニングアクト）
URL:http://marunoku.com/schedule/event/20221111/
END:VEVENT
BEGIN:VEVENT
DTSTART;VALUE=DATE:20221110
DTEND;VALUE=DATE:20221111
DTSTAMP:20260426T044951
CREATED:20220912T092702Z
LAST-MODIFIED:20221021T092613Z
UID:7910-1668038400-1668124799@marunoku.com
SUMMARY:Ryu Matsuyama presents “to get there”
DESCRIPTION:Ryu Matsuyama presents “to get there” \n18:30 open / 19:00 start\n4000円（＋ドリンク代500円） \nチケット一般発売：9月19日\nURL：https://eplus.jp/togetthere1110/ \n出演：Ryu Matsuyama solo、優河
URL:http://marunoku.com/schedule/event/20221110/
END:VEVENT
BEGIN:VEVENT
DTSTART;VALUE=DATE:20221107
DTEND;VALUE=DATE:20221108
DTSTAMP:20260426T044951
CREATED:20221021T092854Z
LAST-MODIFIED:20221021T092854Z
UID:8043-1667779200-1667865599@marunoku.com
SUMMARY:休み
DESCRIPTION:
URL:http://marunoku.com/schedule/event/20221107/
END:VEVENT
BEGIN:VEVENT
DTSTART;VALUE=DATE:20221106
DTEND;VALUE=DATE:20221107
DTSTAMP:20260426T044951
CREATED:20220903T084646Z
LAST-MODIFIED:20221021T092345Z
UID:7854-1667692800-1667779199@marunoku.com
SUMMARY:“the MADRAS pre. have fun! - acoustic -
DESCRIPTION:“the MADRAS pre.\nhave fun! – acoustic – \n15:30 open / 16:00 start\n予約：2500円 / 当日：3000円（＋ドリンク代500円） \n出演：\nthe MADRAS – acoustic set –\nw/カメダタク(key:オワリカラ/YOMOYA)\nランチブレイク\nDots Dash Acoustic
URL:http://marunoku.com/schedule/event/20221106/
END:VEVENT
BEGIN:VEVENT
DTSTART;VALUE=DATE:20221105
DTEND;VALUE=DATE:20221106
DTSTAMP:20260426T044951
CREATED:20220424T054205Z
LAST-MODIFIED:20221021T091936Z
UID:7418-1667606400-1667692799@marunoku.com
SUMMARY:C-Lab 主催 『NORTH GROOVEリリース公演』
DESCRIPTION:C-Lab 主催\n『NORTH GROOVEリリース公演』 \nHiroya/Ren/Junの３人からなる\nR&Bボーカルユニット\nNorth Grooveの\nC-Labプロデュースによる\n１st Singleリリースコンサート \n19:00 open / 19:30 start\n2000円（ワンドリンク付き）　 \n出演：North Groove withHide-c.
URL:http://marunoku.com/schedule/event/20221105/
END:VEVENT
BEGIN:VEVENT
DTSTART;VALUE=DATE:20221103
DTEND;VALUE=DATE:20221104
DTSTAMP:20260426T044951
CREATED:20220903T084610Z
LAST-MODIFIED:20221021T091705Z
UID:7852-1667433600-1667519999@marunoku.com
SUMMARY:古澤剛2022年ツアー「MADE IN CLOSET」振替公演
DESCRIPTION:古澤剛2022年ツアー「MADE IN CLOSET」 振替公演 \n15:30 open / 16:00 start\n4000円（＋ドリンク代500円）\n＊振替公演にはお手持ちのチケットでご入場頂けます。 \nチケットの詳細に関しましては、オフィシャルサイトをご確認ください。\nhttp://www.furusawa-takeshi.com/
URL:http://marunoku.com/schedule/event/20221103/
END:VEVENT
BEGIN:VEVENT
DTSTART;VALUE=DATE:20221031
DTEND;VALUE=DATE:20221101
DTSTAMP:20260426T044951
CREATED:20220924T082129Z
LAST-MODIFIED:20220924T082129Z
UID:7956-1667174400-1667260799@marunoku.com
SUMMARY:休み
DESCRIPTION:
URL:http://marunoku.com/schedule/event/20221031/
END:VEVENT
BEGIN:VEVENT
DTSTART;VALUE=DATE:20221030
DTEND;VALUE=DATE:20221031
DTSTAMP:20260426T044951
CREATED:20220725T094214Z
LAST-MODIFIED:20221013T093453Z
UID:7738-1667088000-1667174399@marunoku.com
SUMMARY:季子×瀬田創太  " アイココツアーVol.1 in札幌 "
DESCRIPTION:季子×瀬田創太\n【アイココツアーVol.1 in札幌】 \n開場13:30 / 開演14:00\n¥4000＋1D \n予約：kicocik@gmail.com \n前売りチケット\nhttps://kicocik.buyshop.jp/items/67578658
URL:http://marunoku.com/schedule/event/20221030/
END:VEVENT
BEGIN:VEVENT
DTSTART;VALUE=DATE:20221029
DTEND;VALUE=DATE:20221030
DTSTAMP:20260426T044951
CREATED:20220725T094141Z
LAST-MODIFIED:20221101T092341Z
UID:7736-1667001600-1667087999@marunoku.com
SUMMARY:MASSAN×BASHIRY   『birth』 Release Live in Hokkaido\, Sapporo
DESCRIPTION:MASSAN×BASHIRY \n18:30 open / 19:00 start\n予約：3500円 / 当日：4000円（＋ドリンク代500円）\n※本ライブは札幌市文化芸術活動再開支援事業を活用した行事です。\n（ソフトドリンク・酒類のみのご提供/フードの販売はございません） \n出演：\nMASSAN×BASHIRY\nいしだこーすけ
URL:http://marunoku.com/schedule/event/20221029/
END:VEVENT
END:VCALENDAR