BEGIN:VCALENDAR
VERSION:2.0
PRODID:-//円山夜想 | スケジュール情報 - ECPv6.15.10//NONSGML v1.0//EN
CALSCALE:GREGORIAN
METHOD:PUBLISH
X-ORIGINAL-URL:http://marunoku.com/schedule
X-WR-CALDESC:円山夜想 | スケジュール情報 のイベント
REFRESH-INTERVAL;VALUE=DURATION:PT1H
X-Robots-Tag:noindex
X-PUBLISHED-TTL:PT1H
BEGIN:VTIMEZONE
TZID:Asia/Tokyo
BEGIN:STANDARD
TZOFFSETFROM:+0900
TZOFFSETTO:+0900
TZNAME:JST
DTSTART:20210101T000000
END:STANDARD
END:VTIMEZONE
BEGIN:VEVENT
DTSTART;VALUE=DATE:20230102
DTEND;VALUE=DATE:20230103
DTSTAMP:20260426T013633
CREATED:20220903T085344Z
LAST-MODIFIED:20220903T085344Z
UID:7872-1672617600-1672703999@marunoku.com
SUMMARY:休み
DESCRIPTION:
URL:http://marunoku.com/schedule/event/20230102/
END:VEVENT
BEGIN:VEVENT
DTSTART;VALUE=DATE:20230101
DTEND;VALUE=DATE:20230102
DTSTAMP:20260426T013633
CREATED:20220903T085310Z
LAST-MODIFIED:20220903T085310Z
UID:7870-1672531200-1672617599@marunoku.com
SUMMARY:休み
DESCRIPTION:
URL:http://marunoku.com/schedule/event/20230101/
END:VEVENT
BEGIN:VEVENT
DTSTART;VALUE=DATE:20221231
DTEND;VALUE=DATE:20230101
DTSTAMP:20260426T013633
CREATED:20220903T085230Z
LAST-MODIFIED:20220903T085230Z
UID:7868-1672444800-1672531199@marunoku.com
SUMMARY:休み
DESCRIPTION:
URL:http://marunoku.com/schedule/event/20221231/
END:VEVENT
BEGIN:VEVENT
DTSTART;VALUE=DATE:20221230
DTEND;VALUE=DATE:20221231
DTSTAMP:20260426T013633
CREATED:20220903T085159Z
LAST-MODIFIED:20220903T085159Z
UID:7866-1672358400-1672444799@marunoku.com
SUMMARY:休み
DESCRIPTION:
URL:http://marunoku.com/schedule/event/20221230/
END:VEVENT
BEGIN:VEVENT
DTSTART;VALUE=DATE:20221229
DTEND;VALUE=DATE:20221230
DTSTAMP:20260426T013633
CREATED:20220912T093209Z
LAST-MODIFIED:20221226T125213Z
UID:7924-1672272000-1672358399@marunoku.com
SUMMARY:東日本大震災チャリティライブ 500L（ゴヒャクエル）vol.37
DESCRIPTION:東日本大震災チャリティライブ\n500L（ゴヒャクエル）vol.37 \n19:00 open / 19:30 start\n入場無料！（振る舞い酒あり） \n出演：\n辻正仁\n観月\n黒田雄亮\n前説 kenzzzi
URL:http://marunoku.com/schedule/event/20221229/
END:VEVENT
BEGIN:VEVENT
DTSTART;VALUE=DATE:20221226
DTEND;VALUE=DATE:20221227
DTSTAMP:20260426T013633
CREATED:20221115T095737Z
LAST-MODIFIED:20221115T095751Z
UID:8104-1672012800-1672099199@marunoku.com
SUMMARY:休み
DESCRIPTION:
URL:http://marunoku.com/schedule/event/20221226/
END:VEVENT
BEGIN:VEVENT
DTSTART;VALUE=DATE:20221225
DTEND;VALUE=DATE:20221226
DTSTAMP:20260426T013633
CREATED:20220118T093803Z
LAST-MODIFIED:20221115T095825Z
UID:7150-1671926400-1672012799@marunoku.com
SUMMARY:貸切
DESCRIPTION:
URL:http://marunoku.com/schedule/event/20221225/
END:VEVENT
BEGIN:VEVENT
DTSTART;VALUE=DATE:20221224
DTEND;VALUE=DATE:20221225
DTSTAMP:20260426T013633
CREATED:20220912T093106Z
LAST-MODIFIED:20221210T052440Z
UID:7922-1671840000-1671926399@marunoku.com
SUMMARY:メロウデュ「New Wave\, New Balance」
DESCRIPTION:「New Wave\, New Balance」 \n18:00 open / 18:30 start\n前売：4000円 / 当日：4500円（＋ドリンク代500円） \n出演:メロウデュ（support bassist:よっちゃん）
URL:http://marunoku.com/schedule/event/20221224/
END:VEVENT
BEGIN:VEVENT
DTSTART;VALUE=DATE:20221223
DTEND;VALUE=DATE:20221224
DTSTAMP:20260426T013633
CREATED:20220924T084554Z
LAST-MODIFIED:20221122T080813Z
UID:7977-1671753600-1671839999@marunoku.com
SUMMARY:しかけ 音のおもちゃ箱ライブ＆配信
DESCRIPTION:しかけ 音のおもちゃ箱ライブ＆配信 \n19:00 open / 19:30 start\n2500円（＋ドリンク代500円） \n__________________________________ \n配信チケット：2000円\nhttps://www.tiget.net/events/215941 \n配信チケットの登録・購入については下記URLよりご確認ください\nhttps://tiget.net/how_to_use \n・TIGET LIVE（ライブ配信）を視聴できるチケットです。\n・チケット購入したご本人のTIGETアカウントのみでご視聴いただけます。\n・第三者にURLを共有されてもご本人以外はご視聴いただけません。\n・本配信は有料配信となっており、一切の権利は主催者が有します。動画サイトなどへの無断転載・共有を行った場合、法的責任に問われる場合がございます。\n・ライブ配信の途中から視聴した場合はその時点からの配信となります。ライブ配信中は巻き戻しての再生はできません。\n・本ライブは「アーカイブ配信のみのご購入ができません」ので、当日ご覧いただけないお客様も予めご購入ください。 \n____________________________________ \n出演：しかけ\nゲスト：佐々木遥（ボーカル）　Nori（ギター）
URL:http://marunoku.com/schedule/event/20221223/
END:VEVENT
BEGIN:VEVENT
DTSTART;VALUE=DATE:20221222
DTEND;VALUE=DATE:20221223
DTSTAMP:20260426T013633
CREATED:20221115T094525Z
LAST-MODIFIED:20221115T094525Z
UID:8093-1671667200-1671753599@marunoku.com
SUMMARY:IYPpresents 『 GREAT HARVEST Vol.2 』
DESCRIPTION:IYPpresents\n『 GREAT HARVEST Vol.2 』 \n18:30 open / 19:00 start\n前売:3000円 / 当日：3500円 (＋ドリンク代500円)\nチケット予約/問い合わせフォーム inyourpocket1006@gmail.com \n出演：\n岩瀬敬吾、KEEWO、ヨシグチヒロユキ、小林当麻、関啓太
URL:http://marunoku.com/schedule/event/iyppresents-%e3%80%8e-great-harvest-vol-2-%e3%80%8f/
END:VEVENT
BEGIN:VEVENT
DTSTART;VALUE=DATE:20221220
DTEND;VALUE=DATE:20221221
DTSTAMP:20260426T013633
CREATED:20220903T085039Z
LAST-MODIFIED:20221115T095030Z
UID:7864-1671494400-1671580799@marunoku.com
SUMMARY:ティファ Christmas Night Live
DESCRIPTION:ティファ Christmas Night Live \nジャズ、クリスマス曲、ボサノバ、オリジナル曲、ポップスはユーミンを予定しています。\n色々なジャンルをお楽しみ頂けたら幸いです♬\nどうぞ宜しくお願い致します！\nティファ \n19:00 open / 19:30 start\n3000円（ワンドリンク付き） \n__________________________________ \n配信チケット：2000円\nhttps://www.tiget.net/events/212931 \n配信チケットの登録・購入については下記URLよりご確認ください\nhttps://tiget.net/how_to_use \n・TIGET LIVE（ライブ配信）を視聴できるチケットです。\n・チケット購入したご本人のTIGETアカウントのみでご視聴いただけます。\n・ご購入にあたりましてシステム手数料220円がかかります。\n・購入期限：2022年12月20日19:00\n・第三者にURLを共有されてもご本人以外はご視聴いただけません。\n・本配信は有料配信となっており、一切の権利は主催者が有します。動画サイトなどへの無断転載・共有を行った場合、法的責任に問われる場合がございます。\n・ライブ配信の途中から視聴した場合はその時点からの配信となります。ライブ配信中は巻き戻しての再生はできません。\n・放送後12月27日23:59までの間は「アーカイブ配信」を何度でもご覧いただけます。\n・本ライブは「アーカイブ配信のみのご購入ができません」ので、当日ご覧いただけないお客様も予めご購入ください。\n・アーカイブ化に一定時間がかかりますので、ライブ直後に視聴できない場合がございます。少し時間をおいてからご視聴くださいませ。 \n____________________________________
URL:http://marunoku.com/schedule/event/20221220/
END:VEVENT
BEGIN:VEVENT
DTSTART;VALUE=DATE:20221219
DTEND;VALUE=DATE:20221220
DTSTAMP:20260426T013633
CREATED:20221115T095707Z
LAST-MODIFIED:20221115T095707Z
UID:8102-1671408000-1671494399@marunoku.com
SUMMARY:休み
DESCRIPTION:
URL:http://marunoku.com/schedule/event/20221219/
END:VEVENT
BEGIN:VEVENT
DTSTART;VALUE=DATE:20221218
DTEND;VALUE=DATE:20221219
DTSTAMP:20260426T013633
CREATED:20220903T085005Z
LAST-MODIFIED:20221121T074830Z
UID:7862-1671321600-1671407999@marunoku.com
SUMMARY:グッドクルーズのエキゾチカクリスマス！
DESCRIPTION:「グッドクルーズのエキゾチカクリスマス！」 \n17:30 open / 18:00 start\n2500円（＋ドリンク代500円） \n出演：Good Cruise（グッドクルーズ）
URL:http://marunoku.com/schedule/event/20221218/
END:VEVENT
BEGIN:VEVENT
DTSTART;VALUE=DATE:20221217
DTEND;VALUE=DATE:20221218
DTSTAMP:20260426T013633
CREATED:20220725T094747Z
LAST-MODIFIED:20221115T095613Z
UID:7750-1671235200-1671321599@marunoku.com
SUMMARY:MAKI/SHOJI  ゲスト：千葉智寿
DESCRIPTION:18:00 open / 18:30 start\n2500円（＋ドリンク代500円） \n出演：MAKI/SHOJI\nゲスト：千葉智寿
URL:http://marunoku.com/schedule/event/20221217/
END:VEVENT
BEGIN:VEVENT
DTSTART;VALUE=DATE:20221216
DTEND;VALUE=DATE:20221217
DTSTAMP:20260426T013633
CREATED:20220912T093028Z
LAST-MODIFIED:20221208T084149Z
UID:7920-1671148800-1671235199@marunoku.com
SUMMARY:Kaz Kato Trio Tour 2022
DESCRIPTION:Kaz Kato Trio Tour 2022 \n19:00 open / 19:30 start\n前売：4000円 / 当日：4500円（＋ドリンク代500円） \n前売りチケットは10月29日(土)18:00より、\nSpirit Filled Records Online Storeにて販売開始！\n前売りチケットのお求めはコチラ\n↓\nhttps://spiritfilled.stores.jp \n出演：\nKaz Kato (Keys)\n大神田智彦（Bass）\n橋本大輝（Drums） \nゲストボーカル\nBilly King \n＊出演者は変更になる場合もございます。\n予めご了承ください。
URL:http://marunoku.com/schedule/event/20221216/
END:VEVENT
BEGIN:VEVENT
DTSTART;VALUE=DATE:20221215
DTEND;VALUE=DATE:20221216
DTSTAMP:20260426T013633
CREATED:20220912T092951Z
LAST-MODIFIED:20221109T100052Z
UID:7918-1671062400-1671148799@marunoku.com
SUMMARY:川成順  〜White Xmas Live tour〜
DESCRIPTION:川成順 〜White Xmas Live tour〜 \n19:00 open / 19:30 start\n4500円（＋ドリンク代500円）\nご予約は以下のメールアドレスまで\na.planning510@gmail.com
URL:http://marunoku.com/schedule/event/20221215/
END:VEVENT
BEGIN:VEVENT
DTSTART;VALUE=DATE:20221212
DTEND;VALUE=DATE:20221213
DTSTAMP:20260426T013633
CREATED:20221109T095325Z
LAST-MODIFIED:20221109T095325Z
UID:8076-1670803200-1670889599@marunoku.com
SUMMARY:休み
DESCRIPTION:
URL:http://marunoku.com/schedule/event/20221212/
END:VEVENT
BEGIN:VEVENT
DTSTART;VALUE=DATE:20221211
DTEND;VALUE=DATE:20221212
DTSTAMP:20260426T013633
CREATED:20220725T094707Z
LAST-MODIFIED:20221109T095254Z
UID:7748-1670716800-1670803199@marunoku.com
SUMMARY:種市直樹　〜 X'MAS MONTH LIVE 〜
DESCRIPTION:〜 X’MAS MONTH LIVE 〜 \n18:30 open / 19:00 start\n3000円（＋ドリンク代500円） \n出演：\n種市直樹（Vo&Guitar)\nサポート\n西岡俊明（Guitar）\n鷹橋伸司（Guitar）\n森田Johnny貴裕（Bass）\n土田祐生（Percussion）
URL:http://marunoku.com/schedule/event/20221211/
END:VEVENT
BEGIN:VEVENT
DTSTART;VALUE=DATE:20221210
DTEND;VALUE=DATE:20221211
DTSTAMP:20260426T013633
CREATED:20220725T094637Z
LAST-MODIFIED:20221103T055720Z
UID:7746-1670630400-1670716799@marunoku.com
SUMMARY:SOLD OUT !!  五十嵐浩晃 LIVE 〜交差点〜
DESCRIPTION:SOLD OUT !!\n本ライブは完売となりました。沢山のご予約をいただきまして誠にありがとうございます。\n尚、引き続き「キャンセル待ち」での受付をいたします。\nどうぞ、よろしくお願いいたします。 \n五十嵐浩晃 LIVE 〜交差点〜 \n16:30 open / 17:00 start\n4500円（＋ドリンク代500円） \n出演：\n五十嵐浩晃\n西岡俊明(g)\n安西亨(pf)\n木村圭子(b)
URL:http://marunoku.com/schedule/event/20221210/
END:VEVENT
BEGIN:VEVENT
DTSTART;VALUE=DATE:20221209
DTEND;VALUE=DATE:20221210
DTSTAMP:20260426T013633
CREATED:20220903T084912Z
LAST-MODIFIED:20221109T094451Z
UID:7860-1670544000-1670630399@marunoku.com
SUMMARY:" Caravan Noel "  iora | おちよ。| 伊藤大輔
DESCRIPTION:iora ” Caravan Noel ” \n19:00 open / 20:00 start\n大人4000円 /　小人2000円（＋ドリンク代500円）\nご予約は以下のメールアドレスまで\nmail@iora.jp \n出演：\niora\nおちよ。\n伊藤大輔
URL:http://marunoku.com/schedule/event/20221209/
END:VEVENT
BEGIN:VEVENT
DTSTART;VALUE=DATE:20221207
DTEND;VALUE=DATE:20221208
DTSTAMP:20260426T013633
CREATED:20221018T080822Z
LAST-MODIFIED:20221018T082425Z
UID:8027-1670371200-1670457599@marunoku.com
SUMMARY:あがた森魚50周年記念   「 わんだぁるびぃ2022～札幌円山夜想の巻 その2 」
DESCRIPTION:あがた森魚50周年記念\n「 わんだぁるびぃ2022～札幌円山夜想の巻 その2 」 \n19:00 open / 19:30 start\n予約：4000円 / 当日：4500円（＋ドリンク代500円） \n出演：あがた森魚\nGuest：BENBE \nチケット予約 / お問い合わせ\n円山夜想\nhttps://marunoku.com/schedule/contact/ \n※人数制限があるため、予約をキャンセルされる方は必ずご連絡いただけます様、ご協力お願い致します。 \nあがた森魚公式HP：www.agatamorio.com\nBENBE HP : https://www.benbe.info/
URL:http://marunoku.com/schedule/event/20221207/
END:VEVENT
BEGIN:VEVENT
DTSTART;VALUE=DATE:20221206
DTEND;VALUE=DATE:20221207
DTSTAMP:20260426T013633
CREATED:20221109T093804Z
LAST-MODIFIED:20221109T093804Z
UID:8068-1670284800-1670371199@marunoku.com
SUMMARY:休み
DESCRIPTION:
URL:http://marunoku.com/schedule/event/20221206/
END:VEVENT
BEGIN:VEVENT
DTSTART;VALUE=DATE:20221205
DTEND;VALUE=DATE:20221206
DTSTAMP:20260426T013633
CREATED:20221109T093129Z
LAST-MODIFIED:20221115T094011Z
UID:8066-1670198400-1670284799@marunoku.com
SUMMARY:清水宏の日本縦断ツアー スタンダップコメディがやってくる！〜札幌編〜
DESCRIPTION:清水宏の日本縦断ツアー\nスタンダップコメディがやってくる！〜札幌編〜 \n18:00 open / 19:30 start\n予約：2000円 / 当日：2500円（＋ドリンク代500円）
URL:http://marunoku.com/schedule/event/20221205/
END:VEVENT
BEGIN:VEVENT
DTSTART;VALUE=DATE:20221204
DTEND;VALUE=DATE:20221205
DTSTAMP:20260426T013633
CREATED:20220725T094558Z
LAST-MODIFIED:20221205T061716Z
UID:7744-1670112000-1670198399@marunoku.com
SUMMARY:『年忘れ 歌旅のど自慢全員集合』in 円山夜想
DESCRIPTION:『年忘れ 歌旅のど自慢全員集合』in 円山夜想 \n開場 13:30／開演14:00\n料金: 2000円 \n※本ライブは札幌市文化芸術活動再開支援事業を活用した行事です。\n（ソフトドリンク・酒類のみのご提供/フードの販売はございません） \n  \nご予約(メールのみ／抽選)\nhttps://message.blogcms.jp/livedoor/utatabiza/message\n＊全員に抽選結果をお知らせいたします。
URL:http://marunoku.com/schedule/event/20221204/
END:VEVENT
BEGIN:VEVENT
DTSTART;VALUE=DATE:20221203
DTEND;VALUE=DATE:20221204
DTSTAMP:20260426T013633
CREATED:20220725T094412Z
LAST-MODIFIED:20221115T095836Z
UID:7742-1670025600-1670111999@marunoku.com
SUMMARY:貸切
DESCRIPTION:
URL:http://marunoku.com/schedule/event/20221203/
END:VEVENT
BEGIN:VEVENT
DTSTART;VALUE=DATE:20221202
DTEND;VALUE=DATE:20221203
DTSTAMP:20260426T013633
CREATED:20220924T084439Z
LAST-MODIFIED:20221014T071609Z
UID:7975-1669939200-1670025599@marunoku.com
SUMMARY:山口こうじ レコ発ワンマンライブ 〜悲しきニュースの代わりに〜
DESCRIPTION:山口こうじ レコ発ワンマンライブ\n〜悲しきニュースの代わりに〜 \n19:00 open / 19:30 start\n3000円（ワンドリンク付）
URL:http://marunoku.com/schedule/event/20221202/
END:VEVENT
BEGIN:VEVENT
DTSTART;VALUE=DATE:20221129
DTEND;VALUE=DATE:20221130
DTSTAMP:20260426T013633
CREATED:20220924T084400Z
LAST-MODIFIED:20221013T091834Z
UID:7973-1669680000-1669766399@marunoku.com
SUMMARY:うたのじかん2022   アキオカマサコ | 泉亮
DESCRIPTION:うたのじかん2022 \n19:00 open / 19:30 start\n前売 3000円 / 当日3500円 (＋ドリンク代500円) \n出演\nアキオカマサコ(vo)\n泉亮(vo)\nsupport:福由樹子(pf)\nSEIYA(ba)
URL:http://marunoku.com/schedule/event/20221129/
END:VEVENT
BEGIN:VEVENT
DTSTART;VALUE=DATE:20221128
DTEND;VALUE=DATE:20221129
DTSTAMP:20260426T013633
CREATED:20221021T093652Z
LAST-MODIFIED:20221021T093652Z
UID:8054-1669593600-1669679999@marunoku.com
SUMMARY:休み
DESCRIPTION:
URL:http://marunoku.com/schedule/event/20221128/
END:VEVENT
BEGIN:VEVENT
DTSTART;VALUE=DATE:20221127
DTEND;VALUE=DATE:20221128
DTSTAMP:20260426T013633
CREATED:20220424T054400Z
LAST-MODIFIED:20221021T093551Z
UID:7422-1669507200-1669593599@marunoku.com
SUMMARY:C-Lab 主催 『AYAMi 2ndシングルリリース記念公演『あや音♪響けば福来たる！』
DESCRIPTION:C-Lab 主催\n『AYAMi 2ndシングルリリース記念公演『あや音♪響けば福来たる！』 \n2021年にC-Labよりデビューした\n『シンガーソングライター栄養士』AYAMi\n待望のセカンドシングル発売記念公演 \n19:00 open / 19:30 start\n2000円（＋ドリンク代500円） \n出演：AYAMi/Hide-c. with special band
URL:http://marunoku.com/schedule/event/20221127/
END:VEVENT
BEGIN:VEVENT
DTSTART;VALUE=DATE:20221126
DTEND;VALUE=DATE:20221127
DTSTAMP:20260426T013633
CREATED:20220424T054329Z
LAST-MODIFIED:20220903T084340Z
UID:7420-1669420800-1669507199@marunoku.com
SUMMARY:Bouquet des Tons -poem of the north 8-
DESCRIPTION:Bouquet des Tons -poem of the north 8- \n15:30 open / 16:00 start\n3000円（＋ドリンク代500円） \n出演：Tomomi、伊藤さくら、久保田れな、すずきゆい、鹿野レイ \n__________________________________ \n配信チケット：2500円\n近日公開 \n配信チケットの登録・購入については下記URLよりご確認ください\nhttps://tiget.net/how_to_use \n・TIGET LIVE（ライブ配信）を視聴できるチケットです。\n・チケット購入したご本人のTIGETアカウントのみでご視聴いただけます。\n・第三者にURLを共有されてもご本人以外はご視聴いただけません。\n・本配信は有料配信となっており、一切の権利は主催者が有します。動画サイトなどへの無断転載・共有を行った場合、法的責任に問われる場合がございます。\n・ライブ配信の途中から視聴した場合はその時点からの配信となります。ライブ配信中は巻き戻しての再生はできません。\n・放送後7月2日23:59までの間は「アーカイブ配信」を何度でもご覧いただけます。\n・本ライブは「アーカイブ配信のみのご購入ができません」ので、当日ご覧いただけないお客様も予めご購入ください。 \n____________________________________ \n〜ご来店いただくお客様へ〜\n以下の当店の対策とご協力をご確認くださいますようお願いいたします。 \n●当店の感染予防対策 \n・各ライブ・イベントごとアルコール除菌をいたしております。\n（ドアノブ、テーブル、電気スイッチ、トイレ蛇口等、不特定多数の方が触れる部分）\n・通常の換気は行なっておりますが、ライブ開始前、演者入れ替え時、終了後に\n入口の扉を開け、店内の空気の入れ替えを行なっております。\n・ドリンク提供のグラスは全て使い捨てのプラコップにて対応。\n・座席は1～2mの間隔を確保し、できるだけ対面での着席はご遠慮いただきます。\n・現金での取り扱いをできるだけ減らすため、キャッシュレス決済（Pay Pay）がご利用可能です。\n・ドリンクチケットは全て使い捨てにし、二次接触の予防をいたします。\n・使用機材のマイク、鍵盤などは消毒（アルコール除菌）を行います。\n・スタッフの健康管理、手指のアルコール消毒、マスク着用を義務付けております。\nその他、気が付いたことを行なってまいります。 \n●主催様、演者様、お客様共通項目\n・ご来場時にはマスク等の着用、咳エチケットのご協力をお願いいたします。\n・当日体調のすぐれない方、発熱の恐れのある方、37.5度以上の発熱がある方はご来場をお控えくださいませ。\n（夏季冬季の気温影響、運動後の体温上昇による検温ずれの可能性がありますので入場時の検温は行なっておりません）\n・入口、男女トイレ、楽屋に消毒用のウエットティッシュを設置していますのでご利用ください。\n・うがい用の紙コップを用意しています、ご希望の方はお申し付けくださいませ。\n・「北海道コロナ通知システム」の店舗登録をしています、ご入場の際にご利用ください。\n・会場内でご気分が悪くなりましたら、お気軽にスタッフまでお声がけください。 \nライブ・イベントを楽しく開催できるよう、上記対策のご協力をお願いいたします。\n少しでも皆様の不安が少なくなるようスタッフ一同努めてまいりますので、\nご協力の程、どうぞよろしくお願いいたします。
URL:http://marunoku.com/schedule/event/20221126/
END:VEVENT
END:VCALENDAR