BEGIN:VCALENDAR
VERSION:2.0
PRODID:-//円山夜想 | スケジュール情報 - ECPv6.15.10//NONSGML v1.0//EN
CALSCALE:GREGORIAN
METHOD:PUBLISH
X-ORIGINAL-URL:http://marunoku.com/schedule
X-WR-CALDESC:円山夜想 | スケジュール情報 のイベント
REFRESH-INTERVAL;VALUE=DURATION:PT1H
X-Robots-Tag:noindex
X-PUBLISHED-TTL:PT1H
BEGIN:VTIMEZONE
TZID:Asia/Tokyo
BEGIN:STANDARD
TZOFFSETFROM:+0900
TZOFFSETTO:+0900
TZNAME:JST
DTSTART:20220101T000000
END:STANDARD
END:VTIMEZONE
BEGIN:VEVENT
DTSTART;VALUE=DATE:20230624
DTEND;VALUE=DATE:20230625
DTSTAMP:20260425T111413
CREATED:20230104T091755Z
LAST-MODIFIED:20230624T034707Z
UID:8219-1687564800-1687651199@marunoku.com
SUMMARY:Hooray  - Poem of the north 10 -
DESCRIPTION:Hooray – Poem of the north 10 – \n15:30 open / 16:00 start\n3000円（＋ドリンク代500円） \n出演：鈴音、ひいらぎ繭、久保田れな、鹿野 レイ、すずきゆい、海老沢 茜 \n__________________________________ \n配信チケット：2500円\nhttps://tiget.net/events/240704 \n配信チケットの登録・購入については下記URLよりご確認ください\nhttps://tiget.net/how_to_use \n・TIGET LIVE（ライブ配信）を視聴できるチケットです。\n・チケット購入したご本人のTIGETアカウントのみでご視聴いただけます。\n・第三者にURLを共有されてもご本人以外はご視聴いただけません。\n・本配信は有料配信となっており、一切の権利は主催者が有します。動画サイトなどへの無断転載・共有を行った場合、法的責任に問われる場合がございます。\n・ライブ配信の途中から視聴した場合はその時点からの配信となります。ライブ配信中は巻き戻しての再生はできません。\n・放送後7月1日23:59までの間は「アーカイブ配信」を何度でもご覧いただけます。\n・本ライブは「アーカイブ配信のみのご購入ができません」ので、当日ご覧いただけないお客様も予めご購入ください。 \n____________________________________
URL:http://marunoku.com/schedule/event/20230624/
END:VEVENT
BEGIN:VEVENT
DTSTART;VALUE=DATE:20230623
DTEND;VALUE=DATE:20230624
DTSTAMP:20260425T111413
CREATED:20230210T065740Z
LAST-MODIFIED:20230511T091704Z
UID:8339-1687478400-1687564799@marunoku.com
SUMMARY:クラとアコと須藤さん LIVE
DESCRIPTION:クラとアコと須藤さん LIVE \n19:00 open / 19:30 start\n2500円（ワンドリンク付き） \n出演：\nクラとアコ\n須藤信一郎
URL:http://marunoku.com/schedule/event/20230623/
END:VEVENT
BEGIN:VEVENT
DTSTART;VALUE=DATE:20230619
DTEND;VALUE=DATE:20230620
DTSTAMP:20260425T111413
CREATED:20230509T092933Z
LAST-MODIFIED:20230509T092939Z
UID:8568-1687132800-1687219199@marunoku.com
SUMMARY:休み
DESCRIPTION:
URL:http://marunoku.com/schedule/event/20230619/
END:VEVENT
BEGIN:VEVENT
DTSTART;VALUE=DATE:20230618
DTEND;VALUE=DATE:20230619
DTSTAMP:20260425T111413
CREATED:20230315T091738Z
LAST-MODIFIED:20230618T032820Z
UID:8426-1687046400-1687132799@marunoku.com
SUMMARY:しかけ 音のおもちゃ箱ライブ＆配信
DESCRIPTION:17:00 open / 17:30 start\n2500円（＋ドリンク代500円） \n出演：\nしかけ（sax:迫慎也 / key:林佳一郎） \nゲスト：\nNori（gt）
URL:http://marunoku.com/schedule/event/20230618/
END:VEVENT
BEGIN:VEVENT
DTSTART;VALUE=DATE:20230617
DTEND;VALUE=DATE:20230618
DTSTAMP:20260425T111413
CREATED:20230210T065701Z
LAST-MODIFIED:20230509T100552Z
UID:8337-1686960000-1687046399@marunoku.com
SUMMARY:田澤孝介 × 牧田拓磨 Color of Voice Live Tour 2023「Two」DAY2
DESCRIPTION:田澤孝介 × 牧田拓磨\nColor of Voice\nLive Tour 2023「Two」 \n◆1st Stage OPEN 13:30 / START 14:00\n◆2nd Stage OPEN 17:30 / START 18:00 \n入場チケット / 各4500円(税込/ドリンク代別)
URL:http://marunoku.com/schedule/event/20230617/
END:VEVENT
BEGIN:VEVENT
DTSTART;VALUE=DATE:20230616
DTEND;VALUE=DATE:20230617
DTSTAMP:20260425T111413
CREATED:20230210T065627Z
LAST-MODIFIED:20230509T100405Z
UID:8335-1686873600-1686959999@marunoku.com
SUMMARY:田澤孝介 × 牧田拓磨 Color of Voice Live Tour 2023「Two」DAY1
DESCRIPTION:田澤孝介 × 牧田拓磨\nColor of Voice\nLive Tour 2023「Two」 \n◆1st Stage OPEN 14:00 / START 14:30\n◆2nd Stage OPEN 18:30 / START 19:00 \n入場チケット / 各4500円(税込/ドリンク代別)
URL:http://marunoku.com/schedule/event/20230616/
END:VEVENT
BEGIN:VEVENT
DTSTART;VALUE=DATE:20230612
DTEND;VALUE=DATE:20230613
DTSTAMP:20260425T111413
CREATED:20230509T092850Z
LAST-MODIFIED:20230509T092850Z
UID:8566-1686528000-1686614399@marunoku.com
SUMMARY:休み
DESCRIPTION:
URL:http://marunoku.com/schedule/event/20230612/
END:VEVENT
BEGIN:VEVENT
DTSTART;VALUE=DATE:20230611
DTEND;VALUE=DATE:20230612
DTSTAMP:20260425T111413
CREATED:20230315T091657Z
LAST-MODIFIED:20230509T095416Z
UID:8424-1686441600-1686527999@marunoku.com
SUMMARY:近藤智洋・弾き語りワンマンライブ
DESCRIPTION:近藤智洋・弾き語りワンマンライブ \n18:30 open / 19:00 start\n予約：3500円 / 当日：4000円（＋ドリンク代500円） \nチケット予約：mail@kondotomohiro.com\n6/11(日)の昼12時までに（公演日／会場／希望枚数／お名前／ご連絡先）を記載の上、送信してください。\n@kondotomohiro.comからのメールを受信出来るよう設定してください。
URL:http://marunoku.com/schedule/event/20230611/
END:VEVENT
BEGIN:VEVENT
DTSTART;VALUE=DATE:20230610
DTEND;VALUE=DATE:20230611
DTSTAMP:20260425T111413
CREATED:20230104T091703Z
LAST-MODIFIED:20230509T094339Z
UID:8217-1686355200-1686441599@marunoku.com
SUMMARY:磯貝サイモン「Simon’s Little Town 4」北海道公演
DESCRIPTION:磯貝サイモン\n「Simon’s Little Town 4」北海道公演 \n昼公演 13:30 open / 14:00 start\n夜公演 17:30 open / 18:00 start\n全席自由 5500円 (＋ドリンク代500円) \n磯会先行受付(抽選)：4月8日(土)12:00～4月9日(日)23:59\nhttps://eplus.jp/isokai-fc \n一般発売(先着)：4月29日(土)12:00～\nhttps://eplus.jp/simon \nお問い合わせ：円山夜想 (TEL:011-623-0666)
URL:http://marunoku.com/schedule/event/20230610/
END:VEVENT
BEGIN:VEVENT
DTSTART;VALUE=DATE:20230609
DTEND;VALUE=DATE:20230610
DTSTAMP:20260425T111413
CREATED:20230427T082403Z
LAST-MODIFIED:20230509T093602Z
UID:8523-1686268800-1686355199@marunoku.com
SUMMARY:佐々木幸男 LIVE
DESCRIPTION:佐々木幸男 LIVE \n18:00 open / 19:00 start\n5500円（ワンドリンク付き）\n※40名限定 5月2日予約開始 \nお問合せ・ご予約＞\n公演事務局　011-799-4460\nメール　info@livw-active.jp
URL:http://marunoku.com/schedule/event/20230609/
END:VEVENT
BEGIN:VEVENT
DTSTART;VALUE=DATE:20230608
DTEND;VALUE=DATE:20230609
DTSTAMP:20260425T111413
CREATED:20230606T081950Z
LAST-MODIFIED:20230606T081950Z
UID:8631-1686182400-1686268799@marunoku.com
SUMMARY:休み
DESCRIPTION:
URL:http://marunoku.com/schedule/event/20230608/
END:VEVENT
BEGIN:VEVENT
DTSTART;VALUE=DATE:20230605
DTEND;VALUE=DATE:20230606
DTSTAMP:20260425T111413
CREATED:20230509T092810Z
LAST-MODIFIED:20230509T092810Z
UID:8564-1685923200-1686009599@marunoku.com
SUMMARY:休み
DESCRIPTION:
URL:http://marunoku.com/schedule/event/20230605/
END:VEVENT
BEGIN:VEVENT
DTSTART;VALUE=DATE:20230604
DTEND;VALUE=DATE:20230605
DTSTAMP:20260425T111413
CREATED:20230315T091613Z
LAST-MODIFIED:20230508T095043Z
UID:8422-1685836800-1685923199@marunoku.com
SUMMARY:500Lゴヒャクエル vol.39
DESCRIPTION:500Lゴヒャクエル vol.39 \n17:00 open / 17:30 start\n料金：入場無料（振る舞い酒あり！）\n出演：\nThank you sun scene\nあまつぶドロップ\n辻正仁\n前説 kenzzzi
URL:http://marunoku.com/schedule/event/20230604/
END:VEVENT
BEGIN:VEVENT
DTSTART;VALUE=DATE:20230603
DTEND;VALUE=DATE:20230604
DTSTAMP:20260425T111413
CREATED:20230315T091429Z
LAST-MODIFIED:20230418T093139Z
UID:8420-1685750400-1685836799@marunoku.com
SUMMARY:メロウデュワンマンライブ「It's been a while!」
DESCRIPTION:メロウデュワンマンライブ「It’s been a while!」 \n18:00 open / 18:30 start\n前売：4000円 / 当日：4500円（＋ドリンク代500円）\n予約フォーム：https://ws.formzu.net/dist/S241671676/ \n出演：メロウデュ（support bass:よっちゃん）
URL:http://marunoku.com/schedule/event/20230603/
END:VEVENT
BEGIN:VEVENT
DTSTART;VALUE=DATE:20230602
DTEND;VALUE=DATE:20230603
DTSTAMP:20260425T111413
CREATED:20230427T082309Z
LAST-MODIFIED:20230522T092346Z
UID:8521-1685664000-1685750399@marunoku.com
SUMMARY:クラとアコとクラとカホン
DESCRIPTION:クラとアコとクラとカホン \n19:00 open / 20:00 start\n2500円（ワンドリンク付き） \n出演：\nクラとアコ\n池尻健（クラリネット）\n山口沙苗（アコーディオン） \nゲスト\n矢城睦（カホン）\n小川史明（クラリネット）
URL:http://marunoku.com/schedule/event/20230602/
END:VEVENT
BEGIN:VEVENT
DTSTART;VALUE=DATE:20230529
DTEND;VALUE=DATE:20230530
DTSTAMP:20260425T111413
CREATED:20230412T092449Z
LAST-MODIFIED:20230412T092449Z
UID:8481-1685318400-1685404799@marunoku.com
SUMMARY:休み
DESCRIPTION:
URL:http://marunoku.com/schedule/event/20230529/
END:VEVENT
BEGIN:VEVENT
DTSTART;VALUE=DATE:20230527
DTEND;VALUE=DATE:20230528
DTSTAMP:20260425T111413
CREATED:20230104T091624Z
LAST-MODIFIED:20230511T092413Z
UID:8215-1685145600-1685231999@marunoku.com
SUMMARY:echo in the universe -poem of the north 9-
DESCRIPTION:『echo in the universe -poem of the north 9-』 \n17:30 open / 18:00 start\n3000円（＋ドリンク代500円） \n出演：\nJUN、松岡里果、清野あやね、久保田れな \n__________________________________ \n配信チケット：2500円\nhttps://tiget.net/events/234839 \n配信チケットの登録・購入については下記URLよりご確認ください\nhttps://tiget.net/how_to_use \n・TIGET LIVE（ライブ配信）を視聴できるチケットです。\n・チケット購入したご本人のTIGETアカウントのみでご視聴いただけます。\n・第三者にURLを共有されてもご本人以外はご視聴いただけません。\n・本配信は有料配信となっており、一切の権利は主催者が有します。動画サイトなどへの無断転載・共有を行った場合、法的責任に問われる場合がございます。\n・ライブ配信の途中から視聴した場合はその時点からの配信となります。ライブ配信中は巻き戻しての再生はできません。\n・放送後6月3日23:59までの間は「アーカイブ配信」を何度でもご覧いただけます。\n・本ライブは「アーカイブ配信のみのご購入ができません」ので、当日ご覧いただけないお客様も予めご購入ください。 \n____________________________________
URL:http://marunoku.com/schedule/event/20230527/
END:VEVENT
BEGIN:VEVENT
DTSTART;VALUE=DATE:20230523
DTEND;VALUE=DATE:20230524
DTSTAMP:20260425T111413
CREATED:20230113T084447Z
LAST-MODIFIED:20230522T073146Z
UID:8269-1684800000-1684886399@marunoku.com
SUMMARY:行っちゃうよ！シャンシャンシャンソンショー DXツアー！
DESCRIPTION:行っちゃうよ！シャンシャンシャンソンショー DXツアー！ \n昼の部）　　14:30 open / 15:00 start\n夜の部）　　18:30 open / 19:00 start\n料金：4800円（＋ドリンク代500円）\n※夜の部は完売いたしました。 \n出演：\n福間むつみ/NAOMI/内田春菊/右近健一\n平岡健一（key.）\n土田祐生（per.） \n \n  \n 
URL:http://marunoku.com/schedule/event/20230523/
END:VEVENT
BEGIN:VEVENT
DTSTART;VALUE=DATE:20230522
DTEND;VALUE=DATE:20230523
DTSTAMP:20260425T111413
CREATED:20230412T092352Z
LAST-MODIFIED:20230412T092352Z
UID:8479-1684713600-1684799999@marunoku.com
SUMMARY:休み
DESCRIPTION:
URL:http://marunoku.com/schedule/event/20230522/
END:VEVENT
BEGIN:VEVENT
DTSTART;VALUE=DATE:20230521
DTEND;VALUE=DATE:20230522
DTSTAMP:20260425T111413
CREATED:20230315T091255Z
LAST-MODIFIED:20230521T075646Z
UID:8416-1684627200-1684713599@marunoku.com
SUMMARY:初芝崇史　2023 LIVE TOUR HARUTABI vol.4
DESCRIPTION:初芝崇史　2023 LIVE TOUR HARUTABI vol.4 \n17:30 open / 18:00 start\n4000円 （＋ドリンク代500円） \nチケット予約/お問い合わせは下記アドレスまで \nmail@takashihatsushiba.com\n◯会場　◯氏名　◯人数　◯連絡先メールアドレス　◯備考、を明記の上メールを送りください。 \n【主催】Wind Wing Music
URL:http://marunoku.com/schedule/event/20230521/
END:VEVENT
BEGIN:VEVENT
DTSTART;VALUE=DATE:20230520
DTEND;VALUE=DATE:20230521
DTSTAMP:20260425T111413
CREATED:20230315T091223Z
LAST-MODIFIED:20230504T043042Z
UID:8414-1684540800-1684627199@marunoku.com
SUMMARY:TACO Live at 円山夜想
DESCRIPTION:TACO Live at 円山夜想 \n19:00 open / 19:30 start\n2000円（ワンドリンク付き） \n出演：\nTACO \nオープニングアクト：\n中田靖大、Eri
URL:http://marunoku.com/schedule/event/20230520/
END:VEVENT
BEGIN:VEVENT
DTSTART;VALUE=DATE:20230519
DTEND;VALUE=DATE:20230520
DTSTAMP:20260425T111413
CREATED:20230315T091144Z
LAST-MODIFIED:20230508T094531Z
UID:8412-1684454400-1684540799@marunoku.com
SUMMARY:しかけ　音のおもちゃ箱ライブ＆配信
DESCRIPTION:しかけ　音のおもちゃ箱ライブ＆配信 \n\n19:30 open / 20:00 start\n2500円（＋ドリンク代500円） \n出演：\nしかけ（sax:迫慎也 / key:林佳一郎） \nゲスト：\n佐々木遥（vo）
URL:http://marunoku.com/schedule/event/20230519/
END:VEVENT
BEGIN:VEVENT
DTSTART;VALUE=DATE:20230515
DTEND;VALUE=DATE:20230516
DTSTAMP:20260425T111413
CREATED:20230412T092248Z
LAST-MODIFIED:20230412T092248Z
UID:8477-1684108800-1684195199@marunoku.com
SUMMARY:休み
DESCRIPTION:
URL:http://marunoku.com/schedule/event/20230515/
END:VEVENT
BEGIN:VEVENT
DTSTART;VALUE=DATE:20230514
DTEND;VALUE=DATE:20230515
DTSTAMP:20260425T111413
CREATED:20230315T091100Z
LAST-MODIFIED:20230412T091712Z
UID:8410-1684022400-1684108799@marunoku.com
SUMMARY:ランタンナイトvol.40　蔡忠浩
DESCRIPTION:ランタンナイトvol.40　蔡忠浩 \n昼の部）\n13:30 open / 14:00 start\n夜の部）\n17:30 open / 18:00 start \n前売：4000円 / 当日：4500円 （＋ドリンク代500円） \nご予約は以下をご確認ください。 \nお名前（フリガナ）・電話番号・枚数を明記の上、\nメールにて下記アドレスまでお申込みください。\n返信をもって詳細をお知らせいたします。\n※昼・夜公演ご予約希望の場合は、その旨メールにご記載ください。 \n昼の部）\n0514hiru-sai@saikoro7.com \n夜の部）\n0514yoru-sai@saikoro7.com \n【ご案内事項】\n◯座り席のみの販売となります。\n◯チケットの発券はございません。\n◯返信には数日かかる場合がございます。予めご了承ください。\n◯当日は、予約番号順でのご入場となります。整列は開場10分前から行います。\n開場後は、順次、ご案内させて頂きます\n◯メールの受信拒否設定をされている場合、メールが届きません。設定の変更をお願いします。\n◯１週間経ってもメールが届かない場合、再度ご連絡ください。なお、携帯電話のアドレスに返信が届かないことがあります。PCなど別のアドレスをお持ちの方はあわせてご明記ください。\n◯会場内は、飲食時以外、マスク着用とさせていただきます。\n◯入場口にて、検温・消毒を実施いたします。37.5度以上の熱がある方、また、検温拒否される方については、入場をお断りさせていただきます。\n◯公演当日、発熱、咳きこみ等、体調の優れないお客様はご来場をお控え頂きますようお願い申し上げます。\n◯感染症拡大対策については、状況に応じて変更させていただく場合がございます。 \n問い合わせ：SAIKORO info@saikoro7.com
URL:http://marunoku.com/schedule/event/20230514/
END:VEVENT
BEGIN:VEVENT
DTSTART;VALUE=DATE:20230513
DTEND;VALUE=DATE:20230514
DTSTAMP:20260425T111413
CREATED:20230210T065534Z
LAST-MODIFIED:20230427T082035Z
UID:8333-1683936000-1684022399@marunoku.com
SUMMARY:Breaks new ground〜元晴&佐々木梨子サックスバトル〜(新境地を開く)
DESCRIPTION:﻿ \nBreaks new ground〜元晴&佐々木梨子サックスバトル〜(新境地を開く) \n18:30 open / 19:00 start\n前売：3000円 / 当日：3500円（＋ドリンク代500円） \n予約フォーム：\nhttps://marunoku.com/schedule/contact/\nTel 011-623-0666(20:00〜24:00) \n出演：\n元晴(Saxophone)\n佐々木梨子(Alto saxophone)\n大山賢司(Drum)\n青木務(Bass) \nお問合せ\nMORROW\nTel 011-532-8044\ninfo@tonecatz.net
URL:http://marunoku.com/schedule/event/20230513/
END:VEVENT
BEGIN:VEVENT
DTSTART;VALUE=DATE:20230508
DTEND;VALUE=DATE:20230509
DTSTAMP:20260425T111413
CREATED:20230412T092139Z
LAST-MODIFIED:20230412T092139Z
UID:8475-1683504000-1683590399@marunoku.com
SUMMARY:休み
DESCRIPTION:
URL:http://marunoku.com/schedule/event/20230508/
END:VEVENT
BEGIN:VEVENT
DTSTART;VALUE=DATE:20230506
DTEND;VALUE=DATE:20230507
DTSTAMP:20260425T111413
CREATED:20230210T065454Z
LAST-MODIFIED:20230302T085914Z
UID:8331-1683331200-1683417599@marunoku.com
SUMMARY:坂本サトル　弾き語りツアー2023「30年後のひとり」
DESCRIPTION:坂本サトル　弾き語りツアー2023「30年後のひとり」 \n17:30 open / 18:00 start\n前売:4500円 / 当日:5000円（＋ドリンク代500円）\n※全席自由 \nチケットは3/6よりイープラスにて販売\nhttps://eplus.jp/
URL:http://marunoku.com/schedule/event/20230506/
END:VEVENT
BEGIN:VEVENT
DTSTART;VALUE=DATE:20230505
DTEND;VALUE=DATE:20230506
DTSTAMP:20260425T111413
CREATED:20230210T065422Z
LAST-MODIFIED:20230418T084242Z
UID:8329-1683244800-1683331199@marunoku.com
SUMMARY:MIND TRAFFIC JAM TOUR × Spinning Song   岩崎有季 | 蝦名摩守俊 | メロウデュ
DESCRIPTION:MIND TRAFFIC JAM TOUR × Spinning Song \n18:00 open / 18:30 start\n前売：3500円 / 当日：4000円（＋ドリンク代500円） \n※ご予約フォーム\nhttps://ws.formzu.net/dist/S157094737/ \n出演：岩崎有季、蝦名摩守俊、メロウデュ
URL:http://marunoku.com/schedule/event/20230505/
END:VEVENT
BEGIN:VEVENT
DTSTART;VALUE=DATE:20230504
DTEND;VALUE=DATE:20230505
DTSTAMP:20260425T111413
CREATED:20230412T090422Z
LAST-MODIFIED:20230412T090422Z
UID:8463-1683158400-1683244799@marunoku.com
SUMMARY:nagken booking live　Mick | 近藤佑香 | ナガイケンタロウ
DESCRIPTION:nagken booking live \n18:00 open / 18:30 start\n2500円（＋ドリンク代500円） \n出演：\nMick\n近藤佑香\nナガイケンタロウ
URL:http://marunoku.com/schedule/event/20230504/
END:VEVENT
BEGIN:VEVENT
DTSTART;VALUE=DATE:20230503
DTEND;VALUE=DATE:20230504
DTSTAMP:20260425T111413
CREATED:20230315T091008Z
LAST-MODIFIED:20230412T091942Z
UID:8408-1683072000-1683158399@marunoku.com
SUMMARY:春のトラパラ珍道中 〜北海道編 with kurosawadaisuke〜
DESCRIPTION:春のトラパラ珍道中\n〜北海道編 with kurosawadaisuke〜 \n18:30 open / 19:00 start\n3000円（＋ドリンク代500円） \n出演:\nトランスパランス\nkurosawadaisuke
URL:http://marunoku.com/schedule/event/20230503/
END:VEVENT
END:VCALENDAR