BEGIN:VCALENDAR
VERSION:2.0
PRODID:-//円山夜想 | スケジュール情報 - ECPv6.15.10//NONSGML v1.0//EN
CALSCALE:GREGORIAN
METHOD:PUBLISH
X-WR-CALNAME:円山夜想 | スケジュール情報
X-ORIGINAL-URL:http://marunoku.com/schedule
X-WR-CALDESC:円山夜想 | スケジュール情報 のイベント
REFRESH-INTERVAL;VALUE=DURATION:PT1H
X-Robots-Tag:noindex
X-PUBLISHED-TTL:PT1H
BEGIN:VTIMEZONE
TZID:Asia/Tokyo
BEGIN:STANDARD
TZOFFSETFROM:+0900
TZOFFSETTO:+0900
TZNAME:JST
DTSTART:20230101T000000
END:STANDARD
END:VTIMEZONE
BEGIN:VEVENT
DTSTART;VALUE=DATE:20240715
DTEND;VALUE=DATE:20240716
DTSTAMP:20260424T060523
CREATED:20240527T125449Z
LAST-MODIFIED:20240527T125449Z
UID:9447-1721001600-1721087999@marunoku.com
SUMMARY:夜）TACO
DESCRIPTION:詳細は後日公開
URL:http://marunoku.com/schedule/event/20240715_2/
END:VEVENT
BEGIN:VEVENT
DTSTART;VALUE=DATE:20240715
DTEND;VALUE=DATE:20240716
DTSTAMP:20260424T060523
CREATED:20240527T125320Z
LAST-MODIFIED:20240527T125320Z
UID:9445-1721001600-1721087999@marunoku.com
SUMMARY:昼）アキオカマサコ単独ライブ 【蓮始めて開く】
DESCRIPTION:アキオカマサコ単独ライブ\n【蓮始めて開く】 \n12:30 open / 13:00 start\n予約 4000円 / 当日 4500円（ドリンク別）
URL:http://marunoku.com/schedule/event/20240715/
END:VEVENT
BEGIN:VEVENT
DTSTART;VALUE=DATE:20240714
DTEND;VALUE=DATE:20240715
DTSTAMP:20260424T060523
CREATED:20240311T114243Z
LAST-MODIFIED:20240311T114243Z
UID:9330-1720915200-1721001599@marunoku.com
SUMMARY:昼）ライブ
DESCRIPTION:
URL:http://marunoku.com/schedule/event/20240714/
END:VEVENT
BEGIN:VEVENT
DTSTART;VALUE=DATE:20240713
DTEND;VALUE=DATE:20240714
DTSTAMP:20260424T060523
CREATED:20240311T114148Z
LAST-MODIFIED:20240417T031403Z
UID:9328-1720828800-1720915199@marunoku.com
SUMMARY:山口洋(HEATWAVE)ソロツアー『Highway 60〜61 Revisited』#019
DESCRIPTION:山口洋(HEATWAVE)ソロツアー『Highway 60〜61 Revisited』#019 \n18:30 open / 19:00 start\n前売：5000円+1ドリンク別(当日5500円+1ドリンク別)\n全席自由\n*入場整理番号なし。ご来場順でのご案内となります。 \nご予約の受付は4/21(日) 12:00より開始です。 \n予約フォーム\nhttp://marunoku.com/schedule/contact/
URL:http://marunoku.com/schedule/event/20240713/
END:VEVENT
BEGIN:VEVENT
DTSTART;VALUE=DATE:20240707
DTEND;VALUE=DATE:20240708
DTSTAMP:20260424T060523
CREATED:20240311T114054Z
LAST-MODIFIED:20240407T063023Z
UID:9326-1720310400-1720396799@marunoku.com
SUMMARY:堀秀彰＋井上陽介Duo “Time Of Wonders 発売記念コンサートツアー2024”
DESCRIPTION:堀秀彰＋井上陽介Duo\n“Time Of Wonders 発売記念コンサートツアー2024” \nOPEN 18:30  START 19:00\n前売り4000円　当日4500円　(共に別途ドリンクオーダー) \n※小学生以下入場無料\nチケット予約は円山夜想、又はMORROWまで\n◎MORROW ：011-532-8044   tonecatz@yahoo.co.jp
URL:http://marunoku.com/schedule/event/20240707/
END:VEVENT
BEGIN:VEVENT
DTSTART;VALUE=DATE:20240706
DTEND;VALUE=DATE:20240707
DTSTAMP:20260424T060523
CREATED:20240311T113911Z
LAST-MODIFIED:20240311T113940Z
UID:9323-1720224000-1720310399@marunoku.com
SUMMARY:柳沢二三男/内山敬太(ケイタク)　なまらよかーニバル in 札幌
DESCRIPTION:なまらよかーニバル in 札幌 \n開場18:30/開演19:00\n予約4000円/当日4500円(税込/全自由/別途1ドリンクオーダー) \n出演:柳沢二三男/内山敬太(ケイタク) \nチケット予約：\nhttps://tiget.net/events/304095 \n【注意事項】\n・今後の社会情勢に応じて公演内容など変更となる可能性がございます。\n・発熱など体調不良のお客様の入場はご遠慮ください。\n・入場整列は開場時間10分前から、来場順でのご入場です。\n・入場後は、ご自身の席以外の座席確保など場所取りなどはなさらないようにお願いいたします。\n・当日はカメラ・携帯電話等による撮影録音など行為は禁止です。会場内では電源をお切りください。\n・当日はスタッフの指示に従ってください。スタッフの指示に従って頂けない場合は、お帰り頂くことがあります。\n・会場周辺では近隣のマンション、店舗の迷惑になりますので出待ち・入待ち、また入場整列時のおしゃべりなどご遠慮ください。
URL:http://marunoku.com/schedule/event/20240706/
END:VEVENT
BEGIN:VEVENT
DTSTART;VALUE=DATE:20240629
DTEND;VALUE=DATE:20240630
DTSTAMP:20260424T060523
CREATED:20231205T204232Z
LAST-MODIFIED:20240311T105644Z
UID:9147-1719619200-1719705599@marunoku.com
SUMMARY:蝦名 摩守俊 SOLO LIVE A night to reminisce about anthology. ”SEED” AND OTHER + 1
DESCRIPTION:蝦名 摩守俊 SOLO LIVE\nA night to reminisce about anthology.\n”SEED” AND OTHER + 1 \n18:30 open / 19:00 start\n3500円(＋ドリンク代500円) \n出演：\n蝦名摩守俊(vocal\,guitar\,piano)
URL:http://marunoku.com/schedule/event/20240629/
END:VEVENT
BEGIN:VEVENT
DTSTART;VALUE=DATE:20240623
DTEND;VALUE=DATE:20240624
DTSTAMP:20260424T060523
CREATED:20231205T204136Z
LAST-MODIFIED:20240311T113420Z
UID:9145-1719100800-1719187199@marunoku.com
SUMMARY:貸切
DESCRIPTION:
URL:http://marunoku.com/schedule/event/20240623/
END:VEVENT
BEGIN:VEVENT
DTSTART;VALUE=DATE:20240622
DTEND;VALUE=DATE:20240623
DTSTAMP:20260424T060523
CREATED:20230914T115107Z
LAST-MODIFIED:20240527T124708Z
UID:8969-1719014400-1719100799@marunoku.com
SUMMARY:cheerful fusion – Poem of the north 13 –
DESCRIPTION:cheerful fusion – Poem of the north 13 – \n16:00 open / 16:30 start\n3000円（ドリンク別） \n出演：久保田れな、鹿野レイ、海老沢茜、小野亜里沙 、すずきゆい
URL:http://marunoku.com/schedule/event/20240622/
END:VEVENT
BEGIN:VEVENT
DTSTART;VALUE=DATE:20240615
DTEND;VALUE=DATE:20240616
DTSTAMP:20260424T060523
CREATED:20240527T123720Z
LAST-MODIFIED:20240527T123807Z
UID:9435-1718409600-1718495999@marunoku.com
SUMMARY:昼）T2 、MASAKO
DESCRIPTION:T2 、MASAKO \n13:00 open / 13:30 start\n予約 3000円 / 当日 3500円（ドリンク別） \n出演：T2 、MASAKO
URL:http://marunoku.com/schedule/event/20240615/
END:VEVENT
BEGIN:VEVENT
DTSTART;VALUE=DATE:20240615
DTEND;VALUE=DATE:20240616
DTSTAMP:20260424T060523
CREATED:20240527T124216Z
LAST-MODIFIED:20240527T124216Z
UID:9439-1718409600-1718495999@marunoku.com
SUMMARY:夜）ソフトと野球とコミュ障と。　真夜中のサーカス
DESCRIPTION:ソフトと野球とコミュ障と。 \n19:00 open / 19:30 start\n2000円（ドリンク別） \n出演：\n真夜中のサーカス\n辻正仁\nThank you sun scene
URL:http://marunoku.com/schedule/event/20240615_2/
END:VEVENT
BEGIN:VEVENT
DTSTART;VALUE=DATE:20240609
DTEND;VALUE=DATE:20240610
DTSTAMP:20260424T060523
CREATED:20240311T113036Z
LAST-MODIFIED:20240527T123159Z
UID:9320-1717891200-1717977599@marunoku.com
SUMMARY:夜）すずき一平 ソロライブ in 札幌
DESCRIPTION:すずき一平 ソロライブ in 札幌\n\n17:45 open / 18:15 start\n5500円（税込・1drink付）全席自由\nお問合せ・ご予約＞公演事務局　011-799-4460\nメール　info@live-active.jp
URL:http://marunoku.com/schedule/event/20240609_2/
END:VEVENT
BEGIN:VEVENT
DTSTART;VALUE=DATE:20240609
DTEND;VALUE=DATE:20240610
DTSTAMP:20260424T060523
CREATED:20231205T204028Z
LAST-MODIFIED:20240527T122553Z
UID:9143-1717891200-1717977599@marunoku.com
SUMMARY:昼）真昼の月
DESCRIPTION:真昼の月 \n12:30 open / 13:00 start\n2000円（要ドリンクオーダー） \n出演：\n深見順也\nKazue\n渡辺隆幸
URL:http://marunoku.com/schedule/event/20240609/
END:VEVENT
BEGIN:VEVENT
DTSTART;VALUE=DATE:20240608
DTEND;VALUE=DATE:20240609
DTSTAMP:20260424T060523
CREATED:20231205T203943Z
LAST-MODIFIED:20240527T122112Z
UID:9141-1717804800-1717891199@marunoku.com
SUMMARY:佐々木幸男 Live
DESCRIPTION:佐々木幸男 Live \n18:00 open / 18:30 start\n5500円（ワンドリンク付） \n予約・お問合せ＞公演事務局011-799-4460\n　　　　　　　　　　　　 info@live-active.jp
URL:http://marunoku.com/schedule/event/20240608/
END:VEVENT
BEGIN:VEVENT
DTSTART;VALUE=DATE:20240602
DTEND;VALUE=DATE:20240603
DTSTAMP:20260424T060523
CREATED:20240311T113021Z
LAST-MODIFIED:20240311T112916Z
UID:9274-1717286400-1717372799@marunoku.com
SUMMARY:リクオ『リアル』発売記念ツアー 〜北海道編
DESCRIPTION:リクオ『リアル』発売記念ツアー 〜北海道編 \nOpen 17:30  / Start 18:00\n予約：4000円 / 当日：4500円(＋ドリンク代500円)  \nチケット予約 https://marunoku.com/schedule/contact/ \nーーーーーーー\n☆ツアー問合せ\nMORROW Tel 011-532-8044 / tonecatz@yahoo.co.jp
URL:http://marunoku.com/schedule/event/20240602/
END:VEVENT
BEGIN:VEVENT
DTSTART;VALUE=DATE:20240601
DTEND;VALUE=DATE:20240602
DTSTAMP:20260424T060523
CREATED:20240311T112717Z
LAST-MODIFIED:20240519T080618Z
UID:9316-1717200000-1717286399@marunoku.com
SUMMARY:Door to Dreams -夢を生きる大人達の夜－ライズ・オブ・シンジョー上映会& TERESINA LIVE
DESCRIPTION:Door to Dreams -夢を生きる大人達の夜－\nライズ・オブ・シンジョー上映会& TERESINA LIVE \n17:30 open / 18:00 start\n前売り4000円 / 当日4500円（ワンドリンク付き） \nTERESINA（Vo.）/山野友佳子（Piano）\n短編映画「RISE OF SHINJOE」（Film）\nGlobal Indian Film Festival 2022最優秀短編編集賞\nhttps://giff.co.in/winner-2021/\nSF 特撮映画セレクト・アワード2022上期音楽賞\n– 主題歌「Door to Dreams」 by TERESINA – \nプログラム\n①トークセッション\n札幌出身・世界のアワードに挑戦し続ける映画監督、北御門潤\n世界を駆け巡るピアニスト、山野友佳子札幌から世界へ羽ばたくシンガー、TERESINA \n②短編映画「ライズ・オブ・シンジョー」上映 \n③TERESINA with Yukako Yamano LIVE （1部・2部)
URL:http://marunoku.com/schedule/event/20240601/
END:VEVENT
BEGIN:VEVENT
DTSTART;VALUE=DATE:20240526
DTEND;VALUE=DATE:20240527
DTSTAMP:20260424T060523
CREATED:20230914T115001Z
LAST-MODIFIED:20240311T112549Z
UID:8967-1716681600-1716767999@marunoku.com
SUMMARY:昼）ライブ
DESCRIPTION:
URL:http://marunoku.com/schedule/event/20240526/
END:VEVENT
BEGIN:VEVENT
DTSTART;VALUE=DATE:20240525
DTEND;VALUE=DATE:20240526
DTSTAMP:20260424T060523
CREATED:20231205T203739Z
LAST-MODIFIED:20240502T033500Z
UID:9137-1716595200-1716681599@marunoku.com
SUMMARY:メロウデュ　リアル打楽器世界紀行 vol.3
DESCRIPTION:リアル打楽器世界紀行 vol.3 \n18:00 open / 18:30 start\n前売り4000円 / 当日4500円（＋ドリンク代500円）\n出演：メロウデュ、よっちゃん(Bass) \nご予約:https://ws.formzu.net/dist/S315129357/ \n問い合わせ：\nmelowdeux_live@hotmail.com（メロウデュ事務局）\n011-623-0666（円山夜想）
URL:http://marunoku.com/schedule/event/20240525/
END:VEVENT
BEGIN:VEVENT
DTSTART;VALUE=DATE:20240519
DTEND;VALUE=DATE:20240520
DTSTAMP:20260424T060523
CREATED:20240311T112511Z
LAST-MODIFIED:20240502T032853Z
UID:9313-1716076800-1716163199@marunoku.com
SUMMARY:琳Rie　『大人Deナイト』
DESCRIPTION:『大人Deナイト』 \n18:30 open / 19:00 start\n2500円（＋ドリンク代500円） \n出演：\n琳Rie（vo）\n山下ヤスシ(Pf)\n古館賢治(Gt)\n菊池芳夫(sax)
URL:http://marunoku.com/schedule/event/20240519_2/
END:VEVENT
BEGIN:VEVENT
DTSTART;VALUE=DATE:20240518
DTEND;VALUE=DATE:20240519
DTSTAMP:20260424T060523
CREATED:20240311T100814Z
LAST-MODIFIED:20240311T101039Z
UID:9279-1715990400-1716076799@marunoku.com
SUMMARY:安全地帯 特集 Vol.1 POPS/JAZZ  ティファ、上野浩
DESCRIPTION:安全地帯 特集 Vol.1 POPS/JAZZ \n \n18:30 open / 19:00 start\n3300円（ワンドリンク付き） \n出演：\nティファ(vo)\n上野浩(vo)\n金野俊秀(B)\n古館賢治(Gt)\n山下ヤスシ(Pf)
URL:http://marunoku.com/schedule/event/20240518/
END:VEVENT
BEGIN:VEVENT
DTSTART;VALUE=DATE:20240512
DTEND;VALUE=DATE:20240513
DTSTAMP:20260424T060523
CREATED:20240311T112345Z
LAST-MODIFIED:20240416T030226Z
UID:9309-1715472000-1715558399@marunoku.com
SUMMARY:小澤ちひろ New Album 先行視聴会!プレミアムトーク&ライブ
DESCRIPTION:小澤ちひろ New Album 先行視聴会!プレミアムトーク&ライブ \nOPEN 17:00 / START 17:30\n前売り予約料金 5000円(＋ドリンク代500円)\n当日料金 5500円(＋ドリンク代500円)\n※限定40席（定員になり次第受付終了といたします） \n※ なまら FAN クラブ会員の方は 1000円割引で 4000円で入場可能です。\n(当日受付にてデジタル会員証をご提示ください。)\n※New Album プレミアムオーダーの方は 1000円割引で 4000円で入場可能です。\n(当日受付にて購入時のお名前を確認させていただきます。)\n※18歳以下の方は 1000円割引で 4000円で入場可能です。(身分証明書をお持ちください。)\n※未就学児入場無料。 \nチケット予約フォーム→\nhttps://marunoku.com/schedule/contact/ \nお問い合わせ\n◎MORROW :011-532-8044 tonecatz@yahoo.co.jp
URL:http://marunoku.com/schedule/event/20240512/
END:VEVENT
BEGIN:VEVENT
DTSTART;VALUE=DATE:20240511
DTEND;VALUE=DATE:20240512
DTSTAMP:20260424T060523
CREATED:20240314T110615Z
LAST-MODIFIED:20240502T030944Z
UID:9358-1715385600-1715471999@marunoku.com
SUMMARY:昼）黒田晃年　SOLO LIVE 2024 GOT TO GO
DESCRIPTION:AKITOSHI KURODA\nSOLO LIVE 2024\nGOT TO GO \n出演\n黒田晃年（guitar vocal）\n吳服隆一（key）\n伊藤修平（cello） \nOPEN 13:00 / START13:30\n料金（全席自由 整理番号順入場）\n前売4500円（DRINK別）\n学割2000円（学生証提示）\n※4月12日18時から一般予約スタート
URL:http://marunoku.com/schedule/event/20240511/
END:VEVENT
BEGIN:VEVENT
DTSTART;VALUE=DATE:20240511
DTEND;VALUE=DATE:20240512
DTSTAMP:20260424T060523
CREATED:20231205T203837Z
LAST-MODIFIED:20240314T110918Z
UID:9139-1715385600-1715471999@marunoku.com
SUMMARY:夜）Summy’s Just 60th Live
DESCRIPTION:Summy’s Just 60th Live \n18:30 open / 19:00 start\n2500円（＋ドリンク代500円） \n出演：Summy\nGuest:種市直樹
URL:http://marunoku.com/schedule/event/20240511_2/
END:VEVENT
BEGIN:VEVENT
DTSTART;VALUE=DATE:20240506
DTEND;VALUE=DATE:20240507
DTSTAMP:20260424T060523
CREATED:20240311T111222Z
LAST-MODIFIED:20240311T111222Z
UID:9302-1714953600-1715039999@marunoku.com
SUMMARY:ライブ
DESCRIPTION:
URL:http://marunoku.com/schedule/event/20240506/
END:VEVENT
BEGIN:VEVENT
DTSTART;VALUE=DATE:20240505
DTEND;VALUE=DATE:20240506
DTSTAMP:20260424T060523
CREATED:20240311T111143Z
LAST-MODIFIED:20240418T072920Z
UID:9300-1714867200-1714953599@marunoku.com
SUMMARY:平素満開　Thank you sun scene / よしことかつひこ / 観月. / 辻正仁
DESCRIPTION:平素満開\nOPEN  13:00　START  14:00\n料金:2500円（1ドリンク付）　※別途お食事も可能です\n出演：Thank you sun scene / よしことかつひこ / 観月. / 辻正仁
URL:http://marunoku.com/schedule/event/20240505/
END:VEVENT
BEGIN:VEVENT
DTSTART;VALUE=DATE:20240504
DTEND;VALUE=DATE:20240505
DTSTAMP:20260424T060523
CREATED:20240213T111901Z
LAST-MODIFIED:20240225T072505Z
UID:9251-1714780800-1714867199@marunoku.com
SUMMARY:ウルフルケイスケ MAGICAL CHAIN ひとり SPECIAL at 札幌
DESCRIPTION:​MAGICAL CHAIN ひとり SPECIAL at 札幌\nウルフルケイスケ \nOPEN 18:00 / START 18:30\nチケット料金：予約:4000円 / 当日:4500円\n高校生以下予約・当日:2000円(税込・ともにドリンク代500円)\n＊整理番号順のご入場です。
URL:http://marunoku.com/schedule/event/20240504/
END:VEVENT
BEGIN:VEVENT
DTSTART;VALUE=DATE:20240429
DTEND;VALUE=DATE:20240430
DTSTAMP:20260424T060523
CREATED:20240213T111755Z
LAST-MODIFIED:20240311T111034Z
UID:9249-1714348800-1714435199@marunoku.com
SUMMARY:クラとアコのオープンマイク vol.9
DESCRIPTION:クラとアコのオープンマイク vol.9 \n16:00 open / 16:30 start \n出演者：1500円（ワンドリンク付き）\n 観覧者：1000円（ワンドリンク付き）
URL:http://marunoku.com/schedule/event/20240429/
END:VEVENT
BEGIN:VEVENT
DTSTART;VALUE=DATE:20240428
DTEND;VALUE=DATE:20240429
DTSTAMP:20260424T060523
CREATED:20231205T203531Z
LAST-MODIFIED:20240311T105442Z
UID:9133-1714262400-1714348799@marunoku.com
SUMMARY:蝦名 摩守俊 SOLO LIVE A night to reminisce about anthology. ”WHITE” AND OTHER + 1
DESCRIPTION:蝦名 摩守俊 SOLO LIVE\nA night to reminisce about anthology.\n”WHITE” AND OTHER + 1 \n18:30 open / 19:00 start\n3500円(＋ドリンク代500円) \n出演：\n蝦名摩守俊(vocal\,guitar\,piano)
URL:http://marunoku.com/schedule/event/20240428/
END:VEVENT
BEGIN:VEVENT
DTSTART;VALUE=DATE:20240427
DTEND;VALUE=DATE:20240428
DTSTAMP:20260424T060523
CREATED:20240213T111636Z
LAST-MODIFIED:20240418T072628Z
UID:9245-1714176000-1714262399@marunoku.com
SUMMARY:きむらえみ企画 『秘密の招待状 vol.4』
DESCRIPTION:きむらえみ企画\n『秘密の招待状 vol.4』 \n18:30 open / 19:00 start\n3000円(1Drink + おつまみ付き) \n出演：岡崎公勢、curry、きむらえみ
URL:http://marunoku.com/schedule/event/20240427/
END:VEVENT
BEGIN:VEVENT
DTSTART;VALUE=DATE:20240421
DTEND;VALUE=DATE:20240422
DTSTAMP:20260424T060523
CREATED:20240213T111720Z
LAST-MODIFIED:20240311T104600Z
UID:9247-1713657600-1713743999@marunoku.com
SUMMARY:ハシケンLIVE『ひとつの森』 〈一人で二人会〉in 札幌
DESCRIPTION:ハシケンLIVE『ひとつの森』\n〈一人で二人会〉in 札幌 \nハシケンの今までのうた、新しいうた、\nそして語りの世界をお楽しみください。 \n出演:ハシケン（Vo.G.三線.語り) \n開場18:30 開演19:00\n前売予約3500円　当日4000円\n（共に要1ドリンク別オーダー）
URL:http://marunoku.com/schedule/event/20240421/
END:VEVENT
END:VCALENDAR