BEGIN:VCALENDAR
VERSION:2.0
PRODID:-//円山夜想 | スケジュール情報 - ECPv6.15.10//NONSGML v1.0//EN
CALSCALE:GREGORIAN
METHOD:PUBLISH
X-WR-CALNAME:円山夜想 | スケジュール情報
X-ORIGINAL-URL:http://marunoku.com/schedule
X-WR-CALDESC:円山夜想 | スケジュール情報 のイベント
REFRESH-INTERVAL;VALUE=DURATION:PT1H
X-Robots-Tag:noindex
X-PUBLISHED-TTL:PT1H
BEGIN:VTIMEZONE
TZID:Asia/Tokyo
BEGIN:STANDARD
TZOFFSETFROM:+0900
TZOFFSETTO:+0900
TZNAME:JST
DTSTART:20220101T000000
END:STANDARD
END:VTIMEZONE
BEGIN:VEVENT
DTSTART;VALUE=DATE:20230902
DTEND;VALUE=DATE:20230903
DTSTAMP:20260425T034806
CREATED:20230615T092801Z
LAST-MODIFIED:20230714T050435Z
UID:8683-1693612800-1693699199@marunoku.com
SUMMARY:「peaceful sign」松岡里果 / 高井麻奈由 / 工藤由佳 /  吉野ユウヤ
DESCRIPTION:「peaceful sign」 \n18:30 open / 19:00 start\n3000円（＋ドリンク代500円） \n出演：\n松岡里果/高井麻奈由/工藤由佳\n吉野ユウヤ（Pf）
URL:http://marunoku.com/schedule/event/20230902/
END:VEVENT
BEGIN:VEVENT
DTSTART;VALUE=DATE:20230901
DTEND;VALUE=DATE:20230902
DTSTAMP:20260425T034806
CREATED:20230701T040819Z
LAST-MODIFIED:20230701T041614Z
UID:8722-1693526400-1693612799@marunoku.com
SUMMARY:藤井一彦(THE GROOVERS) THE HIKIGATARI JOURNEY 2023
DESCRIPTION:藤井一彦(THE GROOVERS)\nTHE HIKIGATARI JOURNEY 2023 \n \n【時間】19:00 open / 19:30 start\n【料金】前売り4000円/当日4500円(ドリンク別) \nオープニングアクト：亀岡寛明 \nWeb予約：7月1日正午より開始\n※整理番号順のご入場\nhttps://marunoku.com/schedule/contact/\n【お問い合わせ】円山夜想 011-623-0666 \n※ライブ時はドリンク（アルコール・ソフトドリンク）のみご提供いたします\n＿＿＿＿＿＿＿＿＿＿＿＿＿＿＿＿＿＿＿＿＿＿＿＿\n令和５年３月13日以降、個人の主体的な選択を尊重し、\nマスク着用は個人の判断に委ねることになります。\n本人の意思に反してマスクの着脱を強いることがないよう、\n個人の主体的な判断が尊重されるよう、\nご配慮をお願いします。（厚労省HPより）\n＿＿＿＿＿＿＿＿＿＿＿＿＿＿＿＿＿＿＿＿＿＿＿＿
URL:http://marunoku.com/schedule/event/20230901/
END:VEVENT
BEGIN:VEVENT
DTSTART;VALUE=DATE:20230829
DTEND;VALUE=DATE:20230830
DTSTAMP:20260425T034806
CREATED:20230805T091103Z
LAST-MODIFIED:20230805T091103Z
UID:8797-1693267200-1693353599@marunoku.com
SUMMARY:休み
DESCRIPTION:
URL:http://marunoku.com/schedule/event/20230829/
END:VEVENT
BEGIN:VEVENT
DTSTART;VALUE=DATE:20230828
DTEND;VALUE=DATE:20230829
DTSTAMP:20260425T034806
CREATED:20230805T090652Z
LAST-MODIFIED:20230805T090818Z
UID:8788-1693180800-1693267199@marunoku.com
SUMMARY:吉澤早紀 Birthday LIVE
DESCRIPTION:吉澤早紀 Birthday LIVE \n19:30 open / 20:00 start\n2500円（＋ドリンク代500円） \n出演：\n吉澤吉澤、志村拓也、木村ゆう\n鳴海賢治、古館賢治、齋藤桃子
URL:http://marunoku.com/schedule/event/20230828/
END:VEVENT
BEGIN:VEVENT
DTSTART;VALUE=DATE:20230827
DTEND;VALUE=DATE:20230828
DTSTAMP:20260425T034806
CREATED:20230427T083025Z
LAST-MODIFIED:20230814T065726Z
UID:8537-1693094400-1693180799@marunoku.com
SUMMARY:ukulele live 〜蚤跳ねナイト vol.2〜
DESCRIPTION:ukulele live 〜蚤跳ねナイト vol.2〜 \n17:30 open / 18:00 start\n1500円（＋ドリンク代500円） \n出演：\nウクレレちゃむ\nキクチマコト \nライブを観覧された方で演奏希望者（ウクレレ持参）がありましたら、ライブ後に演奏タイムを設けます（1名10分程度5名限定）当日に入場口の受付でお申し込みください。受付時間は17:30～18:00といたします。
URL:http://marunoku.com/schedule/event/20230827/
END:VEVENT
BEGIN:VEVENT
DTSTART;VALUE=DATE:20230826
DTEND;VALUE=DATE:20230827
DTSTAMP:20260425T034806
CREATED:20230615T092031Z
LAST-MODIFIED:20230728T044738Z
UID:8673-1693008000-1693094399@marunoku.com
SUMMARY:HANCE〜Premium LIVE in Sapporo！〜一夜限りのプレミアムライブ〜
DESCRIPTION:HANCE〜Premium LIVE in Sapporo！〜一夜限りのプレミアムライブ〜 \n \n17:30 open / 18:00 start\n7000円（＋ドリンク代500円） \nチケット購入サイト\nhttps://hance-sapporo.peatix.com/view
URL:http://marunoku.com/schedule/event/20230826/
END:VEVENT
BEGIN:VEVENT
DTSTART;VALUE=DATE:20230825
DTEND;VALUE=DATE:20230826
DTSTAMP:20260425T034806
CREATED:20230113T084634Z
LAST-MODIFIED:20230728T045355Z
UID:8273-1692921600-1693007999@marunoku.com
SUMMARY:cross noise 「ABCから始めよう」
DESCRIPTION:cross noise 「ABCから始めよう」 \n19:00 open / 19:30 start\n1500円（＋ドリンク代500円） \nクロスノイズ \nCross Noise\n2008年結成\n北海道内のライヴハウス、イベント等で演奏活動中。\nジャズ、アストル･ピアソラの楽曲を中心に演奏、\n童謡やコミカルな演奏もこなす、普通では聴かせない\n奇想天外なアコースティックユニット。\nオフィシャルサイト：http://www.crossnoiselive.com \n____________________________________
URL:http://marunoku.com/schedule/event/20230825/
END:VEVENT
BEGIN:VEVENT
DTSTART;VALUE=DATE:20230824
DTEND;VALUE=DATE:20230825
DTSTAMP:20260425T034806
CREATED:20230511T095059Z
LAST-MODIFIED:20230719T083352Z
UID:8603-1692835200-1692921599@marunoku.com
SUMMARY:Ayako Trio　Bossa Nova Live !  Ayako | 古舘賢治 | 金野俊秀
DESCRIPTION:Ayako Trio Bossa Nova Live ! \n \n19:00 open / 19:30 start\n2000円（＋ドリンク代500円） \n出演：\nAyako（vo）\n古舘賢治（gt.vo）\n金野俊秀（wb）
URL:http://marunoku.com/schedule/event/20230824/
END:VEVENT
BEGIN:VEVENT
DTSTART;VALUE=DATE:20230823
DTEND;VALUE=DATE:20230824
DTSTAMP:20260425T034806
CREATED:20230823T074657Z
LAST-MODIFIED:20230823T074912Z
UID:8850-1692748800-1692835199@marunoku.com
SUMMARY:休み（極めて危険な暑さのため）
DESCRIPTION:
URL:http://marunoku.com/schedule/event/20230823/
END:VEVENT
BEGIN:VEVENT
DTSTART;VALUE=DATE:20230821
DTEND;VALUE=DATE:20230822
DTSTAMP:20260425T034806
CREATED:20230805T091023Z
LAST-MODIFIED:20230805T091023Z
UID:8795-1692576000-1692662399@marunoku.com
SUMMARY:休み
DESCRIPTION:
URL:http://marunoku.com/schedule/event/20230821/
END:VEVENT
BEGIN:VEVENT
DTSTART;VALUE=DATE:20230820
DTEND;VALUE=DATE:20230821
DTSTAMP:20260425T034806
CREATED:20230315T092341Z
LAST-MODIFIED:20230727T154643Z
UID:8440-1692489600-1692575999@marunoku.com
SUMMARY:LOVER SOLE  辻正仁 | いしだこーすけ | 夕歌
DESCRIPTION:LOVER SOLE  \n18:30 open / 19:00 start\n2500円（ワンドリンク付き） \n出演：\n辻正仁\nいしだこーすけ\n夕歌
URL:http://marunoku.com/schedule/event/20230820/
END:VEVENT
BEGIN:VEVENT
DTSTART;VALUE=DATE:20230816
DTEND;VALUE=DATE:20230817
DTSTAMP:20260425T034806
CREATED:20230815T030100Z
LAST-MODIFIED:20230815T030100Z
UID:8821-1692144000-1692230399@marunoku.com
SUMMARY:休み
DESCRIPTION:
URL:http://marunoku.com/schedule/event/20230816/
END:VEVENT
BEGIN:VEVENT
DTSTART;VALUE=DATE:20230815
DTEND;VALUE=DATE:20230816
DTSTAMP:20260425T034806
CREATED:20230315T092301Z
LAST-MODIFIED:20230719T082616Z
UID:8438-1692057600-1692143999@marunoku.com
SUMMARY:"ケイタク北海道ツアー" 〜おだってよかろーもん！〜
DESCRIPTION:“ケイタク北海道ツアー”\n〜おだってよかろーもん！〜 \n19:00 open / 19:30 start\n2500円（＋ドリンク代500円） \n出演:\nケイタク\n高井麻奈由\nkurosawadaisuke
URL:http://marunoku.com/schedule/event/20230815/
END:VEVENT
BEGIN:VEVENT
DTSTART;VALUE=DATE:20230814
DTEND;VALUE=DATE:20230815
DTSTAMP:20260425T034806
CREATED:20230805T090942Z
LAST-MODIFIED:20230805T090942Z
UID:8793-1691971200-1692057599@marunoku.com
SUMMARY:休み
DESCRIPTION:
URL:http://marunoku.com/schedule/event/20230814/
END:VEVENT
BEGIN:VEVENT
DTSTART;VALUE=DATE:20230813
DTEND;VALUE=DATE:20230814
DTSTAMP:20260425T034806
CREATED:20230315T092223Z
LAST-MODIFIED:20230712T071713Z
UID:8436-1691884800-1691971199@marunoku.com
SUMMARY:ぱぴ子劇場第4弾「ミライシンワ」 いむいぱぴ子
DESCRIPTION:ぱぴ子劇場第4弾「ミライシンワ」 いむいぱぴ子 \n \n18:30 open / 19:30 start\n3000円（ワンドリンク付き） \n出演：いむいぱぴ子
URL:http://marunoku.com/schedule/event/20230813/
END:VEVENT
BEGIN:VEVENT
DTSTART;VALUE=DATE:20230811
DTEND;VALUE=DATE:20230812
DTSTAMP:20260425T034806
CREATED:20230511T095000Z
LAST-MODIFIED:20230805T085941Z
UID:8601-1691712000-1691798399@marunoku.com
SUMMARY:JUN   黄昏染まりて夏謳ふ
DESCRIPTION:黄昏染まりて夏謳ふ \n18:30 open / 19:00 start\n3500円（＋ドリンク代500円） \n出演：JUN
URL:http://marunoku.com/schedule/event/20230811/
END:VEVENT
BEGIN:VEVENT
DTSTART;VALUE=DATE:20230809
DTEND;VALUE=DATE:20230810
DTSTAMP:20260425T034806
CREATED:20230712T070747Z
LAST-MODIFIED:20230712T070747Z
UID:8751-1691539200-1691625599@marunoku.com
SUMMARY:休み
DESCRIPTION:
URL:http://marunoku.com/schedule/event/20230809/
END:VEVENT
BEGIN:VEVENT
DTSTART;VALUE=DATE:20230807
DTEND;VALUE=DATE:20230808
DTSTAMP:20260425T034806
CREATED:20230805T090902Z
LAST-MODIFIED:20230805T090902Z
UID:8791-1691366400-1691452799@marunoku.com
SUMMARY:休み
DESCRIPTION:
URL:http://marunoku.com/schedule/event/20230807/
END:VEVENT
BEGIN:VEVENT
DTSTART;VALUE=DATE:20230806
DTEND;VALUE=DATE:20230807
DTSTAMP:20260425T034806
CREATED:20230712T070701Z
LAST-MODIFIED:20230728T045708Z
UID:8749-1691280000-1691366399@marunoku.com
SUMMARY:しかけ 音のおもちゃ箱ライブ
DESCRIPTION:しかけ 音のおもちゃ箱ライブ \n17:00 open / 17:30 start\n2500円（＋ドリンク代500円）
URL:http://marunoku.com/schedule/event/20230806/
END:VEVENT
BEGIN:VEVENT
DTSTART;VALUE=DATE:20230805
DTEND;VALUE=DATE:20230806
DTSTAMP:20260425T034806
CREATED:20230315T092142Z
LAST-MODIFIED:20230712T070538Z
UID:8434-1691193600-1691279999@marunoku.com
SUMMARY:ハシケン×蝦名摩守俊 「夜想月想」
DESCRIPTION:ハシケン×蝦名摩守俊 「夜想月想」 \n \n19:00 open / 19:30 start\n3500円（＋ドリンク代500円） \n出演：\nハシケン\n蝦名摩守俊
URL:http://marunoku.com/schedule/event/20230805/
END:VEVENT
BEGIN:VEVENT
DTSTART;VALUE=DATE:20230804
DTEND;VALUE=DATE:20230805
DTSTAMP:20260425T034806
CREATED:20230712T070146Z
LAST-MODIFIED:20230727T114535Z
UID:8744-1691107200-1691193599@marunoku.com
SUMMARY:Harps & Dulcimer LIVE  田中麻里 | 千葉智寿 | 小松崎健
DESCRIPTION:Harps & Dulcimer LIVE  \n18:30 open / 19:00 start\n3000円（＋ドリンク代500円） \n出演；\n田中麻里（アイリッシュハープ）\n千葉智寿（ハーモニカ）\n小松崎健（ハンマーダルシマー）
URL:http://marunoku.com/schedule/event/20230804/
END:VEVENT
BEGIN:VEVENT
DTSTART;VALUE=DATE:20230802
DTEND;VALUE=DATE:20230803
DTSTAMP:20260425T034806
CREATED:20230613T074831Z
LAST-MODIFIED:20230613T074850Z
UID:8669-1690934400-1691020799@marunoku.com
SUMMARY:田中彬博 × 浜田隆史 アコースティックギターライブ
DESCRIPTION:田中彬博 × 浜田隆史 アコースティックギターライブ \n18:30 open ／ 19:00 start\n3000円（＋ドリンク代500円）
URL:http://marunoku.com/schedule/event/20230802/
END:VEVENT
BEGIN:VEVENT
DTSTART;VALUE=DATE:20230731
DTEND;VALUE=DATE:20230801
DTSTAMP:20260425T034806
CREATED:20230610T035241Z
LAST-MODIFIED:20230610T035241Z
UID:8667-1690761600-1690847999@marunoku.com
SUMMARY:休み
DESCRIPTION:
URL:http://marunoku.com/schedule/event/20230731/
END:VEVENT
BEGIN:VEVENT
DTSTART;VALUE=DATE:20230730
DTEND;VALUE=DATE:20230731
DTSTAMP:20260425T034806
CREATED:20230418T093628Z
LAST-MODIFIED:20230610T034348Z
UID:8503-1690675200-1690761599@marunoku.com
SUMMARY:Vivre en Juillet 〜Troispocket〜　種市直樹 | 西岡俊明 | 杉田知子
DESCRIPTION:Vivre en juillet 〜TROISPOCKET〜 \n18:00 open / 18:30 start\n3000円（＋ドリンク代500円） \n出演：\n種市直樹 (Vocal&Guitar)\n西岡俊明 (Guitar.etc)\n杉田知子 (Violin)
URL:http://marunoku.com/schedule/event/20230730/
END:VEVENT
BEGIN:VEVENT
DTSTART;VALUE=DATE:20230729
DTEND;VALUE=DATE:20230730
DTSTAMP:20260425T034806
CREATED:20230113T084548Z
LAST-MODIFIED:20230428T082650Z
UID:8271-1690588800-1690675199@marunoku.com
SUMMARY:斎藤誠 40周年ライブ Vol.7 "BIG LOVE ネブラスカ 2023"
DESCRIPTION:斎藤誠40周年ライブ Vol.7 “BIG LOVE ネブラスカ 2023”  \n16:30 open / 17:00 start\n5500円（＋ドリンク代500円）\n※全席自由\n※入場整理番号付き \nチケット発売：2023年4月29日（土）10:00～\nhttps://wess.jp/saito_m/ \nお問い合わせ　　　\nWESS  info@wess.co.jp \n \n斎藤誠（サイトウマコト） \n■シンガーソングライター／プロデューサー／ギタリスト\n■生年月日：1958.1.3     ■出身地：東京都 ■血液型：A型 \n1980年 青山学院在学中より音楽活動スタート。\n1983年 デビューアルバム「LA-LA-LU」をリリース。\n以来シンガーソングライターとして、シングル15枚・ベスト盤を含むアルバム13枚をリリース。\n現在は、サザンオールスターズ・桑田佳祐のサポートギタリストとしても活動。\nそして、自身で「ネブラスカ」と称した弾き語りライブや、マーティン社とのコラボレーションイベント「Rebirth Tour」に参加するなどライブ活動を精力的にこなす。
URL:http://marunoku.com/schedule/event/20230729/
END:VEVENT
BEGIN:VEVENT
DTSTART;VALUE=DATE:20230728
DTEND;VALUE=DATE:20230729
DTSTAMP:20260425T034806
CREATED:20230418T093540Z
LAST-MODIFIED:20230508T090856Z
UID:8501-1690502400-1690588799@marunoku.com
SUMMARY:うじき＆リクオ　フォーエバー・ヤング・ツアー 北海道編
DESCRIPTION:うじき＆リクオ　フォーエバー・ヤング・ツアー 北海道編 \n19:00 open / 19:30 start\n予約：4500円 / 当日：5000円（＋ドリンク代500円）
URL:http://marunoku.com/schedule/event/20230728/
END:VEVENT
BEGIN:VEVENT
DTSTART;VALUE=DATE:20230724
DTEND;VALUE=DATE:20230725
DTSTAMP:20260425T034806
CREATED:20230610T035202Z
LAST-MODIFIED:20230610T035202Z
UID:8665-1690156800-1690243199@marunoku.com
SUMMARY:休み
DESCRIPTION:
URL:http://marunoku.com/schedule/event/20230724/
END:VEVENT
BEGIN:VEVENT
DTSTART;VALUE=DATE:20230723
DTEND;VALUE=DATE:20230724
DTSTAMP:20260425T034806
CREATED:20230427T082921Z
LAST-MODIFIED:20230524T091537Z
UID:8535-1690070400-1690156799@marunoku.com
SUMMARY:宮井紀行　全国弾き語りLIVE TOUR 2023 CHANGE〜昨日に手を振って　明日に飛び込め〜
DESCRIPTION:宮井紀行　全国弾き語りLIVE TOUR 2023 CHANGE〜昨日に手を振って　明日に飛び込め〜 \n18:30 open / 19:00 start\n予約：3000円 / 当日：3500円（ワンドリンク付き）\nご予約は当店または、以下のメールアドレスまでお願いいたします。\ninfo@studio381.live（Studio381） \n \n  \n  \n  \n  \n  \n  \n  \n  \n 
URL:http://marunoku.com/schedule/event/20230723/
END:VEVENT
BEGIN:VEVENT
DTSTART;VALUE=DATE:20230722
DTEND;VALUE=DATE:20230723
DTSTAMP:20260425T034806
CREATED:20230104T092017Z
LAST-MODIFIED:20230610T032936Z
UID:8225-1689984000-1690070399@marunoku.com
SUMMARY:『High Tide』– Poem of the north 11 –
DESCRIPTION:『High Tide』– Poem of the north 11 – \n16:00 open / 16:30 start\n3000円（＋ドリンク代500円） \n出演：JUN、山田祥子、Siesha、伊藤さくら、生田瑚桃、増田桜美
URL:http://marunoku.com/schedule/event/20230722/
END:VEVENT
BEGIN:VEVENT
DTSTART;VALUE=DATE:20230721
DTEND;VALUE=DATE:20230722
DTSTAMP:20260425T034806
CREATED:20230315T092037Z
LAST-MODIFIED:20230719T081956Z
UID:8432-1689897600-1689983999@marunoku.com
SUMMARY:小野塚晃×川崎哲平×メロウデュ Super LIVE! (Day1)
DESCRIPTION:小野塚晃×川崎哲平×メロウデュ Super LIVE! (Day1) \n18:30 open / 19:00 start\n前売：5000円 / 当日：5500円（＋ドリンク代500円） \n出演：\n小野塚晃(Key)\n川崎哲平(Bass)\nメロウデュ\nかおり(Key)\,Yagi-chang(Drums) \nご予約フォーム：https://ws.formzu.net/dist/S221792150/\n問い合わせ：melowdeux_live@hotmail.com（メロウデュ事務局） \n  \n 
URL:http://marunoku.com/schedule/event/20230721/
END:VEVENT
END:VCALENDAR