BEGIN:VCALENDAR
VERSION:2.0
PRODID:-//円山夜想 | スケジュール情報 - ECPv6.15.10//NONSGML v1.0//EN
CALSCALE:GREGORIAN
METHOD:PUBLISH
X-ORIGINAL-URL:http://marunoku.com/schedule
X-WR-CALDESC:円山夜想 | スケジュール情報 のイベント
REFRESH-INTERVAL;VALUE=DURATION:PT1H
X-Robots-Tag:noindex
X-PUBLISHED-TTL:PT1H
BEGIN:VTIMEZONE
TZID:Asia/Tokyo
BEGIN:STANDARD
TZOFFSETFROM:+0900
TZOFFSETTO:+0900
TZNAME:JST
DTSTART:20220101T000000
END:STANDARD
END:VTIMEZONE
BEGIN:VEVENT
DTSTART;VALUE=DATE:20231120
DTEND;VALUE=DATE:20231121
DTSTAMP:20260424T200331
CREATED:20231004T080012Z
LAST-MODIFIED:20231004T080012Z
UID:9008-1700438400-1700524799@marunoku.com
SUMMARY:休み
DESCRIPTION:
URL:http://marunoku.com/schedule/event/20231120/
END:VEVENT
BEGIN:VEVENT
DTSTART;VALUE=DATE:20231119
DTEND;VALUE=DATE:20231120
DTSTAMP:20260424T200331
CREATED:20230914T113733Z
LAST-MODIFIED:20231017T054254Z
UID:8937-1700352000-1700438399@marunoku.com
SUMMARY:つむぎゆい　アキオカマサコ | 堀下さゆり
DESCRIPTION:つむぎゆい \n18:00 open / 18:30 start\n予約：3800円 / 当日：4000円（＋ドリンク代500円） \n出演：アキオカマサコ、堀下さゆり
URL:http://marunoku.com/schedule/event/20231119/
END:VEVENT
BEGIN:VEVENT
DTSTART;VALUE=DATE:20231118
DTEND;VALUE=DATE:20231119
DTSTAMP:20260424T200331
CREATED:20230530T074314Z
LAST-MODIFIED:20231004T080800Z
UID:8621-1700265600-1700351999@marunoku.com
SUMMARY:“my funny hitchhiker・アコースティック・ワンマン”
DESCRIPTION:“my funny hitchhiker・アコースティック・ワンマン” \n18:30 open / 19:00 start\n予約：4500円 / 当日：5000円（＋ドリンク代500円） \n出演：my funny hitchhiker
URL:http://marunoku.com/schedule/event/20231118/
END:VEVENT
BEGIN:VEVENT
DTSTART;VALUE=DATE:20231117
DTEND;VALUE=DATE:20231118
DTSTAMP:20260424T200331
CREATED:20230914T113701Z
LAST-MODIFIED:20231026T040552Z
UID:8935-1700179200-1700265599@marunoku.com
SUMMARY:松瀬一昭  北海道ツアー2023@札幌
DESCRIPTION:松瀬一昭  北海道ツアー2023@札幌 \n19:00 open / 19:30 start\n予約：3500円 / 当日：4000円（＋ドリンク代500円）\n■チケット\n☆メール予約\nhttps://massekirin.wixsite.com/ties/contact
URL:http://marunoku.com/schedule/event/20231117/
END:VEVENT
BEGIN:VEVENT
DTSTART;VALUE=DATE:20231113
DTEND;VALUE=DATE:20231114
DTSTAMP:20260424T200331
CREATED:20231004T075929Z
LAST-MODIFIED:20231004T075929Z
UID:9006-1699833600-1699919999@marunoku.com
SUMMARY:休み
DESCRIPTION:
URL:http://marunoku.com/schedule/event/20231113/
END:VEVENT
BEGIN:VEVENT
DTSTART;VALUE=DATE:20231112
DTEND;VALUE=DATE:20231113
DTSTAMP:20260424T200331
CREATED:20231004T075850Z
LAST-MODIFIED:20231004T075850Z
UID:9004-1699747200-1699833599@marunoku.com
SUMMARY:休み
DESCRIPTION:
URL:http://marunoku.com/schedule/event/20231112/
END:VEVENT
BEGIN:VEVENT
DTSTART;VALUE=DATE:20231111
DTEND;VALUE=DATE:20231112
DTSTAMP:20260424T200331
CREATED:20230914T113107Z
LAST-MODIFIED:20230914T113107Z
UID:8930-1699660800-1699747199@marunoku.com
SUMMARY:すずき一平　Acoustic Live
DESCRIPTION:すずき一平　Acoustic Live \n17:00 open / 17:30 start\n5500円（ワンドリンク付き）\n※全席自由 \nチケット　８月１８日発売開始　ローソンチケット（Lコード：12217）\nご予約・お問い合わせ\n公演事務局（リブ・アクティブ内）011-799-4460\nMail:info@live-active.jp
URL:http://marunoku.com/schedule/event/20231111/
END:VEVENT
BEGIN:VEVENT
DTSTART;VALUE=DATE:20231106
DTEND;VALUE=DATE:20231107
DTSTAMP:20260424T200331
CREATED:20231004T075802Z
LAST-MODIFIED:20231004T075802Z
UID:9002-1699228800-1699315199@marunoku.com
SUMMARY:休み
DESCRIPTION:
URL:http://marunoku.com/schedule/event/20231106/
END:VEVENT
BEGIN:VEVENT
DTSTART;VALUE=DATE:20231105
DTEND;VALUE=DATE:20231106
DTSTAMP:20260424T200331
CREATED:20230530T074028Z
LAST-MODIFIED:20230914T113620Z
UID:8617-1699142400-1699228799@marunoku.com
SUMMARY:小山卓治〈40th Anniversary Live〉
DESCRIPTION:小山卓治〈40th Anniversary Live〉 \n17:00 open / 17:30 start\n前売：4000円 / 当日：4500円（＋ドリンク代500円） \n〈チケット予約申込み方法〉\n件名欄に「小山卓治ライヴ予約希望」と明記の上 takuji@ribb-on.info まで \n　 【公演日】【お名前】【ご住所】【ONE会員番号】【予約枚数】【電話番号】 \nを明記してお申し込みください\n　・ONE会員以外の方は、一般予約と明記してください\n　・受信順に整理番号（ONEメンバー予約：A-● / 一般予約：B-●）及び詳細を記載した\n　　確認メールを返信させていただきます。\n　　※一部整理番号を発行しない公演もございます \n　　※1週間以内に発熱があったなど体調のすぐれない方は、ご来場をご遠慮ください\n　　※キャンセルの場合は、必ずご連絡をお願いします
URL:http://marunoku.com/schedule/event/20231105/
END:VEVENT
BEGIN:VEVENT
DTSTART;VALUE=DATE:20231104
DTEND;VALUE=DATE:20231105
DTSTAMP:20260424T200331
CREATED:20230530T074213Z
LAST-MODIFIED:20230914T120743Z
UID:8619-1699056000-1699142399@marunoku.com
SUMMARY:向日 葵(彩冷える) 『ひとりでできるもん N 』札幌編
DESCRIPTION:向日 葵(彩冷える)『ひとりでできるもん N 』札幌編  \n15:30 open / 16:00 start\n6000円（＋ドリンク代500円）\nチケット販売ページ\nhttps://tiget.net/events/256492 \n出演：向日 葵(彩冷える)\nGuest musician:ARAYA
URL:http://marunoku.com/schedule/event/20231104/
END:VEVENT
BEGIN:VEVENT
DTSTART;VALUE=DATE:20231103
DTEND;VALUE=DATE:20231104
DTSTAMP:20260424T200331
CREATED:20230914T121108Z
LAST-MODIFIED:20231028T050059Z
UID:8983-1698969600-1699055999@marunoku.com
SUMMARY:貸切
DESCRIPTION:
URL:http://marunoku.com/schedule/event/20231103/
END:VEVENT
BEGIN:VEVENT
DTSTART;VALUE=DATE:20231102
DTEND;VALUE=DATE:20231103
DTSTAMP:20260424T200331
CREATED:20230914T121040Z
LAST-MODIFIED:20230914T121040Z
UID:8981-1698883200-1698969599@marunoku.com
SUMMARY:貸切
DESCRIPTION:
URL:http://marunoku.com/schedule/event/20231102/
END:VEVENT
BEGIN:VEVENT
DTSTART;VALUE=DATE:20231030
DTEND;VALUE=DATE:20231031
DTSTAMP:20260424T200331
CREATED:20230914T105026Z
LAST-MODIFIED:20230914T105026Z
UID:8928-1698624000-1698710399@marunoku.com
SUMMARY:休み
DESCRIPTION:
URL:http://marunoku.com/schedule/event/20231030/
END:VEVENT
BEGIN:VEVENT
DTSTART;VALUE=DATE:20231029
DTEND;VALUE=DATE:20231030
DTSTAMP:20260424T200331
CREATED:20230619T075208Z
LAST-MODIFIED:20230914T104633Z
UID:8705-1698537600-1698623999@marunoku.com
SUMMARY:キキミミPRESENTS LIVE 2023 「ありがとうをつなげて」
DESCRIPTION:キキミミPRESENTS LIVE 2023\n「ありがとうをつなげて」 \n17:00 open / 17:30 start\n3500円（＋ドリンク代500円） \nご予約はキキミミ WEB CONTACT\nhttps://kikimiming.amebaownd.com/ \nまたは各アーティストまで。 \n出演：キキミミ、蝦名摩守俊＆鈴木裕\nいくもまり、平野翔一（ナイトdeライト）\n料金：¥3\,500-（ldrink別途）配信 ¥2\,000-予約：キキミミ WEB CONTACT\nまたは各アーティストまで。
URL:http://marunoku.com/schedule/event/20231029/
END:VEVENT
BEGIN:VEVENT
DTSTART;VALUE=DATE:20231028
DTEND;VALUE=DATE:20231029
DTSTAMP:20260424T200331
CREATED:20230104T092157Z
LAST-MODIFIED:20230914T103607Z
UID:8229-1698451200-1698537599@marunoku.com
SUMMARY:高橋研　CD発売記念ツアー「Free Bird」(with Ba.吉岡誠司 　Acc.佐藤史朗 )
DESCRIPTION:高橋研　CD発売記念ツアー「Free Bird」(with Ba.吉岡誠司 　Acc.佐藤史朗 ) \n17:30 open / 18:00 start\n予約：4000円 / 当日：4500円（＋ドリンク代500円） \n《チケット予約方法》\ninfo@fantasista-web.com に、\n必要事項(公演日、お名前、枚数、電話番号)を明記の上、お申し込みください。\n※折り返し確認メールを返信致します。
URL:http://marunoku.com/schedule/event/20231028/
END:VEVENT
BEGIN:VEVENT
DTSTART;VALUE=DATE:20231027
DTEND;VALUE=DATE:20231028
DTSTAMP:20260424T200331
CREATED:20230818T084928Z
LAST-MODIFIED:20231027T083403Z
UID:8848-1698364800-1698451199@marunoku.com
SUMMARY:しかけ　音のおもちゃ箱ライブ
DESCRIPTION:しかけ 音のおもちゃ箱ライブ \n19:30 open / 20:00 start\n2500円（＋ドリンク代500円）
URL:http://marunoku.com/schedule/event/20231027/
END:VEVENT
BEGIN:VEVENT
DTSTART;VALUE=DATE:20231025
DTEND;VALUE=DATE:20231026
DTSTAMP:20260424T200331
CREATED:20230914T104947Z
LAST-MODIFIED:20230914T104947Z
UID:8926-1698192000-1698278399@marunoku.com
SUMMARY:休み
DESCRIPTION:
URL:http://marunoku.com/schedule/event/20231025/
END:VEVENT
BEGIN:VEVENT
DTSTART;VALUE=DATE:20231024
DTEND;VALUE=DATE:20231025
DTSTAMP:20260424T200331
CREATED:20230914T104922Z
LAST-MODIFIED:20230914T104922Z
UID:8924-1698105600-1698191999@marunoku.com
SUMMARY:休み
DESCRIPTION:
URL:http://marunoku.com/schedule/event/20231024/
END:VEVENT
BEGIN:VEVENT
DTSTART;VALUE=DATE:20231022
DTEND;VALUE=DATE:20231023
DTSTAMP:20260424T200331
CREATED:20230315T092614Z
LAST-MODIFIED:20230914T103050Z
UID:8446-1697932800-1698019199@marunoku.com
SUMMARY:貸切
DESCRIPTION:
URL:http://marunoku.com/schedule/event/20231022/
END:VEVENT
BEGIN:VEVENT
DTSTART;VALUE=DATE:20231021
DTEND;VALUE=DATE:20231022
DTSTAMP:20260424T200331
CREATED:20230530T074446Z
LAST-MODIFIED:20231002T081832Z
UID:8623-1697846400-1697932799@marunoku.com
SUMMARY:生熊耕治×黒田倫弘ぶらり旅「黒生」
DESCRIPTION:生熊耕治×黒田倫弘ぶらり旅「黒生」 \n昼）アコースティックスタイル\n14:30 open / 15:00 start\n一般6500円 / 学生3000円（＋ドリンク代500円）\nhttps://tiget.net/events/263056 \n夜）ロックスタイル\n18:00 open / 18:30 start\n一般5500円 / 学生2500円（ドリンク代別）\nhttps://tiget.net/events/263058
URL:http://marunoku.com/schedule/event/20231021/
END:VEVENT
BEGIN:VEVENT
DTSTART;VALUE=DATE:20231016
DTEND;VALUE=DATE:20231017
DTSTAMP:20260424T200331
CREATED:20230914T104842Z
LAST-MODIFIED:20230914T104842Z
UID:8922-1697414400-1697500799@marunoku.com
SUMMARY:休み
DESCRIPTION:
URL:http://marunoku.com/schedule/event/20231016/
END:VEVENT
BEGIN:VEVENT
DTSTART;VALUE=DATE:20231015
DTEND;VALUE=DATE:20231016
DTSTAMP:20260424T200331
CREATED:20230104T092106Z
LAST-MODIFIED:20231003T091619Z
UID:8227-1697328000-1697414399@marunoku.com
SUMMARY:キワキワ！花電車シャンソンがゆく　蜂鳥あみ太＝４号 | ファイヤーヨーコ
DESCRIPTION:キワキワ！花電車シャンソンがゆく\n出演：蜂鳥あみ太＝４号、田村賢太郎、ファイヤーヨーコ \n17:30 open / 18:00 start\n3500円（＋ドリンク代500円）
URL:http://marunoku.com/schedule/event/20231015/
END:VEVENT
BEGIN:VEVENT
DTSTART;VALUE=DATE:20231014
DTEND;VALUE=DATE:20231015
DTSTAMP:20260424T200331
CREATED:20230619T075127Z
LAST-MODIFIED:20230914T102526Z
UID:8703-1697241600-1697327999@marunoku.com
SUMMARY:メロウデュ　「リアル打楽器世界紀行　vol.1」
DESCRIPTION:リアル打楽器世界紀行　vol.1 \n18:00 open / 18:30 start\n予約：4000円 / 当日：4500円（＋ドリンク代500円） \n予約フォーム：https://ws.formzu.net/dist/S42281824/ \n出演：Yagi-chang（メロウデュ）、メロウデュかおり、よっちゃん(Bass) \n問い合わせ：melowdeux_live@hotmail.com（メロウデュ事務局）\n011-623-0666（円山夜想）
URL:http://marunoku.com/schedule/event/20231014/
END:VEVENT
BEGIN:VEVENT
DTSTART;VALUE=DATE:20231013
DTEND;VALUE=DATE:20231014
DTSTAMP:20260424T200331
CREATED:20230818T084836Z
LAST-MODIFIED:20230914T101602Z
UID:8846-1697155200-1697241599@marunoku.com
SUMMARY:音とお酒と珋琲と [スリーマンライブ in 札幌]
DESCRIPTION:音とお酒と珋琲と\n[スリーマンライブ in 札幌］ \n19:00 open / 19:30 start\n3000円(＋ドリンク代500円) \n出演：大瀧ヌー/磯部和宏/オノマトペル
URL:http://marunoku.com/schedule/event/20231013/
END:VEVENT
BEGIN:VEVENT
DTSTART;VALUE=DATE:20231010
DTEND;VALUE=DATE:20231011
DTSTAMP:20260424T200331
CREATED:20230914T104804Z
LAST-MODIFIED:20230914T104804Z
UID:8920-1696896000-1696982399@marunoku.com
SUMMARY:休み
DESCRIPTION:
URL:http://marunoku.com/schedule/event/20231010/
END:VEVENT
BEGIN:VEVENT
DTSTART;VALUE=DATE:20231009
DTEND;VALUE=DATE:20231010
DTSTAMP:20260424T200331
CREATED:20230818T084748Z
LAST-MODIFIED:20230914T093237Z
UID:8844-1696809600-1696895999@marunoku.com
SUMMARY:「クラとアコ」の”オープンマイクvol.7″
DESCRIPTION:「クラとアコ」の”オープンマイクvol.7″ \n16:00 open / 16:30 start\n出演者：1500円（ワンドリンク付き）\n観覧者：500円＋ドリンク代500円 \n※ご予約は「クラとアコ」に直接お願いいたします。\nまたは「クラとアコ」のSNSへお問い合わせください。
URL:http://marunoku.com/schedule/event/20231009/
END:VEVENT
BEGIN:VEVENT
DTSTART;VALUE=DATE:20231008
DTEND;VALUE=DATE:20231009
DTSTAMP:20260424T200331
CREATED:20230418T094002Z
LAST-MODIFIED:20230914T093315Z
UID:8509-1696723200-1696809599@marunoku.com
SUMMARY:貸切
DESCRIPTION:
URL:http://marunoku.com/schedule/event/20231008/
END:VEVENT
BEGIN:VEVENT
DTSTART;VALUE=DATE:20231007
DTEND;VALUE=DATE:20231008
DTSTAMP:20260424T200331
CREATED:20230619T075047Z
LAST-MODIFIED:20230907T121009Z
UID:8701-1696636800-1696723199@marunoku.com
SUMMARY:斎藤誠40周年ライブ Vol.10　BIG LOVEハーモニー 2023
DESCRIPTION:斎藤誠40周年ライブ Vol.10　BIG LOVEハーモニー 2023 \n17:30 open / 18:00 start\n6000円（＋ドリンク代500円）\n※全席自由\n※整理番号あり\nチケット発売は9月9日10:00〜\n↓\nhttps://wess.jp/saito_m/ \n出演：\n斎藤誠(Vocal\,Guitar)、柳沢二三男(Guitar\,Chorus)、Tiger(Chorus) \nお問い合わせ：\nWESS info@wess.co.jp
URL:http://marunoku.com/schedule/event/20231007/
END:VEVENT
BEGIN:VEVENT
DTSTART;VALUE=DATE:20231006
DTEND;VALUE=DATE:20231007
DTSTAMP:20260424T200331
CREATED:20230818T084359Z
LAST-MODIFIED:20230829T080801Z
UID:8841-1696550400-1696636799@marunoku.com
SUMMARY:good music sapporo city 両A面　ヒラマミキオ | 中野ミホ
DESCRIPTION:Good music Sapporo city 両A面 \n18:30 open / 19:30 start\n4500円（＋ドリンク代500円） \nご予約は9月6日13:00より受付開始\nhttp://marunoku.com/schedule/contact/ \n出演：\nヒラマミキオ\n中野ミホ
URL:http://marunoku.com/schedule/event/20231006/
END:VEVENT
BEGIN:VEVENT
DTSTART;VALUE=DATE:20231005
DTEND;VALUE=DATE:20231006
DTSTAMP:20260424T200331
CREATED:20230315T092529Z
LAST-MODIFIED:20231005T054424Z
UID:8444-1696464000-1696550399@marunoku.com
SUMMARY:声の時間　拝郷メイコ | Tomomi | こばしひな | 辻正仁
DESCRIPTION:声の時間\n19:00 open / 19:30 start\n3000円（＋ドリンク代500円）\n\n出演：\n拝郷メイコ\nTomomi\nこばしひな\n辻正仁
URL:http://marunoku.com/schedule/event/20231005/
END:VEVENT
END:VCALENDAR